Workbook

Sheet resumo
B2: RECEITAS | E2: DESPESAS | H2: DIFERENÇA
B4: RECEITAS DE CUSTEIO | C4: =SUM(C6:C18)+0.3 -> 6061358.1 | E4: DESPESAS DE CUSTEIO | F4: =SUM(F6:F16) -> 5923495.9 | H4: =C4-F4 -> 137862.28
B6: RECEITAS SOCIAIS | C6: =D7+D8 -> 4371857.3 | E6: ADMINISTRATIVAS | F6: =SUM(G7:G11) -> 3932484.9 | H6: =C6-F6 -> 439372.39
B7: CONTRIBUIÇÕES SOCIAIS | D7: =Budget!AD9 -> 2606747.9 | E7: PESSOAL | G7: =Budget!AD48 -> 1666442.3
B8: RECEITAS DE SERVIÇOS DIVERSOS | D8: =Budget!AD13 -> 1765109.4 | E8: OPERACIONAIS | G8: =Budget!AD61+Budget!AD63+Budget!AD71+Budget!AD78+Budget!AD138 -> 1659570.7
E9: MANUTENÇÃO | G9: =Budget!AD142 -> 408607.32
B10: =D7+SUM(Budget!#REF!) -> #REF! | E10: IMPOSTOS E TAXAS | G10: =Budget!AD148 -> 49890.209
E11: ASSOCIAÇÕES | G11: =Budget!AD101 -> 147974.45
B13: ESCOLA DE VELA | C13: =Budget!AD22 -> 760982.26 | F13: =Budget!AD107 -> 488854.33 | H13: =C13-F13 -> 272127.94
B14: DIRETORIA DE VELA | C14: =Budget!AD34 -> 755600.36 | F14: =Budget!AD124 -> 1317860.2 | H14: =C14-F14 -> -562259.88
B15: DIRETORIA SOCIAL | C15: =Budget!AD41 -> 104638.66 | F15: =Budget!AD87 -> 184296.42 | H15: =C15-F15 -> -79657.752
B18: RECEITAS FINANCEIRAS | C18: =Budget!AD27 -> 68279.283
B21: REAJUSTE NA MENSALIDADE | C21: 0.045

Sheet Budget
B2: 1.06
B3: proposta 2024 - anual | C3: proposta mensal | D3: Realizado Janeiro | E3: % | F3: Realizado fevereiro | G3: % | H3: Realizado março | I3: % | J3: Realizado abril | K3: % | L3: Realizado maio | M3: % | N3: Realizado junho | O3: % | P3: Realizado julho | Q3: % | R3: Realizado agosto | S3: % | T3: Realizado setembro | U3: % | V3: Realizado outubro | W3: % | X3: Realizado novembro | Y3: % | Z3: Realizado dezembro | AA3: % | AB3: Acumulado ano - R$ | AC3: % | AD3: PROPOSTA 2025 | AE3: 1.045
A4: RECEITAS | B4: 5089266.6 | C4: =B4/12 -> 424105.55 | D4: =D6+D29 -> 439061.01 | E4: =D4/$B4 -> 0.086271963 | F4: =F6+F29 -> 437496.47 | G4: =F4/$B4 -> 0.085964542 | H4: =H6+H29 -> 460928.87 | I4: =H4/$B4 -> 0.09056882 | J4: =J6+J29 -> 503562.84 | K4: =J4/$B4 -> 0.098946054 | L4: =L6+L29 -> 450789.69 | M4: =L4/$B4 -> 0.088576553 | N4: =N6+N29 -> 498008.97 | O4: =N4/$B4 -> 0.097854763 | P4: =P6+P29 -> 436709.77 | Q4: =P4/$B4 -> 0.085809962 | R4: =R6+R29 -> 468962.63 | S4: =R4/$B4 -> 0.09214739 | T4: =T6+T29 -> 426971.56 | U4: =T4/$B4 -> 0.083896481 | V4: =V6+V29 -> 441165.22 | W4: =V4/$B4 -> 0.086685421 | X4: =X6+X29 -> 416267.5 | Y4: =X4/$B4 -> 0.081793221 | Z4: =Z6+Z29 -> 456031.48 | AA4: =Z4/$B4 -> 0.089606523 | AB4: =AB6+AB29 -> 5417516 | AC4: =AB4/$B4 -> 1.0644984 | AD4: =AD6+AD29 -> 6367772.3
A6: RECEITAS DE CUSTEIO | B6: 4869266.6 | C6: =B6/12 -> 405772.21 | D6: =D8+D22+D27+D34+D41 -> 405184.42 | E6: =D6/$B6 -> 0.083212619 | F6: =F8+F22+F27+F34+F41 -> 395530.38 | G6: =F6/$B6 -> 0.081229971 | H6: =H8+H22+H27+H34+H41 -> 426467.08 | I6: =H6/$B6 -> 0.087583432 | J6: =J8+J22+J27+J34+J41 -> 439643.01 | K6: =J6/$B6 -> 0.09028937 | L6: =L8+L22+L27+L34+L41 -> 420318.1 | M6: =L6/$B6 -> 0.086320618 | N6: =N8+N22+N27+N34+N41 -> 494535.38 | O6: =N6/$B6 -> 0.1015626 | P6: =P8+P22+P27+P34+P41 -> 406097.18 | Q6: =P6/$B6 -> 0.083400072 | R6: =R8+R22+R27+R34+R41 -> 387805.04 | S6: =R6/$B6 -> 0.07964342 | T6: =T8+T22+T27+T34+T41 -> 386444.97 | U6: =T6/$B6 -> 0.079364102 | V6: =V8+V22+V27+V34+V41 -> 401943.06 | W6: =V6/$B6 -> 0.08254694 | X6: =X8+X22+X27+X34+X41 -> 410341.91 | Y6: =X6/$B6 -> 0.084271811 | Z6: =Z8+Z22+Z27+Z34+Z41 -> 453565.89 | AA6: =Z6/$B6 -> 0.093148709 | AB6: =AB8+AB22+AB27+AB34+AB41 -> 5027876.4 | AC6: =AB6/$B6 -> 1.0325737 | AD6: =AD8+AD22+AD27+AD34+AD41 -> 6061357.8
A8: CONTRIBUIÇÕES SOCIAIS | B8: 3693483.3 | C8: =B8/12 -> 307790.27 | D8: =D9+D13 -> 314307.28 | E8: =D8/$B8 -> 0.085097796 | F8: =F9+F13 -> 307215.05 | G8: =F8/$B8 -> 0.083177594 | H8: =H9+H13 -> 322475.25 | I8: =H8/$B8 -> 0.087309249 | J8: =J9+J13 -> 328932.3 | K8: =J8/$B8 -> 0.089057477 | L8: =L9+L13 -> 318949.18 | M8: =L8/$B8 -> 0.086354576 | N8: =N9+N13 -> 310107.28 | O8: =N8/$B8 -> 0.083960657 | P8: =P9+P13 -> 302662.06 | Q8: =P8/$B8 -> 0.081944885 | R8: =R9+R13 -> 319680.87 | S8: =R8/$B8 -> 0.086552679 | T8: =T9+T13 -> 311720.53 | U8: =T8/$B8 -> 0.084397439 | V8: =V9+V13 -> 316769.54 | W8: =V8/$B8 -> 0.085764444 | X8: =X9+X13 -> 316177.24 | Y8: =X8/$B8 -> 0.085604082 | Z8: =Z9+Z13 -> 328808.39 | AA8: =Z8/$B8 -> 0.089023929 | AB8: =AB9+AB13 -> 3797805 | AC8: =AB8/$B8 -> 1.0282448 | AD8: =AD9+AD13 -> 4371857.3
A9: RECEITAS SOCIAIS | B9: 2522388 | C9: =B9/12 -> 210199 | D9: =SUM(D10:D12) -> 207928.7 | E9: =D9/$B9 -> 0.082433275 | F9: =SUM(F10:F12) -> 206668.88 | G9: =F9/$B9 -> 0.081933818 | H9: =SUM(H10:H12) -> 207847.82 | I9: =H9/$B9 -> 0.082401208 | J9: =SUM(J10:J12) -> 208719.61 | K9: =J9/$B9 -> 0.08274683 | L9: =SUM(L10:L12) -> 204605.11 | M9: =L9/$B9 -> 0.081115637 | N9: =SUM(N10:N12) -> 207287.35 | O9: =N9/$B9 -> 0.082179011 | P9: =SUM(P10:P12) -> 206929.71 | Q9: =P9/$B9 -> 0.082037224 | R9: =SUM(R10:R12) -> 207823.78 | S9: =R9/$B9 -> 0.082391679 | T9: =SUM(T10:T12) -> 208270.83 | U9: =T9/$B9 -> 0.08256891 | V9: =SUM(V10:V12) -> 207376.75 | W9: =V9/$B9 -> 0.082214451 | X9: =SUM(X10:X12) -> 208717.86 | Y9: =X9/$B9 -> 0.082746137 | Z9: =SUM(Z10:Z12) -> 206654.43 | AA9: =Z9/$B9 -> 0.08192809 | AB9: =SUM(AB10:AB12) -> 2488830.8 | AC9: =AB9/$B9 -> 0.98669627 | AD9: =SUM(AD10:AD12) -> 2606747.9
A10: Mensalidade de Sócios | B10: 2557838.4 | C10: =B10/12 -> 213153.2 | D10: 211689.15 | E10: =D10/$B10 -> 0.082760956 | F10: 211341.6 | G10: =F10/$B10 -> 0.08262508 | H10: 210651.94 | I10: =H10/$B10 -> 0.082355454 | J10: 211579.38 | K10: =J10/$B10 -> 0.082718041 | L10: =212433.58-4755.75 -> 207677.83 | M10: =L10/$B10 -> 0.08119271 | N10: 210531.28 | O10: =N10/$B10 -> 0.082308281 | P10: 210150.81 | Q10: =P10/$B10 -> 0.082159534 | R10: 211577.53 | S10: =R10/$B10 -> 0.082717318 | T10: 212053.11 | U10: =T10/$B10 -> 0.082903248 | V10: 211101.96 | W10: =V10/$B10 -> 0.082531391 | X10: 212528.68 | Y10: =X10/$B10 -> 0.083089175 | Z10: 210587.18 | AA10: =Z10/$B10 -> 0.082330135 | AB10: =D10+F10+H10+J10+L10+N10+P10+R10+T10+V10+X10+Z10 -> 2531470.5 | AC10: =AB10/$B10 -> 0.98969132 | AD10: =Mensalidades!E12+Mensalidades!E20 -> 2653860.6
A11: Mensalidade de Sócio Esportista | B11: 125553.12 | C11: =B11/12 -> 10462.76 | D11: 9511.6 | E11: =D11/$B11 -> 0.075757576 | F11: 8518.91 | G11: =F11/$B11 -> 0.067851042 | H11: 10462.76 | I11: =H11/$B11 -> 0.083333333 | J11: 10462.76 | K11: =J11/$B11 -> 0.083333333 | L11: 9987.18 | M11: =L11/$B11 -> 0.079545455 | N11: 9987.18 | O11: =N11/$B11 -> 0.079545455 | P11: 9987.18 | Q11: =P11/$B11 -> 0.079545455 | R11: 9511.6 | S11: =R11/$B11 -> 0.075757576 | T11: 9511.6 | U11: =T11/$B11 -> 0.075757576 | V11: 9511.6 | W11: =V11/$B11 -> 0.075757576 | X11: 9511.6 | Y11: =X11/$B11 -> 0.075757576 | Z11: 9257.96 | AA11: =Z11/$B11 -> 0.073737395 | AB11: =D11+F11+H11+J11+L11+N11+P11+R11+T11+V11+X11+Z11 -> 116221.93 | AC11: =AB11/$B11 -> 0.92567935 | AD11: =Mensalidades!E14 -> 119275.46
A12: FUNDO PRÓ-VELA | B12: -161003.49 | C12: =B12/12 -> -13416.958 | D12: =-(SUM(D10:D11))*0.06 -> -13272.045 | E12: =D12/$B12 -> 0.082433275 | F12: =-(SUM(F10:F11))*0.06 -> -13191.631 | G12: =F12/$B12 -> 0.081933818 | H12: =-(SUM(H10:H11))*0.06 -> -13266.882 | I12: =H12/$B12 -> 0.082401208 | J12: =-(SUM(J10:J11))*0.06 -> -13322.528 | K12: =J12/$B12 -> 0.08274683 | L12: =-(SUM(L10:L11))*0.06 -> -13059.901 | M12: =L12/$B12 -> 0.081115637 | N12: =-(SUM(N10:N11))*0.06 -> -13231.108 | O12: =N12/$B12 -> 0.082179011 | P12: =-(SUM(P10:P11))*0.06 -> -13208.279 | Q12: =P12/$B12 -> 0.082037224 | R12: =-(SUM(R10:R11))*0.06 -> -13265.348 | S12: =R12/$B12 -> 0.082391679 | T12: =-(SUM(T10:T11))*0.06 -> -13293.883 | U12: =T12/$B12 -> 0.08256891 | V12: =-(SUM(V10:V11))*0.06 -> -13236.814 | W12: =V12/$B12 -> 0.082214451 | X12: =-(SUM(X10:X11))*0.06 -> -13322.417 | Y12: =X12/$B12 -> 0.082746137 | Z12: =-(SUM(Z10:Z11))*0.06 -> -13190.708 | AA12: =Z12/$B12 -> 0.08192809 | AB12: =D12+F12+H12+J12+L12+N12+P12+R12+T12+V12+X12+Z12 -> -158861.54 | AC12: =AB12/$B12 -> 0.98669627 | AD12: =-(SUM(AD10:AD11))*0.06 -> -166388.16
A13: RECEITAS DE SERVIÇOS DIVERSOS | B13: 1171095.2 | C13: =B13/12 -> 97591.27 | D13: =SUM(D14:D21) -> 106378.58 | E13: =D13/$B13 -> 0.09083683 | F13: =SUM(F14:F21) -> 100546.17 | G13: =F13/$B13 -> 0.085856527 | H13: =SUM(H14:H21) -> 114627.43 | I13: =H13/$B13 -> 0.097880536 | J13: =SUM(J14:J21) -> 120212.69 | K13: =J13/$B13 -> 0.1026498 | L13: =SUM(L14:L21) -> 114344.07 | M13: =L13/$B13 -> 0.097638574 | N13: =SUM(N14:N21) -> 102819.93 | O13: =N13/$B13 -> 0.087798094 | P13: =SUM(P14:P21) -> 95732.35 | Q13: =P13/$B13 -> 0.081745998 | R13: =SUM(R14:R21) -> 111857.09 | S13: =R13/$B13 -> 0.095514938 | T13: =SUM(T14:T21) -> 103449.7 | U13: =T13/$B13 -> 0.088335855 | V13: =SUM(V14:V21) -> 109392.79 | W13: =V13/$B13 -> 0.093410669 | X13: =SUM(X14:X21) -> 107459.38 | Y13: =X13/$B13 -> 0.091759727 | Z13: =SUM(Z14:Z21) -> 122153.96 | AA13: =Z13/$B13 -> 0.10430745 | AB13: =SUM(AB14:AB21) -> 1308974.1 | AC13: =AB13/$B13 -> 1.117735 | AD13: =SUM(AD14:AD21) -> 1765109.4
A14: Estadia de Barcos | B14: 1020446.4 | C14: =B14/12 -> 85037.203 | D14: 87573.05 | E14: =D14/$B14 -> 0.08581837 | F14: 89875.86 | G14: =F14/$B14 -> 0.08807504 | H14: 90287.19 | I14: =H14/$B14 -> 0.088478128 | J14: 90087.69 | K14: =J14/$B14 -> 0.088282625 | L14: 90075.25 | M14: =L14/$B14 -> 0.088270434 | N14: 87842.18 | O14: =N14/$B14 -> 0.086082108 | P14: 91176.35 | Q14: =P14/$B14 -> 0.089349472 | R14: 90415.23 | S14: =R14/$B14 -> 0.088603602 | T14: 91504.7 | U14: =T14/$B14 -> 0.089671243 | V14: 91982.32 | W14: =V14/$B14 -> 0.090139293 | X14: 93223.81 | Y14: =X14/$B14 -> 0.091355907 | Z14: =90914.04-2137.21 -> 88776.83 | AA14: =Z14/$B14 -> 0.086998031 | AB14: =D14+F14+H14+J14+L14+N14+P14+R14+T14+V14+X14+Z14 -> 1082820.5 | AC14: =AB14/$B14 -> 1.0611243 | AD14: =((AB14/9)*$AE$3)*12 -> 1508729.8
A15: Taxa de Armário (Vestiários) | B15: 19165.637 | C15: =B15/12 -> 1597.1364 | D15: 1517 | E15: =D15/$B15 -> 0.079152077 | F15: 1517 | G15: =F15/$B15 -> 0.079152077 | H15: 1480 | I15: =H15/$B15 -> 0.077221538 | J15: 1517 | K15: =J15/$B15 -> 0.079152077 | L15: 1591 | M15: =L15/$B15 -> 0.083013154 | N15: 1628 | O15: =N15/$B15 -> 0.084943692 | P15: 1628 | Q15: =P15/$B15 -> 0.084943692 | R15: 1628 | S15: =R15/$B15 -> 0.084943692 | T15: 1665 | U15: =T15/$B15 -> 0.08687423 | V15: 1628 | W15: =V15/$B15 -> 0.084943692 | X15: 1591 | Y15: =X15/$B15 -> 0.083013154 | Z15: 1628 | AA15: =Z15/$B15 -> 0.084943692 | AB15: =D15+F15+H15+J15+L15+N15+P15+R15+T15+V15+X15+Z15 -> 19018 | AC15: =AB15/$B15 -> 0.99229677 | AD15: =((AB15/9)*$AE$3)*12 -> 26498.413
A16: Taxa de Armário (Hangar) | B16: 15566.943 | C16: =B16/12 -> 1297.2452 | D16: 1344 | E16: =D16/$B16 -> 0.086336799 | F16: 1344 | G16: =F16/$B16 -> 0.086336799 | H16: 1288 | I16: =H16/$B16 -> 0.082739432 | J16: 1288 | K16: =J16/$B16 -> 0.082739432 | L16: 1400 | M16: =L16/$B16 -> 0.089934165 | N16: 1456 | O16: =N16/$B16 -> 0.093531532 | P16: 1456 | Q16: =P16/$B16 -> 0.093531532 | R16: 1456 | S16: =R16/$B16 -> 0.093531532 | T16: 1456 | U16: =T16/$B16 -> 0.093531532 | V16: 1456 | W16: =V16/$B16 -> 0.093531532 | X16: 1400 | Y16: =X16/$B16 -> 0.089934165 | Z16: 1400 | AA16: =Z16/$B16 -> 0.089934165 | AB16: =D16+F16+H16+J16+L16+N16+P16+R16+T16+V16+X16+Z16 -> 16744 | AC16: =AB16/$B16 -> 1.0756126 | AD16: =((AB16/9)*$AE$3)*12 -> 23329.973
A17: Taxa de Bolão | B17: 3339 | C17: =B17/12 -> 278.25 | E17: =D17/$B17 -> 0 | G17: =F17/$B17 -> 0 | H17: 500 | I17: =H17/$B17 -> 0.14974543 | J17: 2250 | K17: =J17/$B17 -> 0.67385445 | M17: =L17/$B17 -> 0 | O17: =N17/$B17 -> 0 | Q17: =P17/$B17 -> 0 | S17: =R17/$B17 -> 0 | U17: =T17/$B17 -> 0 | V17: 2115 | W17: =V17/$B17 -> 0.63342318 | Y17: =X17/$B17 -> 0 | AA17: =Z17/$B17 -> 0 | AB17: =D17+F17+H17+J17+L17+N17+P17+R17+T17+V17+X17+Z17 -> 4865 | AC17: =AB17/$B17 -> 1.4570231 | AD17: =((AB17)*$AE$3) -> 5083.925
A18: Concessão Restaurante | B18: 97000 | C18: =B18/12 -> 8083.3333 | D18: 14596.53 | E18: =D18/$B18 -> 0.15047969 | F18: 6613.31 | G18: =F18/$B18 -> 0.068178454 | H18: 20014.24 | I18: =H18/$B18 -> 0.20633237 | K18: =J18/$B18 -> 0 | L18: 20349.82 | M18: =L18/$B18 -> 0.20979196 | N18: 10238.75 | O18: =N18/$B18 -> 0.10555412 | Q18: =P18/$B18 -> 0 | R18: 17153.86 | S18: =R18/$B18 -> 0.17684392 | U18: =T18/$B18 -> 0 | V18: 10423.47 | W18: =V18/$B18 -> 0.10745845 | X18: 10416.57 | Y18: =X18/$B18 -> 0.10738732 | Z18: 10123.13 | AA18: =Z18/$B18 -> 0.10436216 | AB18: =D18+F18+H18+J18+L18+N18+P18+R18+T18+V18+X18+Z18 -> 119929.68 | AC18: =AB18/$B18 -> 1.2363885 | AD18: =((AB18/9)*$AE$3)*12 -> 167102.02
A19: Patrocinios | C19: =B19/12 -> 0 | J19: 23000 | T19: 7000 | Z19: =1610+16500 -> 18110 | AB19: =D19+F19+H19+J19+L19+N19+P19+R19+T19+V19+X19+Z19 -> 48110 | AD19: 10000
A20: uniformes e acessórios | B20: 961.95 | C20: =B20/12 -> 80.1625 | E20: =D20/$B20 -> 0 | G20: =F20/$B20 -> 0 | I20: =H20/$B20 -> 0 | K20: =J20/$B20 -> 0 | M20: =L20/$B20 -> 0 | N20: 90 | O20: =N20/$B20 -> 0.093559956 | Q20: =P20/$B20 -> 0 | R20: 80 | S20: =R20/$B20 -> 0.083164406 | T20: 30 | U20: =T20/$B20 -> 0.031186652 | V20: 270 | W20: =V20/$B20 -> 0.28067987 | Y20: =X20/$B20 -> 0 | AA20: =Z20/$B20 -> 0 | AB20: =D20+F20+H20+J20+L20+N20+P20+R20+T20+V20+X20+Z20 -> 470 | AC20: =AB20/$B20 -> 0.48859088 | AD20: =((AB20/9)*$AE$3)*12 -> 654.86667
A21: Convites Sociais + (Parceiros) | B21: 14615.28 | C21: =B21/12 -> 1217.94 | D21: 1348 | E21: =D21/$B21 -> 0.092232239 | F21: 1196 | G21: =F21/$B21 -> 0.081832165 | H21: 1058 | I21: =H21/$B21 -> 0.072389992 | J21: 2070 | K21: =J21/$B21 -> 0.14163259 | L21: 928 | M21: =L21/$B21 -> 0.063495191 | N21: 1565 | O21: =N21/$B21 -> 0.10707971 | P21: 1472 | Q21: =P21/$B21 -> 0.10071651 | R21: 1124 | S21: =R21/$B21 -> 0.076905814 | T21: 1794 | U21: =T21/$B21 -> 0.12274825 | V21: 1518 | W21: =V21/$B21 -> 0.1038639 | X21: 828 | Y21: =X21/$B21 -> 0.056653037 | Z21: 2116 | AA21: =Z21/$B21 -> 0.14477998 | AB21: =D21+F21+H21+J21+L21+N21+P21+R21+T21+V21+X21+Z21 -> 17017 | AC21: =AB21/$B21 -> 1.1643294 | AD21: =((AB21/9)*$AE$3)*12 -> 23710.353
A22: RECEITAS CURSO DE VELA | B22: 589000 | C22: =B22/12 -> 49083.333 | D22: =SUM(D23:D26) -> 44395.1 | E22: =D22/$B22 -> 0.075373684 | F22: =SUM(F23:F26) -> 29666.4 | G22: =F22/$B22 -> 0.050367402 | H22: =SUM(H23:H26) -> 55665 | I22: =H22/$B22 -> 0.09450764 | J22: =SUM(J23:J26) -> 39534.12 | K22: =J22/$B22 -> 0.067120747 | L22: =SUM(L23:L26) -> 36430.93 | M22: =L22/$B22 -> 0.061852173 | N22: =SUM(N23:N26) -> 41765.12 | O22: =N22/$B22 -> 0.070908523 | P22: =SUM(P23:P26) -> 48136.66 | Q22: =P22/$B22 -> 0.081726078 | R22: =SUM(R23:R26) -> 37117.88 | S22: =R22/$B22 -> 0.063018472 | T22: =SUM(T23:T26) -> 41668 | U22: =T22/$B22 -> 0.070743633 | V22: =SUM(V23:V26) -> 43796 | W22: =V22/$B22 -> 0.074356537 | X22: =SUM(X23:X26) -> 57157.5 | Y22: =X22/$B22 -> 0.097041596 | Z22: =SUM(Z23:Z26) -> 70826.81 | AA22: =Z22/$B22 -> 0.12024925 | AB22: =SUM(AB23:AB26) -> 546159.52 | AC22: =AB22/$B22 -> 0.92726574 | AD22: =SUM(AD23:AD26) -> 760982.26
A23: curso de vela | B23: 244000 | C23: =B23/12 -> 20333.333 | E23: =D23/$B23 -> 0 | F23: =19204+4302 -> 23506 | G23: =F23/$B23 -> 0.096336066 | H23: =25746.5+16416+6041.5 -> 48204 | I23: =H23/$B23 -> 0.19755738 | J23: =28052.12+2736+6815 -> 37603.12 | K23: =J23/$B23 -> 0.15411115 | L23: =25335.68+7161.25 -> 32496.93 | M23: =L23/$B23 -> 0.13318414 | N23: =24447.87+6621.25 -> 31069.12 | O23: =N23/$B23 -> 0.12733246 | P23: =3106.66 -> 3106.66 | Q23: =P23/$B23 -> 0.012732213 | R23: =25349.88+9860 -> 35209.88 | S23: =R23/$B23 -> 0.14430279 | T23: =30512+10130 -> 40642 | U23: =T23/$B23 -> 0.16656557 | V23: =31782+9670 -> 41452 | W23: =V23/$B23 -> 0.16988525 | X23: =30871.5+9080 -> 39951.5 | Y23: =X23/$B23 -> 0.16373566 | Z23: =30320+8540 -> 38860 | AA23: =Z23/$B23 -> 0.1592623 | AB23: =D23+F23+H23+J23+L23+N23+P23+R23+T23+V23+X23+Z23 -> 372101.21 | AC23: =AB23/$B23 -> 1.525005 | AD23: =((AB23/9)*$AE$3)*12 -> 518461.02
A24: curso de vela adulto/arrais | B24: 90000 | C24: =B24/12 -> 7500 | E24: =D24/$B24 -> 0 | F24: 1450 | G24: =F24/$B24 -> 0.016111111 | H24: 3120 | I24: =H24/$B24 -> 0.034666667 | K24: =J24/$B24 -> 0 | L24: 1480 | M24: =L24/$B24 -> 0.016444444 | N24: =2070 -> 2070 | O24: =N24/$B24 -> 0.023 | Q24: =P24/$B24 -> 0 | S24: =R24/$B24 -> 0 | U24: =T24/$B24 -> 0 | W24: =V24/$B24 -> 0 | Y24: =X24/$B24 -> 0 | AA24: =Z24/$B24 -> 0 | AB24: =D24+F24+H24+J24+L24+N24+P24+R24+T24+V24+X24+Z24 -> 8120 | AC24: =AB24/$B24 -> 0.090222222 | AD24: =((AB24/9)*$AE$3)*12 -> 11313.867
A25: aluguel de barcos para a escola de vela / eventos nauticos | B25: 51000 | C25: =B25/12 -> 4250 | D25: 2523.1 | E25: =D25/$B25 -> 0.049472549 | F25: 4710.4 | G25: =F25/$B25 -> 0.092360784 | H25: 4341 | I25: =H25/$B25 -> 0.085117647 | J25: 1931 | K25: =J25/$B25 -> 0.037862745 | L25: 2454 | M25: =L25/$B25 -> 0.048117647 | N25: 1296 | O25: =N25/$B25 -> 0.025411765 | P25: 2414 | Q25: =P25/$B25 -> 0.047333333 | R25: 1908 | S25: =R25/$B25 -> 0.037411765 | T25: 1026 | U25: =T25/$B25 -> 0.020117647 | V25: 2344 | W25: =V25/$B25 -> 0.045960784 | X25: 1426 | Y25: =X25/$B25 -> 0.027960784 | Z25: 1473.8 | AA25: =Z25/$B25 -> 0.028898039 | AB25: =D25+F25+H25+J25+L25+N25+P25+R25+T25+V25+X25+Z25 -> 27847.3 | AC25: =AB25/$B25 -> 0.54602549 | AD25: =((AB25/9)*$AE$3)*12 -> 38800.571
A26: acampamento | B26: 204000 | C26: =B26/12 -> 17000 | D26: 41872 | E26: =D26/$B26 -> 0.2052549 | G26: =F26/$B26 -> 0 | I26: =H26/$B26 -> 0 | K26: =J26/$B26 -> 0 | M26: =L26/$B26 -> 0 | N26: 7330 | O26: =N26/$B26 -> 0.035931373 | P26: 42616 | Q26: =P26/$B26 -> 0.20890196 | S26: =R26/$B26 -> 0 | U26: =T26/$B26 -> 0 | W26: =V26/$B26 -> 0 | X26: 15780 | Y26: =X26/$B26 -> 0.077352941 | Z26: 30493.01 | AA26: =Z26/$B26 -> 0.14947554 | AB26: =D26+F26+H26+J26+L26+N26+P26+R26+T26+V26+X26+Z26 -> 138091.01 | AC26: =AB26/$B26 -> 0.67691672 | AD26: =((AB26/9)*$AE$3)*12 -> 192406.81
A27: RECEITAS FINANCEIRAS | B27: 38000 | C27: =B27/12 -> 3166.6667 | D27: =D28 -> 2572.04 | E27: =D27/$B27 -> 0.067685263 | F27: =F28 -> 1763.92 | G27: =F27/$B27 -> 0.046418947 | H27: =H28 -> 3345.83 | I27: =H27/$B27 -> 0.088048158 | J27: =J28 -> 3088.84 | K27: =J27/$B27 -> 0.081285263 | L27: =L28 -> 2878.99 | M27: =L27/$B27 -> 0.075762895 | N27: =N28 -> 3356.98 | O27: =N27/$B27 -> 0.088341579 | P27: =P28 -> 5359.46 | Q27: =P27/$B27 -> 0.14103842 | R27: =R28 -> 4212.29 | S27: =R27/$B27 -> 0.11084974 | T27: =T28 -> 5321.44 | U27: =T27/$B27 -> 0.14003789 | V27: =V28 -> 6054.02 | W27: =V27/$B27 -> 0.15931632 | X27: =X28 -> 5438.17 | Y27: =X27/$B27 -> 0.14310974 | Z27: =Z28 -> 5612.29 | AA27: =Z27/$B27 -> 0.14769184 | AB27: =AB28 -> 49004.27 | AC27: =AB27/$B27 -> 1.2895861 | AD27: =AD28 -> 68279.283
A28: Receitas Financeiras | B28: 38000 | C28: =B28/12 -> 3166.6667 | D28: 2572.04 | E28: =D28/$B28 -> 0.067685263 | F28: 1763.92 | G28: =F28/$B28 -> 0.046418947 | H28: 3345.83 | I28: =H28/$B28 -> 0.088048158 | J28: 3088.84 | K28: =J28/$B28 -> 0.081285263 | L28: =1915.65+1346.45-383.11 -> 2878.99 | M28: =L28/$B28 -> 0.075762895 | N28: 3356.98 | O28: =N28/$B28 -> 0.088341579 | P28: 5359.46 | Q28: =P28/$B28 -> 0.14103842 | R28: 4212.29 | S28: =R28/$B28 -> 0.11084974 | T28: 5321.44 | U28: =T28/$B28 -> 0.14003789 | V28: 6054.02 | W28: =V28/$B28 -> 0.15931632 | X28: 5438.17 | Y28: =X28/$B28 -> 0.14310974 | Z28: 5612.29 | AA28: =Z28/$B28 -> 0.14769184 | AB28: =D28+F28+H28+J28+L28+N28+P28+R28+T28+V28+X28+Z28 -> 49004.27 | AC28: =AB28/$B28 -> 1.2895861 | AD28: =((AB28/9)*$AE$3)*12 -> 68279.283
A29: RECEITAS EVENTUAIS | B29: 220000 | C29: =B29/12 -> 18333.333 | D29: =SUM(D30:D33) -> 33876.59 | E29: =D29/$B29 -> 0.1539845 | F29: =SUM(F30:F33) -> 41966.09 | G29: =F29/$B29 -> 0.19075495 | H29: =SUM(H30:H33) -> 34461.79 | I29: =H29/$B29 -> 0.1566445 | J29: =SUM(J30:J33) -> 63919.83 | K29: =J29/$B29 -> 0.29054468 | L29: =SUM(L30:L33) -> 30471.59 | M29: =L29/$B29 -> 0.13850723 | N29: =SUM(N30:N33) -> 3473.59 | O29: =N29/$B29 -> 0.015789045 | P29: =SUM(P30:P33) -> 30612.59 | Q29: =P29/$B29 -> 0.13914814 | R29: =SUM(R30:R33) -> 81157.59 | S29: =R29/$B29 -> 0.36889814 | T29: =SUM(T30:T33) -> 40526.59 | U29: =T29/$B29 -> 0.18421177 | V29: =SUM(V30:V33) -> 39222.16 | W29: =V29/$B29 -> 0.17828255 | X29: =SUM(X30:X33) -> 5925.59 | Y29: =X29/$B29 -> 0.0269345 | Z29: =SUM(Z30:Z33) -> 2465.59 | AA29: =Z29/$B29 -> 0.011207227 | AB29: =SUM(AB30:AB33) -> 389639.59 | AC29: =AB29/$B29 -> 1.771089 | AD29: =SUM(AD30:AD33) -> 306414.5
A30: Tx transferência | B30: 140000 | C30: =B30/12 -> 11666.667 | D30: 20000 | E30: =D30/$B30 -> 0.14285714 | F30: 30000 | G30: =F30/$B30 -> 0.21428571 | H30: 20000 | I30: =H30/$B30 -> 0.14285714 | J30: 40000 | K30: =J30/$B30 -> 0.28571429 | L30: 20000 | M30: =L30/$B30 -> 0.14285714 | O30: =N30/$B30 -> 0 | P30: 20000 | Q30: =P30/$B30 -> 0.14285714 | R30: 60000 | S30: =R30/$B30 -> 0.42857143 | T30: 20000 | U30: =T30/$B30 -> 0.14285714 | V30: 20000 | W30: =V30/$B30 -> 0.14285714 | Y30: =X30/$B30 -> 0 | AA30: =Z30/$B30 -> 0 | AB30: =D30+F30+H30+J30+L30+N30+P30+R30+T30+V30+X30+Z30 -> 250000 | AC30: =AB30/$B30 -> 1.7857143 | AD30: 140000
A31: título | B31: 50000 | C31: =B31/12 -> 4166.6667 | E31: =D31/$B31 -> 0 | F31: 2500 | G31: =F31/$B31 -> 0.05 | H31: 10000 | I31: =H31/$B31 -> 0.2 | J31: 5000 | K31: =J31/$B31 -> 0.1 | L31: 5000 | M31: =L31/$B31 -> 0.1 | O31: =N31/$B31 -> 0 | P31: 5000 | Q31: =P31/$B31 -> 0.1 | R31: 15000 | S31: =R31/$B31 -> 0.3 | T31: 5000 | U31: =T31/$B31 -> 0.1 | V31: 5000 | W31: =V31/$B31 -> 0.1 | Y31: =X31/$B31 -> 0 | AA31: =Z31/$B31 -> 0 | AB31: =D31+F31+H31+J31+L31+N31+P31+R31+T31+V31+X31+Z31 -> 52500 | AC31: =AB31/$B31 -> 1.05 | AD31: 35000
A32: aluguel sede | B32: 30000 | C32: =B32/12 -> 2500 | D32: =6717+7159.59 -> 13876.59 | E32: =D32/$B32 -> 0.462553 | F32: =9206.5+259.59 -> 9466.09 | G32: =F32/$B32 -> 0.31553633 | H32: =4102.2+359.59 -> 4461.79 | I32: =H32/$B32 -> 0.14872633 | J32: =8660.12+10259.71 -> 18919.83 | K32: =J32/$B32 -> 0.630661 | L32: =4772+699.59 -> 5471.59 | M32: =L32/$B32 -> 0.18238633 | N32: =3214+259.59 -> 3473.59 | O32: =N32/$B32 -> 0.11578633 | P32: =2553+259.59 -> 2812.59 | Q32: =P32/$B32 -> 0.093753 | R32: =3758+2399.59 -> 6157.59 | S32: =R32/$B32 -> 0.205253 | T32: =267+259.59 -> 526.59 | U32: =T32/$B32 -> 0.017553 | V32: 14222.16 | W32: =V32/$B32 -> 0.474072 | X32: =4676+609.59 -> 5285.59 | Y32: =X32/$B32 -> 0.17618633 | Z32: =2206+259.59 -> 2465.59 | AA32: =Z32/$B32 -> 0.082186333 | AB32: =D32+F32+H32+J32+L32+N32+P32+R32+T32+V32+X32+Z32 -> 87139.59 | AC32: =AB32/$B32 -> 2.904653 | AD32: =((AB32/9)*$AE$3)*12 -> 121414.5
A33: venda de imobilizado / doações/ receitas diversas | C33: =B33/12 -> 0 | P33: 2800 | T33: 15000 | X33: 640 | AD33: 10000
A34: RECEITAS DIRETORIA DE VELA | B34: 443655.68 | C34: =B34/12 -> 36971.307 | D34: =SUM(D35:D40) -> 43910 | E34: =D34/$B34 -> 0.098973149 | F34: =SUM(F35:F40) -> 56885.01 | G34: =F34/$B34 -> 0.12821882 | H34: =SUM(H35:H40) -> 44981 | I34: =H34/$B34 -> 0.10138718 | J34: =SUM(J35:J40) -> 56144 | K34: =J34/$B34 -> 0.12654859 | L34: =SUM(L35:L40) -> 61959 | M34: =L34/$B34 -> 0.1396556 | N34: =SUM(N35:N40) -> 62369 | O34: =N34/$B34 -> 0.14057974 | P34: =SUM(P35:P40) -> 49939 | Q34: =P34/$B34 -> 0.11256252 | R34: =SUM(R35:R40) -> 26794 | S34: =R34/$B34 -> 0.060393682 | T34: =SUM(T35:T40) -> 27735 | U34: =T34/$B34 -> 0.062514696 | V34: =SUM(V35:V40) -> 32593.5 | W34: =V34/$B34 -> 0.073465756 | X34: =SUM(X35:X40) -> 30669 | Y34: =X34/$B34 -> 0.069127933 | Z34: =SUM(Z35:Z40) -> 48318.4 | AA34: =Z34/$B34 -> 0.10890968 | AB34: =SUM(AB35:AB40) -> 542296.91 | AC34: =AB34/$B34 -> 1.2223374 | AD34: =SUM(AD35:AD40) -> 755600.36
A35: Eventos Náuticos | B35: 14824.603 | C35: =B35/12 -> 1235.3836 | D35: 1013 | E35: =D35/$B35 -> 0.06833235 | F35: 855 | G35: =F35/$B35 -> 0.057674392 | H35: 684 | I35: =H35/$B35 -> 0.046139514 | J35: 11434 | K35: =J35/$B35 -> 0.77128538 | L35: =8534-2500 -> 6034 | M35: =L35/$B35 -> 0.40702606 | N35: 4234 | O35: =N35/$B35 -> 0.28560629 | P35: 6234 | Q35: =P35/$B35 -> 0.42051715 | R35: 684 | S35: =R35/$B35 -> 0.046139514 | T35: 1505 | U35: =T35/$B35 -> 0.10152042 | V35: 855 | W35: =V35/$B35 -> 0.057674392 | X35: 855 | Y35: =X35/$B35 -> 0.057674392 | Z35: 17695 | AA35: =Z35/$B35 -> 1.1936238 | AB35: =D35+F35+H35+J35+L35+N35+P35+R35+T35+V35+X35+Z35 -> 52082 | AC35: =AB35/$B35 -> 3.5132137 | AD35: =((AB35/9)*$AE$3)*12 -> 72567.587
A36: Inscrições de regatas | B36: 20622.427 | C36: =B36/12 -> 1718.5356 | D36: 9000 | E36: =D36/$B36 -> 0.43641808 | F36: 27600.01 | G36: =F36/$B36 -> 1.3383493 | I36: =H36/$B36 -> 0 | J36: 200 | K36: =J36/$B36 -> 0.0096981795 | L36: 9310 | M36: =L36/$B36 -> 0.45145025 | N36: 5500 | O36: =N36/$B36 -> 0.26669994 | Q36: =P36/$B36 -> 0 | R36: 360 | S36: =R36/$B36 -> 0.017456723 | T36: 180 | U36: =T36/$B36 -> 0.0087283615 | W36: =V36/$B36 -> 0 | X36: 3240 | Y36: =X36/$B36 -> 0.15711051 | Z36: 180 | AA36: =Z36/$B36 -> 0.0087283615 | AB36: =D36+F36+H36+J36+L36+N36+P36+R36+T36+V36+X36+Z36 -> 55570.01 | AC36: =AB36/$B36 -> 2.6946396 | AD36: =((AB36/9)*$AE$3)*12 -> 77427.547
A37: Uniforme flotilha | B37: 0 | C37: =B37/12 -> 0 | AB37: =D37+F37+H37+J37+L37+N37+P37+R37+T37+V37+X37+Z37 -> 0 | AD37: =((AB37/9)*$AE$3)*12 -> 0
A38: FEVESP - Patrocinio (juizes) | B38: 23166.3 | C38: =B38/12 -> 1930.525 | E38: =D38/$B38 -> 0 | G38: =F38/$B38 -> 0 | H38: 940 | I38: =H38/$B38 -> 0.040576182 | K38: =J38/$B38 -> 0 | L38: 470 | M38: =L38/$B38 -> 0.020288091 | N38: 3890 | O38: =N38/$B38 -> 0.16791633 | Q38: =P38/$B38 -> 0 | S38: =R38/$B38 -> 0 | T38: 940 | U38: =T38/$B38 -> 0.040576182 | W38: =V38/$B38 -> 0 | Y38: =X38/$B38 -> 0 | AA38: =Z38/$B38 -> 0 | AB38: =D38+F38+H38+J38+L38+N38+P38+R38+T38+V38+X38+Z38 -> 6240 | AC38: =AB38/$B38 -> 0.26935678 | AD38: =((AB38/9)*$AE$3)*12 -> 8694.4
A39: Aluguel de barcos | B39: 0 | C39: =B39/12 -> 0 | AB39: =D39+F39+H39+J39+L39+N39+P39+R39+T39+V39+X39+Z39 -> 0 | AD39: =((AB39/9)*$AE$3)*12 -> 0
A40: Acompanhamento técnico | B40: 385042.35 | C40: =B40/12 -> 32086.863 | D40: 33897 | E40: =D40/$B40 -> 0.088034472 | F40: 28430 | G40: =F40/$B40 -> 0.073836034 | H40: =43877-520 -> 43357 | I40: =H40/$B40 -> 0.1126032 | J40: 44510 | K40: =J40/$B40 -> 0.11559767 | L40: 46145 | M40: =L40/$B40 -> 0.11984396 | N40: 48745 | O40: =N40/$B40 -> 0.12659646 | P40: 43705 | Q40: =P40/$B40 -> 0.11350699 | R40: 25750 | S40: =R40/$B40 -> 0.066875761 | T40: 25110 | U40: =T40/$B40 -> 0.065213606 | V40: 31738.5 | W40: =V40/$B40 -> 0.082428595 | X40: 26574 | Y40: =X40/$B40 -> 0.069015785 | Z40: 30443.4 | AA40: =Z40/$B40 -> 0.079065069 | AB40: =D40+F40+H40+J40+L40+N40+P40+R40+T40+V40+X40+Z40 -> 428404.9 | AC40: =AB40/$B40 -> 1.1126176 | AD40: =((AB40/9)*$AE$3)*12 -> 596910.83
A41: RECEITAS DIRETORIA SOCIAL | B41: 105127.62 | C41: =B41/12 -> 8760.6352 | D41: =SUM(D42:D45) -> 0 | E41: =D41/$B41 -> 0 | F41: =SUM(F42:F45) -> 0 | G41: =F41/$B41 -> 0 | H41: =SUM(H42:H45) -> 0 | I41: =H41/$B41 -> 0 | J41: =SUM(J42:J45) -> 11943.75 | K41: =J41/$B41 -> 0.11361191 | L41: =SUM(L42:L45) -> 100 | M41: =L41/$B41 -> 0.00095122478 | N41: =SUM(N42:N45) -> 76937 | O41: =N41/$B41 -> 0.73184381 | P41: =SUM(P42:P45) -> 0 | Q41: =P41/$B41 -> 0 | R41: =SUM(R42:R45) -> 0 | S41: =R41/$B41 -> 0 | T41: =SUM(T42:T45) -> 0 | U41: =T41/$B41 -> 0 | V41: =SUM(V42:V45) -> 2730 | W41: =V41/$B41 -> 0.025968437 | X41: =SUM(X42:X45) -> 900 | Y41: =X41/$B41 -> 0.008561023 | Z41: =SUM(Z42:Z45) -> 0 | AA41: =Z41/$B41 -> 0 | AB41: =SUM(AB42:AB45) -> 92610.75 | AC41: =AB41/$B41 -> 0.88093641 | AD41: =SUM(AD42:AD45) -> 104638.66
A42: Festas Oktoberfest | B42: 0 | C42: =B42/12 -> 0 | V42: 780 | AB42: =D42+F42+H42+J42+L42+N42+P42+R42+T42+V42+X42+Z42 -> 780 | AD42: 1000
A43: Festa Flash Back | B43: 28826.923 | C43: =B43/12 -> 2402.2436 | E43: =D43/$B43 -> 0 | G43: =F43/$B43 -> 0 | I43: =H43/$B43 -> 0 | J43: 11943.75 | K43: =J43/$B43 -> 0.41432622 | M43: =L43/$B43 -> 0 | O43: =N43/$B43 -> 0 | Q43: =P43/$B43 -> 0 | S43: =R43/$B43 -> 0 | U43: =T43/$B43 -> 0 | W43: =V43/$B43 -> 0 | Y43: =X43/$B43 -> 0 | AA43: =Z43/$B43 -> 0 | AB43: =D43+F43+H43+J43+L43+N43+P43+R43+T43+V43+X43+Z43 -> 11943.75 | AC43: =AB43/$B43 -> 0.41432622 | AD43: 20000
...

Sheet Mensalidades
A1: Categorias | B1: Quantidade | C1: Valor mensalidade | D1: Total 2024 | E1: 2025 | F1: TX Obras | G1: Total | I1: TX Transf | J1: Título | K1: Total Tx Transf | L1: Total Título | M1: 1.045
A3: Proprietário | B3: 207 | C3: 951.15 | D3: =(C3*12)*B3 -> 2362656.6 | E3: =D3*$M$1 -> 2468976.1 | G3: =(F3*B3)*12 -> 0
A4: Proprietário individual | B4: 3 | C4: 824.55 | D4: =(C4*12)*B4 -> 29683.8 | E4: =D4*$M$1 -> 31019.571 | G4: =(F4*B4)*12 -> 0
A5: Ausente | B5: 14 | C5: 475.58 | D5: =(C5*12)*B5 -> 79897.44 | E5: =D5*$M$1 -> 83492.825 | G5: =(F5*B5)*12 -> 0
A6: Proprietário - desconto 30% | B6: 4 | C6: 665.8 | D6: =(C6*12)*B6 -> 31958.4 | E6: =D6*$M$1 -> 33396.528 | G6: =(F6*B6)*12 -> 0
A7: Proprietário - desconto 50% | B7: 2 | C7: 475.58 | D7: =(C7*12)*B7 -> 11413.92 | E7: =D7*$M$1 -> 11927.546 | G7: =(F7*B7)*12 -> 0
A8: Proprietário - desconto 90% | B8: 4 | C8: 95.12 | D8: =(C8*12)*B8 -> 4565.76 | E8: =D8*$M$1 -> 4771.2192 | G8: =(F8*B8)*12 -> 0
A9: Veterano pagante | B9: 2 | C9: 95.12 | D9: =(C9*12)*B9 -> 2282.88 | E9: =D9*$M$1 -> 2385.6096 | G9: =(F9*B9)*12 -> 0
A10: Veterano | B10: 59 | D10: =(C10*12)*B10 -> 0 | E10: =D10*$M$1 -> 0
A11: Honorário e honorário com título | B11: 8 | D11: =(C11*12)*B11 -> 0 | E11: =D11*$M$1 -> 0
B12: =SUM(B3:B11) -> 303 | C12: TOTAL | D12: =SUM(D3:D11) -> 2522458.8 | E12: =SUM(E3:E11) -> 2635969.4
I13: =2354880*88.5 -> 208406880
A14: Esportista | B14: 20 | C14: 475.58 | D14: =(C14*12)*B14 -> 114139.2 | E14: =D14*$M$1 -> 119275.46 | G14: =(F14*B14)*12 -> 0 | I14: =I13/100 -> 2084068.8
G15: =SUM(G3:G14) -> 0
A16: TOTAL | B16: 323 | D16: =D12+D14 -> 2636598 | E16: =E12+E14 -> 2755244.9
A20: Novos sócios | B20: 3 | C20: =C3*M1 -> 993.95175 | D20: =(C20*12)*B20 -> 35782.263 | E20: =D20/2 -> 17891.131
A22: No orçamento considerei a entrada de 7 novos sócios (taxa de transferência e título) e de em média 3 novos sócios em parte do ano (considerando que também tem saída de sócios)
A34: Eportista | B34: 14 | C34: 301.06 | D34: =(C34*12)*B34 -> 50578.08

Sheet Sócios
A1: ID Categoria | B1: Categoria | C1: Nome | D1: Matrícula | E1: Valor
A2: 6 | B2: SÓCIO AUSENTE | C2: CAIO SOARES HUNGRIA E PRADO | D2: 59 | E2: 475.58 | F2: =1 -> 1
A3: 6 | B3: SÓCIO AUSENTE | C3: JOHN MECKIEN | D3: 74 | E3: 475.58 | F3: =F2+1 -> 2
A4: 6 | B4: SÓCIO AUSENTE | C4: JOEL BARBUJIANI SÍGOLO | D4: 98 | E4: 475.58 | F4: =F3+1 -> 3
A5: 6 | B5: SÓCIO AUSENTE | C5: MARIO SCHEEL | D5: 109 | E5: 475.58 | F5: =F4+1 -> 4
A6: 6 | B6: SÓCIO AUSENTE | C6: WALTER ANDRE GONÇALVES DA SILVA | D6: 144 | E6: 475.58 | F6: =F5+1 -> 5
A7: 6 | B7: SÓCIO AUSENTE | C7: MÔNIKA DE SOUSA TAMBKE | D7: 221 | E7: 475.58 | F7: =F6+1 -> 6
A8: 6 | B8: SÓCIO AUSENTE | C8: RICARDO DA FONSECA MEIRELLES DAVIDS | D8: 243 | E8: 475.58 | F8: =F7+1 -> 7
A9: 6 | B9: SÓCIO AUSENTE | C9: FABRIZIO RICCI ROMANO | D9: 275 | E9: 475.58 | F9: =F8+1 -> 8
A10: 6 | B10: SÓCIO AUSENTE | C10: PETER PAUL RICHTER | D10: 330 | E10: 475.58 | F10: =F9+1 -> 9
A11: 6 | B11: SÓCIO AUSENTE | C11: VANESSA SALLES WILHELMSEN | D11: 472 | E11: 475.58 | F11: =F10+1 -> 10
A12: 6 | B12: SÓCIO AUSENTE | C12: GONZALO FERNANDEZ CASTRO | D12: 591 | E12: 475.58 | F12: =F11+1 -> 11
A13: 6 | B13: SÓCIO AUSENTE | C13: CRISTINA COMPARINI BASBAUM | D13: 631 | E13: 475.58 | F13: =F12+1 -> 12
A14: 6 | B14: SÓCIO AUSENTE | C14: ALEXANDER JOHANN KOKOLL | D14: 647 | E14: 475.58 | F14: =F13+1 -> 13
... A324: 5 | B324: SÓCIO VETERANO PAGANTE | C324: ERNESTO REIBEL | D324: 319 | E324: 95.12 | F324: =F323+1 -> 323
