Workbook

Sheet resumo
B2: RECEITAS | E2: DESPESAS | H2: DIFERENÇA
B4: RECEITAS DE CUSTEIO | C4: =SUM(C6:C18)+0.3 -> 4869266.9 | E4: DESPESAS DE CUSTEIO | F4: =SUM(F6:F16) -> 5043773 | H4: =C4-F4 -> -174506.13
B6: RECEITAS SOCIAIS | C6: =D7+D8 -> 3693483.3 | E6: ADMINISTRATIVAS | F6: =SUM(G7:G11) -> 3211707.1 | H6: =C6-F6 -> 481776.14
B7: CONTRIBUIÇÕES SOCIAIS | D7: =Budget!B9 -> 2522388 | E7: PESSOAL | G7: =Budget!B49 -> 1666312.5
B8: RECEITAS DE SERVIÇOS DIVERSOS | D8: =Budget!B14 -> 1171095.2 | E8: OPERACIONAIS | G8: =Budget!B62+Budget!B64+Budget!B72+Budget!B79+Budget!B142 -> 1240528.8
E9: MANUTENÇÃO | G9: =Budget!B146 -> 175000
B10: =D7+SUM(Budget!#REF!) -> #REF! | E10: IMPOSTOS E TAXAS | G10: =Budget!B152 -> 33019.675
E11: ASSOCIAÇÕES | G11: =Budget!B104 -> 96846.118
B13: ESCOLA DE VELA | C13: =Budget!B23 -> 589000 | F13: =Budget!B110 -> 593104.92 | H13: =C13-F13 -> -4104.9232
B14: DIRETORIA DE VELA | C14: =Budget!B35 -> 443655.68 | F14: =Budget!B128 -> 1033961 | H14: =C14-F14 -> -590305.28
B15: DIRETORIA SOCIAL | C15: =Budget!B42 -> 105127.62 | F15: =Budget!B89 -> 205000 | H15: =C15-F15 -> -99872.377
H16: =C16-F16 -> 0
B18: RECEITAS FINANCEIRAS | C18: =Budget!B28 -> 38000 | H18: =C18-F11 -> 38000
B21: REAJUSTE NA MENSALIDADE | C21: 0.075

Sheet Budget
B2: 1.06
B3: proposta 2024 - anual
A4: RECEITAS | B4: 5089266.6
A6: RECEITAS DE CUSTEIO | B6: 4869266.6
A8: CONTRIBUIÇÕES SOCIAIS | B8: 3693483.3
A9: RECEITAS SOCIAIS | B9: 2522388
A10: Mensalidade de Sócios | B10: 2557838.4
A11: Mensalidade de Sócio Esportista | B11: 125553.12
A12: tx de obras | B12: 0
A13: FUNDO PRÓ-VELA | B13: -161003.49
A14: RECEITAS DE SERVIÇOS DIVERSOS | B14: 1171095.2
A15: Estadia de Barcos | B15: 1020446.4
A16: Taxa de Armário (Vestiários) | B16: 19165.637
A17: Taxa de Armário (Hangar) | B17: 15566.943
... A19: Concessão Restaurante | B19: 97000
A20: Patrocinios
A21: uniformes e acessórios | B21: 961.95
A22: Convites Sociais + (Parceiros) | B22: 14615.28
A23: RECEITAS CURSO DE VELA | B23: 589000
A24: curso de vela | B24: 244000
A25: curso de vela adulto/arrais | B25: 90000
A26: aluguel de barcos para a escola de vela | B26: 51000
A27: acampamento | B27: 204000
A28: RECEITAS FINANCEIRAS | B28: 38000
A29: Receitas Financeiras | B29: 38000
A30: RECEITAS EVENTUAIS | B30: 220000
A31: Tx transferência | B31: 140000
A32: título | B32: 50000
A33: aluguel sede | B33: 30000
A34: venda de imobilizado / doações
A35: RECEITAS DIRETORIA DE VELA | B35: 443655.68
A36: Eventos Náuticos | B36: 14824.603
A37: Inscrições de regatas | B37: 20622.427
A38: Uniforme flotilha | B38: 0
A39: FEVESP - Patrocinio (juizes) | B39: 23166.3
A40: Aluguel de barcos | B40: 0
A41: Acompanhamento técnico | B41: 385042.35
A42: RECEITAS DIRETORIA SOCIAL | B42: 105127.62
A43: Festas Oktoberfest | B43: 0
A44: Festa Flash Back | B44: 28826.923
...

Sheet Mensalidades
A1: Categorias | B1: Quantidade | C1: Valor mensalidade | D1: Total 2023 | E1: 2024 | F1: TX Obras | G1: Total | I1: TX Transf | J1: Título | K1: Total Tx Transf | L1: Total Título | M1: 1.075
A3: Proprietário | B3: 210 | C3: 884.79 | D3: =(C3*12)*B3 -> 2229670.8 | E3: =D3*$M$1 -> 2396896.1 | G3: =(F3*B3)*12 -> 0
A4: Proprietário individual | B4: 3 | C4: 767.02 | D4: =(C4*12)*B4 -> 27612.72 | E4: =D4*$M$1 -> 29683.674 | G4: =(F4*B4)*12 -> 0
A5: Ausente | B5: 12 | C5: =884.79/2 -> 442.395 | D5: =(C5*12)*B5 -> 63704.88 | E5: =D5*$M$1 -> 68482.746 | G5: =(F5*B5)*12 -> 0
A6: Proprietário - desconto 30% | B6: 5 | C6: 619.35 | D6: =(C6*12)*B6 -> 37161 | E6: =D6*$M$1 -> 39948.075 | G6: =(F6*B6)*12 -> 0
A7: Proprietário - desconto 50% | B7: 2 | C7: 442.4 | D7: =(C7*12)*B7 -> 10617.6 | E7: =D7*$M$1 -> 11413.92 | G7: =(F7*B7)*12 -> 0
A8: Proprietário - desconto 90% | B8: 3 | C8: 88.48 | D8: =(C8*12)*B8 -> 3185.28 | E8: =D8*$M$1 -> 3424.176 | G8: =(F8*B8)*12 -> 0
A9: Veterano pagante | B9: 2 | C9: 88.48 | D9: =(C9*12)*B9 -> 2123.52 | E9: =D9*$M$1 -> 2282.784 | G9: =(F9*B9)*12 -> 0
A10: Remido | B10: 60 | D10: =(C10*12)*B10 -> 0 | E10: =D10*$M$1 -> 0
A11: Honorário não pagante | B11: 8 | D11: =(C11*12)*B11 -> 0 | E11: =D11*$M$1 -> 0
B12: =SUM(B3:B11) -> 305 | C12: TOTAL | D12: =SUM(D3:D11) -> 2374075.8 | E12: =SUM(E3:E11) -> 2552131.5
I13: =2354880*88.5 -> 208406880
A14: Esportista | B14: 22 | C14: 442.4 | D14: =(C14*12)*B14 -> 116793.6 | E14: =D14*$M$1 -> 125553.12 | G14: =(F14*B14)*12 -> 0 | I14: =I13/100 -> 2084068.8
G15: =SUM(G3:G14) -> 0
A16: Novos sócios | B16: 7 | C16: =C3*M1 -> 951.14925 | D16: =C16*12 -> 11413.791 | E16: =D16/2 -> 5706.8955
A34: Eportista | B34: 14 | C34: 301.06 | D34: =(C34*12)*B34 -> 50578.08
