Workbook

Sheet resumo
B2: RECEITAS | E2: DESPESAS | H2: DIFERENÇA
B4: RECEITAS DE CUSTEIO | C4: =SUM(C6:C18)+0.3 -> 5302960.3 | E4: DESPESAS DE CUSTEIO | F4: =SUM(F6:F16) -> 4973155.6 | H4: =C4-F4 -> 329804.7 | I4: =F4-Budget!D47 -> 600301.63
B6: RECEITAS SOCIAIS | C6: =D7+D8 -> 3797557.8 | E6: ADMINISTRATIVAS | F6: =SUM(G7:G11) -> 3167998.8 | H6: =C6-F6 -> 629558.98
B7: CONTRIBUIÇÕES SOCIAIS | D7: =Budget!AA9 -> 2632012.3 | E7: PESSOAL | G7: =Budget!AA49 -> 1849910.1
B8: RECEITAS DE SERVIÇOS DIVERSOS | D8: =Budget!AA14 -> 1165545.5 | E8: OPERACIONAIS | G8: =Budget!AA62+Budget!AA64+Budget!AA72+Budget!AA79+Budget!AA142 -> 959559.96
E9: MANUTENÇÃO | G9: =Budget!AA146 -> 226768.42
B10: =D7+SUM(Budget!B15:B18) -> 3513791.3 | E10: IMPOSTOS E TAXAS | G10: =Budget!AA152 -> 46460.377
E11: ASSOCIAÇÕES | G11: =Budget!AA104 -> 85300.013
B13: ESCOLA DE VELA | C13: =Budget!AA23 -> 817148.67 | F13: =Budget!AA110 -> 737025.84 | H13: =C13-F13 -> 80122.827
B14: DIRETORIA DE VELA | C14: =Budget!AA35 -> 530393.45 | F14: =Budget!AA128 -> 877630.87 | H14: =C14-F14 -> -347237.41
B15: DIRETORIA SOCIAL | C15: =Budget!AA42 -> 121860 | F15: =Budget!AA89 -> 190500 | H15: =C15-F15 -> -68640
H16: =C16-F16 -> 0
B18: RECEITAS FINANCEIRAS | C18: =Budget!AA28 -> 36000 | H18: =C18-F11 -> 36000
B21: REAJUSTE NA MENSALIDADE | C21: 0.1

Sheet Budget
Y2: 0.06
B3: Proposta 2021 | C3: Proposta mensal 2022 | D3: Proposta 2022 - anual | E3: Variação 22/21 | F3: 44562 | G3: 44593 | H3: 44621 | I3: 44652 | J3: 44682 | K3: 44713 | L3: 44743 | M3: % | N3: agosto/ss | O3: % | P3: 44805 | Q3: % | R3: 44835 | S3: 44866 | T3: 44896 | U3: % | V3: Total 2022 - até setembro | W3: % | X3: Média 2022 | Y3: Proposta Mensal 2023 | Z3: Proposta Mensal 2023 - ajustado | AA3: Proposta anual 2023 | AB3: Média 3T | AF3: Realizado Janeiro | AG3: % | AH3: Realizado fevereiro | AI3: % | AJ3: Realizado março | AK3: % | AL3: Realizado abril | AM3: % | AN3: Realizado maio | AO3: % | AP3: Realizado junho | AQ3: % | AR3: Realizado julho | AS3: % | AT3: Realizado agosto | AU3: % | AV3: Realizado setembro | AW3: % | AX3: Realizado outubro | AY3: % | AZ3: Realizado novembro | BA3: % | BB3: Realizado dezembro | BC3: % | BD3: Acumulado ano - R$ | BE3: %
A4: RECEITAS | B4: 4233645.4 | C4: 402171.6 | D4: =D6+D30 -> 5097213.2 | E4: =IFERROR((D4/B4)-1,0) -> 0.20397734 | F4: =F6+F30 -> 329386.28 | G4: =G6+G30 -> 437075.11 | H4: =H6+H30 -> 401672.83 | I4: =I6+I30 -> 494155.45 | J4: =J6+J30 -> 464165.14 | K4: =K6+K30 -> 512464.2 | L4: =L6+L30 -> 446052.24 | M4: =L4/C4 -> 1.1091092 | N4: =N6+N30 -> 464897.11 | O4: =N4/$C4 -> 1.155967 | P4: =P6+P30 -> 475523.38 | Q4: =P4/$C4 -> 1.1823892 | R4: =R6+R30 -> 0 | S4: =S6+S30 -> 0 | T4: =T6+T30 -> 0 | U4: =T4/I4 -> 0 | V4: =V6+V30 -> 4025391.7 | W4: =V4/D4 -> 0.78972403 | X4: =V4/9 -> 447265.75 | Y4: =Y6+Y30 -> 489101.69 | Z4: 491992.32 | AA4: =AA6+AA30 -> 5734960 | AB4: =(L4+N4+P4)/3 -> 462157.58 | AF4: =AF6+AF30 -> 395682.17 | AG4: =AF4/$AA4 -> 0.068994757 | AH4: =AH6+AH30 -> 420297.66 | AI4: =AH4/$AA4 -> 0.073286939 | AJ4: =AJ6+AJ30 -> 443860.57 | AK4: =AJ4/$AA4 -> 0.077395584 | AL4: =AL6+AL30 -> 411444.98 | AM4: =AL4/$AA4 -> 0.071743304 | AN4: =AN6+AN30 -> 491228.57 | AO4: =AN4/$AA4 -> 0.085655101 | AP4: =AP6+AP30 -> 510353.48 | AQ4: =AP4/$AA4 -> 0.088989895 | AR4: =AR6+AR30 -> 417800.75 | AS4: =AR4/$AA4 -> 0.072851554 | AT4: =AT6+AT30 -> 387863.45 | AU4: =AT4/$AA4 -> 0.067631414 | AV4: =AV6+AV30 -> 389143.19 | AW4: =AV4/$AA4 -> 0.067854561 | AX4: =AX6+AX30 -> 0 | AY4: =AX4/$AA4 -> 0 | AZ4: =AZ6+AZ30 -> 0 | BA4: =AZ4/$AA4 -> 0 | BB4: =BB6+BB30 -> 0 | BC4: =BB4/$AA4 -> 0 | BD4: =BD6+BD30 -> 3860845.8 | BE4: =BD4/$AA4 -> 0.67321234
AB5: =(L5+N5+P5)/3 -> 0
A6: RECEITAS DE CUSTEIO | B6: 4081894.4 | C6: 366708.31 | D6: =D8+D23+D28+D35+D42 -> 4671653.6 | E6: =IFERROR((D6/B6)-1,0) -> 0.14448174 | F6: =F8+F23+F28+F35+F42 -> 307466.47 | G6: =G8+G23+G28+G35+G42 -> 402491.3 | H6: =H8+H23+H28+H35+H42 -> 377900.02 | I6: =I8+I23+I28+I35+I42 -> 460827.64 | J6: =J8+J23+J28+J35+J42 -> 397044.33 | K6: =K8+K23+K28+K35+K42 -> 485906.39 | L6: =L8+L23+L28+L35+L42 -> 362160.43 | M6: =L6/C6 -> 0.98759812 | N6: =N8+N23+N28+N35+N42 -> 403154.31 | O6: =N6/C6 -> 1.0993869 | P6: =P8+P23+P28+P35+P42 -> 413883.57 | Q6: =P6/$C6 -> 1.1286452 | R6: =R8+R23+R28+R35+R42 -> 0 | S6: =S8+S23+S28+S35+S42 -> 0 | T6: =T8+T23+T28+T35+T42 -> 0 | U6: =T6/I6 -> 0 | V6: =V8+V23+V28+V35+V42 -> 3610834.5 | W6: =V6/D6 -> 0.77292427 | X6: =V6/9 -> 401203.83 | Y6: =Y8+Y23+Y28+Y35+Y42 -> 440276.06 | Z6: 441324.21 | AA6: =AA8+AA23+AA28+AA35+AA42 -> 5302960 | AB6: =(L6+N6+P6)/3 -> 393066.1 | AF6: =AF8+AF23+AF28+AF35+AF42 -> 381496.69 | AG6: =AF6/$AA6 -> 0.07194033 | AH6: =AH8+AH23+AH28+AH35+AH42 -> 373424.18 | AI6: =AH6/$AA6 -> 0.070418065 | AJ6: =AJ8+AJ23+AJ28+AJ35+AJ42 -> 416957.09 | AK6: =AJ6/$AA6 -> 0.078627238 | AL6: =AL8+AL23+AL28+AL35+AL42 -> 400926.5 | AM6: =AL6/$AA6 -> 0.075604285 | AN6: =AN8+AN23+AN28+AN35+AN42 -> 423926.09 | AO6: =AN6/$AA6 -> 0.07994141 | AP6: =AP8+AP23+AP28+AP35+AP42 -> 493429.5 | AQ6: =AP6/$AA6 -> 0.09304794 | AR6: =AR8+AR23+AR28+AR35+AR42 -> 411172.27 | AS6: =AR6/$AA6 -> 0.07753637 | AT6: =AT8+AT23+AT28+AT35+AT42 -> 378042.47 | AU6: =AT6/$AA6 -> 0.071288954 | AV6: =AV8+AV23+AV28+AV35+AV42 -> 384402.71 | AW6: =AV6/$AA6 -> 0.072488329 | AX6: =AX8+AX23+AX28+AX35+AX42 -> 0 | AY6: =AX6/$AA6 -> 0 | AZ6: =AZ8+AZ23+AZ28+AZ35+AZ42 -> 0 | BA6: =AZ6/$AA6 -> 0 | BB6: =BB8+BB23+BB28+BB35+BB42 -> 0 | BC6: =BB6/$AA6 -> 0 | BD6: =BD8+BD23+BD28+BD35+BD42 -> 3663777.5 | BE6: =BD6/$AA6 -> 0.69089292
AB7: =(L7+N7+P7)/3 -> 0
A8: CONTRIBUIÇÕES SOCIAIS | B8: 3127463.7 | C8: 279124.97 | D8: =D9+D14 -> 3620653.6 | E8: =IFERROR((D8/B8)-1,0) -> 0.15769645 | F8: =F9+F14 -> 274317.19 | G8: =G9+G14 -> 269393.2 | H8: =H9+H14 -> 271737 | I8: =I9+I14 -> 313554.52 | J8: =J9+J14 -> 271976.3 | K8: =K9+K14 -> 269252.91 | L8: =L9+L14 -> 267457.62 | M8: =L8/C8 -> 0.95820027 | N8: =N9+N14 -> 300817.27 | O8: =N8/C8 -> 1.0777153 | P8: =P9+P14 -> 290709.14 | Q8: =P8/$C8 -> 1.0415017 | R8: =R9+R14 -> 0 | S8: =S9+S14 -> 0 | T8: =T9+T14 -> 0 | U8: =T8/C8 -> 0 | V8: =V9+V14 -> 2529215.1 | W8: =V8/D8 -> 0.69855209 | X8: =V8/9 -> 281023.91 | Y8: =Y9+Y14 -> 312885.34 | Z8: 309126.3 | AA8: =AA9+AA14 -> 3797557.8 | AB8: =(L8+N8+P8)/3 -> 286328.01 | AF8: =AF9+AF14 -> 313413.87 | AG8: =AF8/$AA8 -> 0.082530375 | AH8: =AH9+AH14 -> 314540.29 | AI8: =AH8/$AA8 -> 0.082826991 | AJ8: =AJ9+AJ14 -> 318386.16 | AK8: =AJ8/$AA8 -> 0.083839715 | AL8: =AL9+AL14 -> 318533.01 | AM8: =AL8/$AA8 -> 0.083878382 | AN8: =AN9+AN14 -> 318303.55 | AO8: =AN8/$AA8 -> 0.083817961 | AP8: =AP9+AP14 -> 323835.81 | AQ8: =AP8/$AA8 -> 0.085274755 | AR8: =AR9+AR14 -> 308247.73 | AS8: =AR8/$AA8 -> 0.081169989 | AT8: =AT9+AT14 -> 312690.02 | AU8: =AT8/$AA8 -> 0.082339765 | AV8: =AV9+AV14 -> 307332.26 | AW8: =AV8/$AA8 -> 0.080928921 | AX8: =AX9+AX14 -> 0 | AY8: =AX8/$AA8 -> 0 | AZ8: =AZ9+AZ14 -> 0 | BA8: =AZ8/$AA8 -> 0 | BB8: =BB9+BB14 -> 0 | BC8: =BB8/$AA8 -> 0 | BD8: =BD9+BD14 -> 2835282.7 | BE8: =BD8/$AA8 -> 0.74660685
A9: RECEITAS SOCIAIS | B9: 2149282.9 | C9: 190589.69 | D9: =SUM(D10:D13) -> 2558230.2 | E9: =IFERROR((D9/B9)-1,0) -> 0.19027148 | F9: =SUM(F10:F13) -> 192839.42 | G9: =SUM(G10:G13) -> 190435.3 | H9: =SUM(H10:H13) -> 191291.75 | I9: =SUM(I10:I13) -> 192126.47 | J9: =SUM(J10:J13) -> 189879.41 | K9: =SUM(K10:K13) -> 190271.72 | L9: =SUM(L10:L13) -> 190193.26 | M9: =L9/C9 -> 0.99791996 | N9: =SUM(N10:N13) -> 195101.39 | O9: =N9/C9 -> 1.0236723 | P9: =SUM(P10:P13) -> 195390.2 | Q9: =P9/$C9 -> 1.0251876 | R9: =SUM(R10:R13) -> 0 | S9: =SUM(S10:S13) -> 0 | T9: =SUM(T10:T13) -> 0 | U9: =T9/I9 -> 0 | V9: =SUM(V10:V13) -> 1727528.9 | W9: =V9/D9 -> 0.67528282 | X9: =V9/9 -> 191947.66 | Y9: =SUM(Y10:Y13) -> 218464.52 | Z9: 211142.42 | AA9: =SUM(AA10:AA13) -> 2632012.3 | AB9: =(L9+N9+P9)/3 -> 193561.61 | AF9: =SUM(AF10:AF13) -> 222463.49 | AG9: =AF9/$AA9 -> 0.084522207 | AH9: =SUM(AH10:AH13) -> 226008.19 | AI9: =AH9/$AA9 -> 0.085868971 | AJ9: =SUM(AJ10:AJ13) -> 224801.18 | AK9: =AJ9/$AA9 -> 0.085410385 | AL9: =SUM(AL10:AL13) -> 225037.53 | AM9: =AL9/$AA9 -> 0.08550018 | AN9: =SUM(AN10:AN13) -> 224155.82 | AO9: =AN9/$AA9 -> 0.085165188 | AP9: =SUM(AP10:AP13) -> 221539.59 | AQ9: =AP9/$AA9 -> 0.084171184 | AR9: =SUM(AR10:AR13) -> 218638.54 | AS9: =AR9/$AA9 -> 0.083068964 | AT9: =SUM(AT10:AT13) -> 219963.16 | AU9: =AT9/$AA9 -> 0.083572238 | AV9: =SUM(AV10:AV13) -> 219863.17 | AW9: =AV9/$AA9 -> 0.083534247 | AX9: =SUM(AX10:AX13) -> 0 | AY9: =AX9/$AA9 -> 0 | AZ9: =SUM(AZ10:AZ13) -> 0 | BA9: =AZ9/$AA9 -> 0 | BB9: =SUM(BB10:BB13) -> 0 | BC9: =BB9/$AA9 -> 0 | BD9: =SUM(BD10:BD13) -> 2002470.7 | BE9: =BD9/$AA9 -> 0.76081357
A10: Mensalidade de Sócios | B10: 2211010.3 | C10: =D10/12 -> 216048.66 | D10: =Mensalidades!E12 -> 2592583.9 | E10: =(D10/B10)-1 -> 0.17257882 | F10: 199820.32 | G10: 198150.75 | H10: 196397.86 | I10: 196397.86 | J10: 194895.37 | K10: 195312.72 | L10: 195229.25 | M10: =L10/C10 -> 0.90363556 | N10: 196898.67 | O10: =N10/C10 -> 0.91136262 | P10: 197649.91 | Q10: =P10/$C10 -> 0.9148398 | U10: =T10/I10 -> 0 | V10: =T10+S10+R10+P10+N10+L10+K10+J10+I10+H10+G10+F10 -> 1770752.7 | W10: =V10/D10 -> 0.68300691 | X10: =V10/9 -> 196750.3 | Y10: =X10+(X10*$Y$2)+15000 -> 223555.32 | Z10: =Y10 -> 223555.32 | AA10: =Z10*12 -> 2682663.8 | AB10: =(L10+N10+P10)/3 -> 196592.61 | AF10: 204382.76 | AG10: =AF10/$AA10 -> 0.076186497 | AH10: 205799.01 | AI10: =AH10/$AA10 -> 0.076714424 | AJ10: 204780.92 | AK10: =AJ10/$AA10 -> 0.076334917 | AL10: 204957.88 | AM10: =AL10/$AA10 -> 0.076400881 | AN10: 204515.49 | AO10: =AN10/$AA10 -> 0.076235974 | AP10: 202657.43 | AQ10: =AP10/$AA10 -> 0.075543356 | AR10: 200062.75 | AS10: =AR10/$AA10 -> 0.074576154 | AT10: 200091.53 | AU10: =AT10/$AA10 -> 0.074586882 | AV10: 199206.74 | AW10: =AV10/$AA10 -> 0.074257064 | AY10: =AX10/$AA10 -> 0 | BA10: =AZ10/$AA10 -> 0 | BC10: =BB10/$AA10 -> 0 | BD10: =AF10+AH10+AJ10+AL10+AN10+AP10+AR10+AT10+AV10+AX10+AZ10+BB10 -> 1826454.5 | BE10: =BD10/$AA10 -> 0.68083615
A11: Mensalidade de Sócio Esportista | B11: 75460.896 | C11: 6124.0892 | D11: =Mensalidades!E14 -> 121201.34 | E11: =IFERROR((D11/B11)-1,0) -> 0.60614769 | F11: 5008.32 | G11: 4173.6 | H11: 6677.76 | I11: 7512.48 | J11: 6677.76 | K11: 6677.76 | L11: 6677.76 | M11: =L11/C11 -> 1.0904087 | N11: 10016.64 | O11: =N11/C11 -> 1.635613 | P11: 9599.28 | Q11: =P11/$C11 -> 1.5674625 | U11: =T11/I11 -> 0 | V11: =T11+S11+R11+P11+N11+L11+K11+J11+I11+H11+G11+F11 -> 63021.36 | W11: =V11/D11 -> 0.51997245 | X11: =V11/9 -> 7002.3733 | Y11: =X11+(X11*$Y$2) -> 7422.5157 | Z11: =AB11 -> 8764.56 | AA11: =Z11*12 -> 105174.72 | AB11: =(L11+N11+P11)/3 -> 8764.56 | AF11: 7078.4 | AG11: =AF11/$AA11 -> 0.067301344 | AH11: 8848 | AI11: =AH11/$AA11 -> 0.08412668 | AJ11: 8848 | AK11: =AJ11/$AA11 -> 0.08412668 | AL11: 8848 | AM11: =AL11/$AA11 -> 0.08412668 | AN11: 8405.6 | AO11: =AN11/$AA11 -> 0.079920346 | AP11: 7693.2 | AQ11: =AP11/$AA11 -> 0.073146855 | AR11: 7520.8 | AS11: =AR11/$AA11 -> 0.071507678 | AT11: 8848 | AU11: =AT11/$AA11 -> 0.08412668 | AV11: 9732.8 | AW11: =AV11/$AA11 -> 0.092539348 | AY11: =AX11/$AA11 -> 0 | BA11: =AZ11/$AA11 -> 0 | BC11: =BB11/$AA11 -> 0 | BD11: =AF11+AH11+AJ11+AL11+AN11+AP11+AR11+AT11+AV11+AX11+AZ11+BB11 -> 75822.8 | BE11: =BD11/$AA11 -> 0.72092229
A12: tx de obras | B12: 0 | M12: =L12/C12 -> #DIV/0! | O12: =N12/C12 -> #DIV/0! | Q12: =P12/$C12 -> #DIV/0! | U12: =T12/I12 -> #DIV/0! | W12: =V12/D12 -> #DIV/0! | X12: =V12/9 -> 0 | Y12: =X12+(X12*$Y$2) -> 0 | Z12: 0 | AA12: =Z12*12 -> 0 | AB12: =(L12+N12+P12)/3 -> 0 | AF12: 23690 | AH12: 24240 | AJ12: 23990 | AL12: 24060 | AN12: 24010 | AP12: 23810 | AR12: 23510 | AT12: 23560 | AV12: 23460 | BD12: =AF12+AH12+AJ12+AL12+AN12+AP12+AR12+AT12+AV12+AX12+AZ12+BB12 -> 214330
A13: FUNDO PRÓ-VELA | B13: -137188.27 | C13: -11774.4 | D13: =-D10*0.06 -> -155555.03 | E13: =IFERROR((D13/B13)-1,0) -> 0.13387995 | F13: =-F10*0.06 -> -11989.219 | G13: =-G10*0.06 -> -11889.045 | H13: =-H10*0.06 -> -11783.872 | I13: =-I10*0.06 -> -11783.872 | J13: =-J10*0.06 -> -11693.722 | K13: =-K10*0.06 -> -11718.763 | L13: =-L10*0.06 -> -11713.755 | M13: =L13/C13 -> 0.99484942 | N13: =-N10*0.06 -> -11813.92 | O13: =N13/C13 -> 1.0033565 | P13: =-P10*0.06 -> -11858.995 | Q13: =P13/$C13 -> 1.0071846 | R13: =-R10*0.06 -> 0 | S13: =-S10*0.06 -> 0 | T13: =-T10*0.06 -> 0 | U13: =T13/I13 -> 0 | V13: =-V10*0.06 -> -106245.16 | W13: =V13/D13 -> 0.68300691 | X13: =V13/9 -> -11805.018 | Y13: =X13+(X13*$Y$2) -> -12513.319 | Z13: -12985.52 | AA13: =Z13*12 -> -155826.24 | AB13: =(L13+N13+P13)/3 -> -11795.557 | AF13: =-(SUM(AF10:AF11))*0.06 -> -12687.67 | AG13: =AF13/$AA13 -> 0.081421908 | AH13: =-(SUM(AH10:AH11))*0.06 -> -12878.821 | AI13: =AH13/$AA13 -> 0.082648601 | AJ13: =-(SUM(AJ10:AJ11))*0.06 -> -12817.735 | AK13: =AJ13/$AA13 -> 0.082256591 | AL13: =-(SUM(AL10:AL11))*0.06 -> -12828.353 | AM13: =AL13/$AA13 -> 0.082324729 | AN13: =-(SUM(AN10:AN11))*0.06 -> -12775.265 | AO13: =AN13/$AA13 -> 0.081984045 | AP13: =-(SUM(AP10:AP11))*0.06 -> -12621.038 | AQ13: =AP13/$AA13 -> 0.080994304 | AR13: =-(SUM(AR10:AR11))*0.06 -> -12455.013 | AS13: =AR13/$AA13 -> 0.079928856 | AT13: =-(SUM(AT10:AT11))*0.06 -> -12536.372 | AU13: =AT13/$AA13 -> 0.080450968 | AV13: =-(SUM(AV10:AV11))*0.06 -> -12536.372 | AW13: =AV13/$AA13 -> 0.080450972 | AY13: =AX13/$AA13 -> 0 | BA13: =AZ13/$AA13 -> 0 | BC13: =BB13/$AA13 -> 0 | BD13: =AF13+AH13+AJ13+AL13+AN13+AP13+AR13+AT13+AV13+AX13+AZ13+BB13 -> -114136.64 | BE13: =BD13/$AA13 -> 0.73246098
A14: RECEITAS DE SERVIÇOS DIVERSOS | B14: 978180.75 | C14: 88535.286 | D14: =SUM(D15:D22) -> 1062423.4 | E14: =IFERROR((D14/B14)-1,0) -> 0.08612179 | F14: =SUM(F15:F22) -> 81477.77 | G14: =SUM(G15:G22) -> 78957.9 | H14: =SUM(H15:H22) -> 80445.25 | I14: =SUM(I15:I22) -> 121428.05 | J14: =SUM(J15:J22) -> 82096.89 | K14: =SUM(K15:K22) -> 78981.19 | L14: =SUM(L15:L22) -> 77264.37 | M14: =L14/C14 -> 0.87269578 | N14: =SUM(N15:N22) -> 105715.88 | O14: =N14/C14 -> 1.1940536 | P14: =SUM(P15:P22) -> 95318.94 | Q14: =P14/$C14 -> 1.0766209 | R14: =SUM(R15:R22) -> 0 | S14: =SUM(S15:S22) -> 0 | T14: =SUM(T15:T22) -> 0 | U14: =T14/I14 -> 0 | V14: =SUM(V15:V22) -> 801686.24 | W14: =V14/D14 -> 0.75458261 | X14: =V14/9 -> 89076.249 | Y14: =SUM(Y15:Y22) -> 94420.824 | Z14: 97983.874 | AA14: =SUM(AA15:AA22) -> 1165545.5 | AB14: =(L14+N14+P14)/3 -> 92766.397 | AF14: =SUM(AF15:AF22) -> 90950.38 | AG14: =AF14/$AA14 -> 0.078032456 | AH14: =SUM(AH15:AH22) -> 88532.1 | AI14: =AH14/$AA14 -> 0.075957651 | AJ14: =SUM(AJ15:AJ22) -> 93584.98 | AK14: =AJ14/$AA14 -> 0.080292857 | AL14: =SUM(AL15:AL22) -> 93495.48 | AM14: =AL14/$AA14 -> 0.080216069 | AN14: =SUM(AN15:AN22) -> 94147.73 | AO14: =AN14/$AA14 -> 0.080775678 | AP14: =SUM(AP15:AP22) -> 102296.22 | AQ14: =AP14/$AA14 -> 0.087766817 | AR14: =SUM(AR15:AR22) -> 89609.19 | AS14: =AR14/$AA14 -> 0.076881759 | AT14: =SUM(AT15:AT22) -> 92726.86 | AU14: =AT14/$AA14 -> 0.079556618 | AV14: =SUM(AV15:AV22) -> 87469.09 | AW14: =AV14/$AA14 -> 0.075045623 | AX14: =SUM(AX15:AX22) -> 0 | AY14: =AX14/$AA14 -> 0 | AZ14: =SUM(AZ15:AZ22) -> 0 | BA14: =AZ14/$AA14 -> 0 | BB14: =SUM(BB15:BB22) -> 0 | BC14: =BB14/$AA14 -> 0 | BD14: =SUM(BD15:BD22) -> 832812.03 | BE14: =BD14/$AA14 -> 0.71452553
A15: Estadia de Barcos | B15: 856800 | C15: 79611 | D15: =B15*1.115 -> 955332 | E15: =IFERROR((D15/B15)-1,0) -> 0.115 | F15: 77991.13 | G15: 75210.5 | H15: 76637.85 | I15: 76717.64 | J15: 76967.61 | K15: 74843.47 | L15: 73906.65 | M15: =L15/C15 -> 0.92834721 | N15: 74826.51 | O15: =N15/C15 -> 0.93990165 | P15: 75017.36 | Q15: =P15/$C15 -> 0.94229893 | U15: =T15/I15 -> 0 | V15: =T15+S15+R15+P15+N15+L15+K15+J15+I15+H15+G15+F15 -> 682118.72 | W15: =V15/D15 -> 0.71401222 | X15: =V15/9 -> 75790.969 | Y15: =X15+(X15*$Y$2) -> 80338.427 | Z15: 83370.066 | AA15: =Z15*12 -> 1000440.8 | AB15: =(L15+N15+P15)/3 -> 74583.507 | AF15: 79247.13 | AG15: =AF15/$AA15 -> 0.079212214 | AH15: 79958.32 | AI15: =AH15/$AA15 -> 0.079923091 | AJ15: 79097.78 | AK15: =AJ15/$AA15 -> 0.07906293 | AL15: 80070.24 | AM15: =AL15/$AA15 -> 0.080034961 | AN15: 79835.99 | AO15: =AN15/$AA15 -> 0.079800815 | AP15: 82486.02 | AQ15: =AP15/$AA15 -> 0.082449677 | AR15: 77970.68 | AS15: =AR15/$AA15 -> 0.077936326 | AT15: 83124.05 | AU15: =AT15/$AA15 -> 0.083087426 | AV15: 76154.9 | AW15: =AV15/$AA15 -> 0.076121347 | AY15: =AX15/$AA15 -> 0 | BA15: =AZ15/$AA15 -> 0 | BC15: =BB15/$AA15 -> 0 | BD15: =AF15+AH15+AJ15+AL15+AN15+AP15+AR15+AT15+AV15+AX15+AZ15+BB15 -> 717945.11 | BE15: =BD15/$AA15 -> 0.71762879
A16: Taxa de Armário (Vestiários) | B16: 10876.761 | C16: 1155.82 | D16: =C16*12 -> 13869.84 | E16: =IFERROR((D16/B16)-1,0) -> 0.27518109 | F16: 1302.16 | G16: 1333.92 | H16: 1333.92 | I16: 1333.92 | J16: 1333.92 | K16: 1365.68 | L16: 1365.68 | M16: =L16/C16 -> 1.1815681 | N16: 1333.92 | O16: =N16/C16 -> 1.1540897 | P16: 1365.68 | Q16: =P16/$C16 -> 1.1815681 | U16: =T16/I16 -> 0 | V16: =T16+S16+R16+P16+N16+L16+K16+J16+I16+H16+G16+F16 -> 12068.8 | W16: =V16/D16 -> 0.87014702 | X16: =V16/9 -> 1340.9778 | Y16: =X16+(X16*$Y$2) -> 1421.4364 | Z16: 1475.0756 | AA16: =Z16*12 -> 17700.907 | AB16: =(L16+N16+P16)/3 -> 1355.0933 | AF16: 1481.48 | AG16: =AF16/$AA16 -> 0.083695148 | AH16: 1515.15 | AI16: =AH16/$AA16 -> 0.08559731 | AJ16: 1515.15 | AK16: =AJ16/$AA16 -> 0.08559731 | AL16: 1481.48 | AM16: =AL16/$AA16 -> 0.083695148 | AN16: 1515.15 | AO16: =AN16/$AA16 -> 0.08559731 | AP16: 1515.15 | AQ16: =AP16/$AA16 -> 0.08559731 | AR16: 1515.15 | AS16: =AR16/$AA16 -> 0.08559731 | AT16: 1515.15 | AU16: =AT16/$AA16 -> 0.08559731 | AV16: 1414.14 | AW16: =AV16/$AA16 -> 0.079890823 | AY16: =AX16/$AA16 -> 0 | BA16: =AZ16/$AA16 -> 0 | BC16: =BB16/$AA16 -> 0 | BD16: =AF16+AH16+AJ16+AL16+AN16+AP16+AR16+AT16+AV16+AX16+AZ16+BB16 -> 13468 | BE16: =BD16/$AA16 -> 0.76086498
A17: Taxa de Armário (Hangar) | B17: 9102.24 | C17: 1252.9032 | D17: 15034.838 | E17: =IFERROR((D17/B17)-1,0) -> 0.65177345 | F17: 1204.48 | G17: 1204.48 | H17: 1204.48 | I17: 1251.92 | J17: 1299.36 | K17: 1251.04 | L17: 1251.04 | M17: =L17/C17 -> 0.99851289 | N17: 1251.04 | O17: =N17/C17 -> 0.99851289 | P17: 1251.04 | Q17: =P17/$C17 -> 0.99851289 | U17: =T17/I17 -> 0 | V17: =T17+S17+R17+P17+N17+L17+K17+J17+I17+H17+G17+F17 -> 11168.88 | W17: =V17/D17 -> 0.74286665 | X17: =V17/9 -> 1240.9867 | Y17: =X17+(X17*$Y$2) -> 1315.4459 | Z17: 1365.0853 | AA17: =Z17*12 -> 16381.024 | AB17: =(L17+N17+P17)/3 -> 1251.04 | AF17: 1274.92 | AG17: =AF17/$AA17 -> 0.077829078 | AH17: 1223.7 | AI17: =AH17/$AA17 -> 0.07470229 | AJ17: 1223.7 | AK17: =AJ17/$AA17 -> 0.07470229 | AL17: 1173.41 | AM17: =AL17/$AA17 -> 0.071632274 | AN17: 1223.7 | AO17: =AN17/$AA17 -> 0.07470229 | AP17: 1223.7 | AQ17: =AP17/$AA17 -> 0.07470229 | AR17: 1223.7 | AS17: =AR17/$AA17 -> 0.07470229 | AT17: 1223.7 | AU17: =AT17/$AA17 -> 0.07470229 | AV17: 1223.7 | AW17: =AV17/$AA17 -> 0.07470229 | AY17: =AX17/$AA17 -> 0 | BA17: =AZ17/$AA17 -> 0 | BC17: =BB17/$AA17 -> 0 | BD17: =AF17+AH17+AJ17+AL17+AN17+AP17+AR17+AT17+AV17+AX17+AZ17+BB17 -> 11014.23 | BE17: =BD17/$AA17 -> 0.67237738
A18: Taxa de Bolão | B18: 5000 | C18: 0 | D18: 0 | F18: 0 | I18: 2000 | M18: =L18/C18 -> #DIV/0! | O18: =N18/C18 -> #DIV/0! | Q18: =P18/$C18 -> #DIV/0! | U18: =T18/I18 -> 0 | V18: =T18+S18+R18+P18+N18+L18+K18+J18+I18+H18+G18+F18 -> 2000 | W18: =V18/D18 -> #DIV/0! | X18: =V18/9 -> 222.22222 | Y18: =X18+(X18*$Y$2) -> 235.55556 | Z18: 244.44444 | AA18: =Z18*12 -> 2933.3333 | AB18: =(L18+N18+P18)/3 -> 0 | AG18: =AF18/$AA18 -> 0 | AI18: =AH18/$AA18 -> 0 | AK18: =AJ18/$AA18 -> 0 | AM18: =AL18/$AA18 -> 0 | AN18: 2100 | AO18: =AN18/$AA18 -> 0.71590909 | AQ18: =AP18/$AA18 -> 0 | AS18: =AR18/$AA18 -> 0 | AU18: =AT18/$AA18 -> 0 | AW18: =AV18/$AA18 -> 0 | AY18: =AX18/$AA18 -> 0 | BA18: =AZ18/$AA18 -> 0 | BC18: =BB18/$AA18 -> 0 | BD18: =AF18+AH18+AJ18+AL18+AN18+AP18+AR18+AT18+AV18+AX18+AZ18+BB18 -> 2100 | BE18: =BD18/$AA18 -> 0.71590909
A19: Concessão Restaurante | B19: 79400 | C19: 4916.6667 | D19: 59000 | E19: =IFERROR((D19/B19)-1,0) -> -0.25692695 | F19: 0 | I19: 38603.57 | M19: =L19/C19 -> 0 | N19: 26978.41 | O19: =N19/C19 -> 5.4871342 | P19: 7626.86 | Q19: =P19/$C19 -> 1.5512258 | U19: =T19/I19 -> 0 | V19: =T19+S19+R19+P19+N19+L19+K19+J19+I19+H19+G19+F19 -> 73208.84 | W19: =V19/D19 -> 1.2408278 | X19: =V19/9 -> 8134.3156 | Y19: =X19+(X19*$Y$2) -> 8622.3745 | Z19: 8000 | AA19: =Z19*12 -> 96000 | AB19: =(L19+N19+P19)/3 -> 11535.09 | AF19: 7776.85 | AG19: =AF19/$AA19 -> 0.081008854 | AH19: 4448.93 | AI19: =AH19/$AA19 -> 0.046343021 | AJ19: 7496.35 | AK19: =AJ19/$AA19 -> 0.078086979 | AL19: 7604.35 | AM19: =AL19/$AA19 -> 0.079211979 | AN19: 7792.89 | AO19: =AN19/$AA19 -> 0.081175938 | AP19: 7617.35 | AQ19: =AP19/$AA19 -> 0.079347396 | AR19: 8168.66 | AS19: =AR19/$AA19 -> 0.085090208 | AT19: 4335.96 | AU19: =AT19/$AA19 -> 0.04516625 | AV19: 8004.35 | AW19: =AV19/$AA19 -> 0.083378646 | AY19: =AX19/$AA19 -> 0 | BA19: =AZ19/$AA19 -> 0 | BC19: =BB19/$AA19 -> 0 | BD19: =AF19+AH19+AJ19+AL19+AN19+AP19+AR19+AT19+AV19+AX19+AZ19+BB19 -> 63245.69 | BE19: =BD19/$AA19 -> 0.65880927
A20: Patrocinios | B20: 0 | C20: 0 | D20: 0 | F20: 0 | M20: =L20/C20 -> #DIV/0! | O20: =N20/C20 -> #DIV/0! | P20: 9200 | Q20: =P20/$C20 -> #DIV/0! | U20: =T20/I20 -> #DIV/0! | V20: =T20+S20+R20+P20+N20+L20+K20+J20+I20+H20+G20+F20 -> 9200 | W20: =V20/D20 -> #DIV/0! | X20: =V20/9 -> 1022.2222 | Y20: =X20+(X20*$Y$2) -> 1083.5556 | Z20: 1124.4444 | AA20: =Z20*12 -> 13493.333 | AB20: =(L20+N20+P20)/3 -> 3066.6667 | AG20: =AF20/$AA20 -> 0 | AI20: =AH20/$AA20 -> 0 | AJ20: 2320 | AK20: =AJ20/$AA20 -> 0.17193676 | AL20: 940 | AM20: =AL20/$AA20 -> 0.069664032 | AO20: =AN20/$AA20 -> 0 | AP20: 8950 | AQ20: =AP20/$AA20 -> 0.66329051 | AS20: =AR20/$AA20 -> 0 | AT20: 2360 | AU20: =AT20/$AA20 -> 0.17490119 | AW20: =AV20/$AA20 -> 0 | AY20: =AX20/$AA20 -> 0 | BA20: =AZ20/$AA20 -> 0 | BC20: =BB20/$AA20 -> 0 | BD20: =AF20+AH20+AJ20+AL20+AN20+AP20+AR20+AT20+AV20+AX20+AZ20+BB20 -> 14570 | BE20: =BD20/$AA20 -> 1.0797925
A21: uniformes e acessórios | B21: 6186.75 | C21: 515.5625 | D21: =B21 -> 6186.75 | E21: =IFERROR((D21/B21)-1,0) -> 0 | F21: 0 | H21: 60 | M21: =L21/C21 -> 0 | O21: =N21/C21 -> 0 | Q21: =P21/$C21 -> 0 | U21: =T21/I21 -> #DIV/0! | V21: =T21+S21+R21+P21+N21+L21+K21+J21+I21+H21+G21+F21 -> 60 | W21: =V21/D21 -> 0.0096981452 | X21: =V21/9 -> 6.6666667 | Y21: =X21+(X21*$Y$2) -> 7.0666667 | Z21: 100 | AA21: =Z21*12 -> 1200 | AB21: =(L21+N21+P21)/3 -> 0 | AG21: =AF21/$AA21 -> 0 | AI21: =AH21/$AA21 -> 0 | AK21: =AJ21/$AA21 -> 0 | AM21: =AL21/$AA21 -> 0 | AO21: =AN21/$AA21 -> 0 | AQ21: =AP21/$AA21 -> 0 | AR21: 605 | AS21: =AR21/$AA21 -> 0.50416667 | AU21: =AT21/$AA21 -> 0 | AW21: =AV21/$AA21 -> 0 | AY21: =AX21/$AA21 -> 0 | BA21: =AZ21/$AA21 -> 0 | BC21: =BB21/$AA21 -> 0 | BD21: =AF21+AH21+AJ21+AL21+AN21+AP21+AR21+AT21+AV21+AX21+AZ21+BB21 -> 605 | BE21: =BD21/$AA21 -> 0.50416667
A22: Convites Sociais + (Parceiros) | B22: 10815 | C22: 1083.3333 | D22: 13000 | E22: =IFERROR((D22/B22)-1,0) -> 0.20203421 | F22: 980 | G22: 1209 | H22: 1209 | I22: 1521 | J22: 2496 | K22: 1521 | L22: 741 | M22: =L22/C22 -> 0.684 | N22: 1326 | O22: =N22/C22 -> 1.224 | P22: 858 | Q22: =P22/$C22 -> 0.792 | U22: =T22/I22 -> 0 | V22: =T22+S22+R22+P22+N22+L22+K22+J22+I22+H22+G22+F22 -> 11861 | W22: =V22/D22 -> 0.91238462 | X22: =V22/9 -> 1317.8889 | Y22: =X22+(X22*$Y$2) -> 1396.9622 | Z22: 1449.6778 | AA22: =Z22*12 -> 17396.133 | AB22: =(L22+N22+P22)/3 -> 975 | AF22: 1170 | AG22: =AF22/$AA22 -> 0.067256325 | AH22: 1386 | AI22: =AH22/$AA22 -> 0.079672877 | AJ22: 1932 | AK22: =AJ22/$AA22 -> 0.11105916 | AL22: 2226 | AM22: =AL22/$AA22 -> 0.12795947 | AN22: 1680 | AO22: =AN22/$AA22 -> 0.096573185 | AP22: 504 | AQ22: =AP22/$AA22 -> 0.028971955 | AR22: 126 | AS22: =AR22/$AA22 -> 0.0072429889 | AT22: 168 | AU22: =AT22/$AA22 -> 0.0096573185 | AV22: 672 | AW22: =AV22/$AA22 -> 0.038629274 | AY22: =AX22/$AA22 -> 0 | BA22: =AZ22/$AA22 -> 0 | BC22: =BB22/$AA22 -> 0 | BD22: =AF22+AH22+AJ22+AL22+AN22+AP22+AR22+AT22+AV22+AX22+AZ22+BB22 -> 9864 | BE22: =BD22/$AA22 -> 0.56702256
A23: RECEITAS CURSO DE VELA | B23: 547050 | C23: 54166.667 | D23: =SUM(D24:D27) -> 650000 | E23: =IFERROR((D23/B23)-1,0) -> 0.18819121 | F23: =SUM(F24:F27) -> 28201.41 | G23: =SUM(G24:G27) -> 55904.37 | H23: =SUM(H24:H27) -> 66876.38 | I23: =SUM(I24:I27) -> 64688.84 | J23: =SUM(J24:J27) -> 76900.79 | K23: =SUM(K24:K27) -> 103277.58 | L23: =SUM(L24:L27) -> 59195.99 | M23: =L23/C23 -> 1.092849 | N23: =SUM(N24:N27) -> 52008.9 | O23: =N23/C23 -> 0.96016431 | P23: =SUM(P24:P27) -> 50092.56 | Q23: =P23/$C23 -> 0.92478572 | R23: =SUM(R24:R27) -> 0 | S23: =SUM(S24:S27) -> 0 | T23: =SUM(T24:T27) -> 0 | U23: =T23/I23 -> 0 | V23: =SUM(V24:V27) -> 557146.82 | W23: =V23/D23 -> 0.85714895 | X23: =V23/9 -> 61905.202 | Y23: =SUM(Y24:Y27) -> 65619.514 | Z23: 68095.722 | AA23: =SUM(AA24:AA27) -> 817148.67 | AB23: =(L23+N23+P23)/3 -> 53765.817 | AF23: =SUM(AF24:AF27) -> 62458.02 | AG23: =AF23/$AA23 -> 0.076434096 | AH23: =SUM(AH24:AH27) -> 22561.42 | AI23: =AH23/$AA23 -> 0.027609933 | AJ23: =SUM(AJ24:AJ27) -> 54839.03 | AK23: =AJ23/$AA23 -> 0.067110224 | AL23: =SUM(AL24:AL27) -> 42969.64 | AM23: =AL23/$AA23 -> 0.05258485 | AN23: =SUM(AN24:AN27) -> 35577.21 | AO23: =AN23/$AA23 -> 0.043538234 | AP23: =SUM(AP24:AP27) -> 57308.09 | AQ23: =AP23/$AA23 -> 0.070131779 | AR23: =SUM(AR24:AR27) -> 59785.58 | AS23: =AR23/$AA23 -> 0.073163651 | AT23: =SUM(AT24:AT27) -> 27110.85 | AU23: =AT23/$AA23 -> 0.033177378 | AV23: =SUM(AV24:AV27) -> 37580.85 | AW23: =AV23/$AA23 -> 0.045990224 | AX23: =SUM(AX24:AX27) -> 0 | AY23: =AX23/$AA23 -> 0 | AZ23: =SUM(AZ24:AZ27) -> 0 | BA23: =AZ23/$AA23 -> 0 | BB23: =SUM(BB24:BB27) -> 0 | BC23: =BB23/$AA23 -> 0 | BD23: =SUM(BD24:BD27) -> 400190.69 | BE23: =BD23/$AA23 -> 0.48974037
A24: curso de vela | B24: 330750 | C24: 35416.667 | D24: 425000 | E24: =IFERROR((D24/B24)-1,0) -> 0.28495843 | F24: =1500.17 -> 1500.17 | G24: =37215+12260 -> 49475 | H24: =44264.82+15340 -> 59604.82 | I24: =42225+15470 -> 57695 | J24: =40002.5+9000+13895 -> 62897.5 | K24: =38170+1200+12330 -> 51700 | M24: =L24/C24 -> 0 | N24: =25450+11090 -> 36540 | O24: =N24/C24 -> 1.0317176 | P24: =33305+85+10060 -> 43450 | Q24: =P24/$C24 -> 1.2268235 | U24: =T24/I24 -> 0 | V24: =T24+S24+R24+P24+N24+L24+K24+J24+I24+H24+G24+F24 -> 362862.49 | W24: =V24/D24 -> 0.85379409 | X24: =V24/9 -> 40318.054 | Y24: =X24+(X24*$Y$2) -> 42737.138 | Z24: 44349.86 | AA24: =Z24*12 -> 532198.32 | AB24: =(L24+N24+P24)/3 -> 26663.333 | AF24: 460 | AG24: =AF24/$AA24 -> 0.00086433945 | AH24: =9110+6770 -> 15880 | AI24: =AH24/$AA24 -> 0.029838501 | AJ24: =13627.5+18000+9048 -> 40675.5 | AK24: =AJ24/$AA24 -> 0.076429216 | AL24: =23288+8050 -> 31338 | AM24: =AL24/$AA24 -> 0.058884064 | AN24: =20165+6970 -> 27135 | AO24: =AN24/$AA24 -> 0.050986632 | AP24: =17750+5570 -> 23320 | AQ24: =AP24/$AA24 -> 0.043818252 | AS24: =AR24/$AA24 -> 0 | AT24: =10567.5+4020 -> 14587.5 | AU24: =AT24/$AA24 -> 0.027409895 | AV24: =20882.5+4360 -> 25242.5 | AW24: =AV24/$AA24 -> 0.047430627 | AY24: =AX24/$AA24 -> 0 | BA24: =AZ24/$AA24 -> 0 | BC24: =BB24/$AA24 -> 0 | BD24: =AF24+AH24+AJ24+AL24+AN24+AP24+AR24+AT24+AV24+AX24+AZ24+BB24 -> 178638.5 | BE24: =BD24/$AA24 -> 0.33566153
A25: curso de vela adulto/arrais | B25: 126000 | C25: 8333.3333 | D25: 100000 | E25: =IFERROR((D25/B25)-1,0) -> -0.20634921 | F25: =5228.35 -> 5228.35 | G25: =5920 -> 5920 | H25: 6630 | I25: =5907.5 -> 5907.5 | J25: =8180+1200 -> 9380 | K25: =3520 -> 3520 | L25: =4150 -> 4150 | M25: =L25/C25 -> 0.498 | N25: =8895+1480 -> 10375 | O25: =N25/C25 -> 1.245 | P25: =4450+1480 -> 5930 | Q25: =P25/$C25 -> 0.7116 | U25: =T25/I25 -> 0 | V25: =T25+S25+R25+P25+N25+L25+K25+J25+I25+H25+G25+F25 -> 57040.85 | W25: =V25/D25 -> 0.5704085 | X25: =V25/9 -> 6337.8722 | Y25: =X25+(X25*$Y$2) -> 6718.1446 | Z25: 6971.6594 | AA25: =Z25*12 -> 83659.913 | AB25: =(L25+N25+P25)/3 -> 6818.3333 | AG25: =AF25/$AA25 -> 0 | AH25: =5295 -> 5295 | AI25: =AH25/$AA25 -> 0.063291961 | AJ25: =12641 -> 12641 | AK25: =AJ25/$AA25 -> 0.15109985 | AL25: =8600+500 -> 9100 | AM25: =AL25/$AA25 -> 0.10877372 | AN25: =5930 -> 5930 | AO25: =AN25/$AA25 -> 0.070882215 | AP25: =5325 -> 5325 | AQ25: =AP25/$AA25 -> 0.063650556 | AR25: 615 | AS25: =AR25/$AA25 -> 0.007351191 | AT25: 9425 | AU25: =AT25/$AA25 -> 0.1126585 | AV25: 10170 | AW25: =AV25/$AA25 -> 0.1215636 | AY25: =AX25/$AA25 -> 0 | BA25: =AZ25/$AA25 -> 0 | BC25: =BB25/$AA25 -> 0 | BD25: =AF25+AH25+AJ25+AL25+AN25+AP25+AR25+AT25+AV25+AX25+AZ25+BB25 -> 58501 | BE25: =BD25/$AA25 -> 0.69927158
A26: aluguel de barcos para a escola de vela | B26: 11550 | C26: 416.66667 | D26: 5000 | E26: =IFERROR((D26/B26)-1,0) -> -0.56709957 | F26: 64.39 | G26: 1289.37 | H26: 641.56 | I26: 1086.34 | J26: 1708.29 | K26: 128.78 | L26: 1255.99 | M26: =L26/C26 -> 3.014376 | N26: =1093.9+1900 -> 2993.9 | O26: =N26/C26 -> 7.18536 | P26: 712.56 | Q26: =P26/$C26 -> 1.710144 | U26: =T26/I26 -> 0 | V26: =T26+S26+R26+P26+N26+L26+K26+J26+I26+H26+G26+F26 -> 9881.18 | W26: =V26/D26 -> 1.976236 | X26: =V26/9 -> 1097.9089 | Y26: =X26+(X26*$Y$2) -> 1163.7834 | Z26: 1207.6998 | AA26: =Z26*12 -> 14492.397 | AB26: =(L26+N26+P26)/3 -> 1654.15 | AF26: 2433.02 | AG26: =AF26/$AA26 -> 0.16788251 | AH26: 1386.42 | AI26: =AH26/$AA26 -> 0.095665332 | AJ26: 1522.53 | AK26: =AJ26/$AA26 -> 0.10505715 | AL26: =1554.64+977 -> 2531.64 | AM26: =AL26/$AA26 -> 0.17468745 | AN26: =1737.21+775 -> 2512.21 | AO26: =AN26/$AA26 -> 0.17334675 | AP26: =14417.09 -> 14417.09 | AQ26: =AP26/$AA26 -> 0.99480367 | AR26: 4809.58 | AS26: =AR26/$AA26 -> 0.33186918 | AT26: 2768.35 | AU26: =AT26/$AA26 -> 0.19102085 | AV26: 2168.35 | AW26: =AV26/$AA26 -> 0.14961983 | AY26: =AX26/$AA26 -> 0 | BA26: =AZ26/$AA26 -> 0 | BC26: =BB26/$AA26 -> 0 | BD26: =AF26+AH26+AJ26+AL26+AN26+AP26+AR26+AT26+AV26+AX26+AZ26+BB26 -> 34549.19 | BE26: =BD26/$AA26 -> 2.3839527
A27: acampamento | B27: 78750 | C27: 10000 | D27: 120000 | E27: =IFERROR((D27/B27)-1,0) -> 0.52380952 | F27: =23038.5-1630 -> 21408.5 | G27: -780 | H27: 0 | J27: 2915 | K27: 47928.8 | L27: 53790 | M27: =L27/C27 -> 5.379 | N27: 2100 | O27: =N27/C27 -> 0.21 | Q27: =P27/$C27 -> 0 | U27: =T27/I27 -> #DIV/0! | V27: =T27+S27+R27+P27+N27+L27+K27+J27+I27+H27+G27+F27 -> 127362.3 | W27: =V27/D27 -> 1.0613525 | X27: =V27/9 -> 14151.367 | Y27: =X27+(X27*$Y$2) -> 15000.449 | Z27: 15566.503 | AA27: =Z27*12 -> 186798.04 | AB27: =(L27+N27+P27)/3 -> 18630 | AF27: 59565 | AG27: =AF27/$AA27 -> 0.3188738 | AI27: =AH27/$AA27 -> 0 | AK27: =AJ27/$AA27 -> 0 | AM27: =AL27/$AA27 -> 0 | AO27: =AN27/$AA27 -> 0 | AP27: =14246 -> 14246 | AQ27: =AP27/$AA27 -> 0.076264183 | AR27: 54361 | AS27: =AR27/$AA27 -> 0.29101483 | AT27: 330 | AU27: =AT27/$AA27 -> 0.0017666138 | AW27: =AV27/$AA27 -> 0 | AY27: =AX27/$AA27 -> 0 | BA27: =AZ27/$AA27 -> 0 | BC27: =BB27/$AA27 -> 0 | BD27: =AF27+AH27+AJ27+AL27+AN27+AP27+AR27+AT27+AV27+AX27+AZ27+BB27 -> 128502 | BE27: =BD27/$AA27 -> 0.68791942
A28: RECEITAS FINANCEIRAS | B28: 25000 | C28: 5833.3333 | D28: =D29 -> 70000 | E28: =IFERROR((D28/B28)-1,0) -> 1.8 | F28: =F29 -> 4947.87 | G28: =G29 -> 5242.73 | H28: =H29 -> 8175.67 | I28: =I29 -> 12315.92 | J28: =J29 -> 9857.24 | K28: =K29 -> 9875.9 | L28: =L29 -> 7706.82 | M28: =L28/C28 -> 1.3211691 | N28: =N29 -> 9828.14 | O28: =N28/C28 -> 1.684824 | P28: =P29 -> 2986.9 | Q28: =P28/$C28 -> 0.51204 | R28: =R29 -> 0 | S28: =S29 -> 0 | T28: =T29 -> 0 | U28: =T28/I28 -> 0 | V28: =V29 -> 70937.19 | W28: =V28/D28 -> 1.0133884 | X28: =V28/9 -> 7881.91 | Y28: =Y29 -> 8354.8246 | Z28: 8670.101 | AA28: =AA29 -> 36000 | AB28: =(L28+N28+P28)/3 -> 6840.62 | AF28: =AF29 -> 3124.8 | AG28: =AF28/$AA28 -> 0.0868 | AH28: =AH29 -> 2024.64 | AI28: =AH28/$AA28 -> 0.05624 | AJ28: =AJ29 -> 2568.9 | AK28: =AJ28/$AA28 -> 0.071358333 | AL28: =AL29 -> 3160.08 | AM28: =AL28/$AA28 -> 0.08778 | AN28: =AN29 -> 3606.44 | AO28: =AN28/$AA28 -> 0.10017889 | AP28: =AP29 -> 4008 | AQ28: =AP28/$AA28 -> 0.11133333 | AR28: =AR29 -> 3748.71 | AS28: =AR28/$AA28 -> 0.10413083 | AT28: =AT29 -> 4824 | AU28: =AT28/$AA28 -> 0.134 | AV28: =AV29 -> 3516.6 | AW28: =AV28/$AA28 -> 0.097683333 | AX28: =AX29 -> 0 | AY28: =AX28/$AA28 -> 0 | AZ28: =AZ29 -> 0 | BA28: =AZ28/$AA28 -> 0 | BB28: =BB29 -> 0 | BC28: =BB28/$AA28 -> 0 | BD28: =BD29 -> 30582.17 | BE28: =BD28/$AA28 -> 0.84950472
A29: Receitas Financeiras | B29: 25000 | C29: 5833.3333 | D29: 70000 | E29: =IFERROR((D29/B29)-1,0) -> 1.8 | F29: =9029.64-4935.81+854.04 -> 4947.87 | G29: =9641.21-4398.48 -> 5242.73 | H29: =7085.87-1924.47+3014.27 -> 8175.67 | I29: =11342.82+336.22+636.88 -> 12315.92 | J29: =8175.64+1681.6 -> 9857.24 | K29: 9875.9 | L29: 7706.82 | M29: =L29/C29 -> 1.3211691 | N29: 9828.14 | O29: =N29/C29 -> 1.684824 | P29: =8610.94-5624.04 -> 2986.9 | Q29: =P29/$C29 -> 0.51204 | U29: =T29/I29 -> 0 | V29: =T29+S29+R29+P29+N29+L29+K29+J29+I29+H29+G29+F29 -> 70937.19 | W29: =V29/D29 -> 1.0133884 | X29: =V29/9 -> 7881.91 | Y29: =X29+(X29*$Y$2) -> 8354.8246 | Z29: 3000 | AA29: =Z29*12 -> 36000 | AB29: =(L29+N29+P29)/3 -> 6840.62 | AF29: =866.59+2258.21 -> 3124.8 | AG29: =AF29/$AA29 -> 0.0868 | AH29: =737.5+1287.14 -> 2024.64 | AI29: =AH29/$AA29 -> 0.05624 | AJ29: 2568.9 | AK29: =AJ29/$AA29 -> 0.071358333 | AL29: =1518.51+1641.57 -> 3160.08 | AM29: =AL29/$AA29 -> 0.08778 | AN29: =2308.32+1298.12 -> 3606.44 | AO29: =AN29/$AA29 -> 0.10017889 | AP29: =2220.38+1787.62 -> 4008 | AQ29: =AP29/$AA29 -> 0.11133333 | AR29: =3748.71 -> 3748.71 | AS29: =AR29/$AA29 -> 0.10413083 | AT29: 4824 | AU29: =AT29/$AA29 -> 0.134 | AV29: =2006.64+1509.96 -> 3516.6 | AW29: =AV29/$AA29 -> 0.097683333 | AY29: =AX29/$AA29 -> 0 | BA29: =AZ29/$AA29 -> 0 | BC29: =BB29/$AA29 -> 0 | BD29: =AF29+AH29+AJ29+AL29+AN29+AP29+AR29+AT29+AV29+AX29+AZ29+BB29 -> 30582.17 | BE29: =BD29/$AA29 -> 0.84950472
A30: RECEITAS EVENTUAIS | B30: 151751 | C30: 35463.297 | D30: =SUM(D31:D34) -> 425559.56 | E30: =IFERROR((D30/B30)-1,0) -> 1.8043279 | F30: =SUM(F31:F34) -> 21919.81 | G30: =SUM(G31:G34) -> 34583.81 | H30: =SUM(H31:H34) -> 23772.81 | I30: =SUM(I31:I34) -> 33327.81 | J30: =SUM(J31:J34) -> 67120.81 | K30: =SUM(K31:K34) -> 26557.81 | L30: =SUM(L31:L34) -> 83891.81 | M30: =L30/C30 -> 2.3655954 | N30: =SUM(N31:N34) -> 61742.8 | O30: =N30/C30 -> 1.7410339 | P30: =SUM(P31:P34) -> 61639.81 | Q30: =P30/$C30 -> 1.7381297 | R30: =SUM(R31:R34) -> 0 | S30: =SUM(S31:S34) -> 0 | T30: =SUM(T31:T34) -> 0 | U30: =T30/I30 -> 0 | V30: =SUM(V31:V34) -> 414557.28 | W30: =V30/D30 -> 0.97414632 | X30: =V30/9 -> 46061.92 | Y30: =SUM(Y31:Y34) -> 48825.635 | Z30: 50668.112 | AA30: =SUM(AA31:AA34) -> 432000 | AB30: =(L30+N30+P30)/3 -> 69091.473 | AF30: =SUM(AF31:AF34) -> 14185.48 | AG30: =AF30/$AA30 -> 0.032836759 | AH30: =SUM(AH31:AH34) -> 46873.48 | AI30: =AH30/$AA30 -> 0.10850343 | AJ30: =SUM(AJ31:AJ34) -> 26903.48 | AK30: =AJ30/$AA30 -> 0.062276574 | AL30: =SUM(AL31:AL34) -> 10518.48 | AM30: =AL30/$AA30 -> 0.024348333 | AN30: =SUM(AN31:AN34) -> 67302.48 | AO30: =AN30/$AA30 -> 0.15579278 | AP30: =SUM(AP31:AP34) -> 16923.98 | AQ30: =AP30/$AA30 -> 0.03917588 | AR30: =SUM(AR31:AR34) -> 6628.48 | AS30: =AR30/$AA30 -> 0.015343704 | AT30: =SUM(AT31:AT34) -> 9820.98 | AU30: =AT30/$AA30 -> 0.02273375 | AV30: =SUM(AV31:AV34) -> 4740.48 | AW30: =AV30/$AA30 -> 0.010973333 | AX30: =SUM(AX31:AX34) -> 0 | AY30: =AX30/$AA30 -> 0 | AZ30: =SUM(AZ31:AZ34) -> 0 | BA30: =AZ30/$AA30 -> 0 | BB30: =SUM(BB31:BB34) -> 0 | BC30: =BB30/$AA30 -> 0 | BD30: =SUM(BD31:BD34) -> 197068.32 | BE30: =BD30/$AA30 -> 0.45617667
A31: Tx transferência | B31: 0 | C31: 16666.667 | D31: 200000 | E31: =IFERROR((D31/B31)-1,0) -> 0 | F31: 20000 | G31: 20000 | H31: 20300 | I31: 20000 | J31: 40000 | K31: 20000 | L31: 40000 | M31: =L31/C31 -> 2.4 | N31: 40000 | O31: =N31/C31 -> 2.4 | P31: 40000 | Q31: =P31/$C31 -> 2.4 | U31: =T31/I31 -> 0 | V31: =T31+S31+R31+P31+N31+L31+K31+J31+I31+H31+G31+F31 -> 260300 | W31: =V31/D31 -> 1.3015 | X31: =V31/9 -> 28922.222 | Y31: =X31+(X31*$Y$2) -> 30657.556 | Z31: =30000 -> 30000 | AA31: =Z31*12 -> 360000 | AB31: =(L31+N31+P31)/3 -> 40000 | AG31: =AF31/$AA31 -> 0 | AH31: 40000 | AI31: =AH31/$AA31 -> 0.11111111 | AJ31: 20000 | AK31: =AJ31/$AA31 -> 0.055555556 | AM31: =AL31/$AA31 -> 0 | AN31: 20000 | AO31: =AN31/$AA31 -> 0.055555556 | AP31: 8000 | AQ31: =AP31/$AA31 -> 0.022222222 | AS31: =AR31/$AA31 -> 0 | AU31: =AT31/$AA31 -> 0 | AW31: =AV31/$AA31 -> 0 | AY31: =AX31/$AA31 -> 0 | BA31: =AZ31/$AA31 -> 0 | BC31: =BB31/$AA31 -> 0 | BD31: =AF31+AH31+AJ31+AL31+AN31+AP31+AR31+AT31+AV31+AX31+AZ31+BB31 -> 88000 | BE31: =BD31/$AA31 -> 0.24444444
A32: título | B32: 0 | C32: 4166.6667 | D32: 50000 | E32: =IFERROR((D32/B32)-1,0) -> 0 | F32: 0 | J32: 10000 | L32: 5000 | M32: =L32/C32 -> 1.2 | N32: 10000 | O32: =N32/C32 -> 2.4 | P32: 10000 | Q32: =P32/$C32 -> 2.4 | U32: =T32/I32 -> #DIV/0! | V32: =T32+S32+R32+P32+N32+L32+K32+J32+I32+H32+G32+F32 -> 35000 | W32: =V32/D32 -> 0.7 | X32: =V32/9 -> 3888.8889 | Y32: =X32+(X32*$Y$2) -> 4122.2222 | Z32: 5000 | AA32: =Z32*12 -> 60000 | AB32: =(L32+N32+P32)/3 -> 8333.3333 | AG32: =AF32/$AA32 -> 0 | AH32: 5000 | AI32: =AH32/$AA32 -> 0.083333333 | AK32: =AJ32/$AA32 -> 0 | AL32: 5000 | AM32: =AL32/$AA32 -> 0.083333333 | AN32: 12500 | AO32: =AN32/$AA32 -> 0.20833333 | AQ32: =AP32/$AA32 -> 0 | AR32: 4000 | AS32: =AR32/$AA32 -> 0.066666667 | AT32: 5000 | AU32: =AT32/$AA32 -> 0.083333333 | AW32: =AV32/$AA32 -> 0 | AY32: =AX32/$AA32 -> 0 | BA32: =AZ32/$AA32 -> 0 | BC32: =BB32/$AA32 -> 0 | BD32: =AF32+AH32+AJ32+AL32+AN32+AP32+AR32+AT32+AV32+AX32+AZ32+BB32 -> 31500 | BE32: =BD32/$AA32 -> 0.525
A33: aluguel sede | B33: 151751 | C33: 14629.963 | D33: =C33*12 -> 175559.56 | E33: =IFERROR((D33/B33)-1,0) -> 0.15689228 | F33: =576+1343.81 -> 1919.81 | G33: 14583.81 | H33: =1013+2459.81 -> 3472.81 | I33: =4826+8501.81 -> 13327.81 | J33: =3660+13460.81 -> 17120.81 | K33: =1457+5100.81 -> 6557.81 | L33: =1664+227.81 -> 1891.81 | M33: =L33/C33 -> 0.12931065 | N33: =1514.99+34227.81-24000 -> 11742.8 | O33: =N33/C33 -> 0.8026541 | P33: =1412+40227.81-30000 -> 11639.81 | Q33: =P33/$C33 -> 0.79561443 | U33: =T33/I33 -> 0 | V33: =T33+S33+R33+P33+N33+L33+K33+J33+I33+H33+G33+F33 -> 82257.28 | W33: =V33/D33 -> 0.46854344 | X33: =V33/9 -> 9139.6978 | Y33: =X33+(X33*$Y$2) -> 9688.0796 | Z33: 1000 | AA33: =Z33*12 -> 12000 | AB33: =(L33+N33+P33)/3 -> 8424.8067 | AC33: Explicar razão do valor não acompanhar 2022 | AF33: =13944+241.48 -> 14185.48 | AG33: =AF33/$AA33 -> 1.1821233 | AH33: =1632+241.48 -> 1873.48 | AI33: =AH33/$AA33 -> 0.15612333 | AJ33: =6662+241.48 -> 6903.48 | AK33: =AJ33/$AA33 -> 0.57529 | AL33: =4477+1041.48 -> 5518.48 | AM33: =AL33/$AA33 -> 0.45987333 | AN33: =4561+30241.48 -> 34802.48 | AO33: =AN33/$AA33 -> 2.9002067 | AP33: =1853.5+241.48 -> 2094.98 | AQ33: =AP33/$AA33 -> 0.17458167 | AR33: =2387+241.48 -> 2628.48 | AS33: =AR33/$AA33 -> 0.21904 | AT33: =4579.5+241.48 -> 4820.98 | AU33: =AT33/$AA33 -> 0.40174833 | AV33: =4499+241.48 -> 4740.48 | AW33: =AV33/$AA33 -> 0.39504 | AY33: =AX33/$AA33 -> 0 | BA33: =AZ33/$AA33 -> 0 | BC33: =BB33/$AA33 -> 0 | BD33: =AF33+AH33+AJ33+AL33+AN33+AP33+AR33+AT33+AV33+AX33+AZ33+BB33 -> 77568.32 | BE33: =BD33/$AA33 -> 6.4640267
A34: venda de imobilizado / doações | L34: 37000 | O34: =N34/C34 -> #DIV/0! | Q34: =P34/$C34 -> #DIV/0! | V34: =T34+S34+R34+P34+N34+L34+K34+J34+I34+H34+G34+F34 -> 37000 | X34: =V34/9 -> 4111.1111 | Y34: =X34+(X34*$Y$2) -> 4357.7778 | Z34: 0 | AA34: =Z34*12 -> 0 | AB34: =(L34+N34+P34)/3 -> 12333.333 | AP34: 6829
A35: RECEITAS DIRETORIA DE VELA | B35: 319400 | C35: 20916.667 | D35: =SUM(D36:D41) -> 251000 | E35: =IFERROR((D35/B35)-1,0) -> -0.21415153 | F35: =SUM(F36:F41) -> 0 | G35: =SUM(G36:G41) -> 71951 | H35: =SUM(H36:H41) -> 31110.97 | I35: =SUM(I36:I41) -> 45624.96 | J35: =SUM(J36:J41) -> 36870 | K35: =SUM(K36:K41) -> 37680 | L35: =SUM(L36:L41) -> 27800 | M35: =L35/C35 -> 1.3290837 | N35: =SUM(N36:N41) -> 40500 | O35: =N35/C35 -> 1.936255 | P35: =SUM(P36:P41) -> 70094.97 | Q35: =P35/$C35 -> 3.3511539 | R35: =SUM(R36:R41) -> 0 | S35: =SUM(S36:S41) -> 0 | T35: =SUM(T36:T41) -> 0 | U35: =T35/I35 -> 0 | V35: =SUM(V36:V41) -> 361631.9 | W35: =V35/D35 -> 1.4407645 | X35: =V35/9 -> 40181.322 | Y35: =SUM(Y36:Y41) -> 42592.202 | Z35: 44199.454 | AA35: =SUM(AA36:AA41) -> 530393.45 | AB35: =(L35+N35+P35)/3 -> 46131.657 | AF35: =SUM(AF36:AF41) -> 2500 | AG35: =AF35/$AA35 -> 0.004713482 | AH35: =SUM(AH36:AH41) -> 34297.83 | AI35: =AH35/$AA35 -> 0.064664882 | AJ35: =SUM(AJ36:AJ41) -> 41163 | AK35: =AJ35/$AA35 -> 0.077608424 | AL35: =SUM(AL36:AL41) -> 36183.77 | AM35: =AL35/$AA35 -> 0.06822062 | AN35: =SUM(AN36:AN41) -> 38603.68 | AO35: =AN35/$AA35 -> 0.0727831 | AP35: =SUM(AP36:AP41) -> 38902.6 | AQ35: =AP35/$AA35 -> 0.073346682 | AR35: =SUM(AR36:AR41) -> 39390.25 | AS35: =AR35/$AA35 -> 0.074266094 | AT35: =SUM(AT36:AT41) -> 33417.6 | AU35: =AT35/$AA35 -> 0.063005303 | AV35: =SUM(AV36:AV41) -> 35253 | AW35: =AV35/$AA35 -> 0.066465753 | AX35: =SUM(AX36:AX41) -> 0 | AY35: =AX35/$AA35 -> 0 | AZ35: =SUM(AZ36:AZ41) -> 0 | BA35: =AZ35/$AA35 -> 0 | BB35: =SUM(BB36:BB41) -> 0 | BC35: =BB35/$AA35 -> 0 | BD35: =SUM(BD36:BD41) -> 299711.73 | BE35: =BD35/$AA35 -> 0.56507434
A36: Eventos Náuticos | B36: 20000 | C36: 2500 | D36: 30000 | E36: =IFERROR((D36/B36)-1,0) -> 0.5 | F36: 0 | G36: 48861 | H36: 450 | I36: 13150 | J36: 1200 | K36: 1350 | L36: 1350 | M36: =L36/C36 -> 0.54 | N36: 1800 | O36: =N36/C36 -> 0.72 | P36: 1250 | Q36: =P36/$C36 -> 0.5 | U36: =T36/I36 -> 0 | V36: =T36+S36+R36+P36+N36+L36+K36+J36+I36+H36+G36+F36 -> 69411 | W36: =V36/D36 -> 2.3137 | X36: =V36/9 -> 7712.3333 | Y36: =X36+(X36*$Y$2) -> 8175.0733 | Z36: 8483.5667 | AA36: =Z36*12 -> 101802.8 | AB36: =(L36+N36+P36)/3 -> 1466.6667 | AC36: Avaliar quais eventos náuticos teremos | AG36: =AF36/$AA36 -> 0 | AH36: 2638 | AI36: =AH36/$AA36 -> 0.025912843 | AJ36: 801 | AK36: =AJ36/$AA36 -> 0.0078681529 | AL36: 2400 | AM36: =AL36/$AA36 -> 0.02357499 | AO36: =AN36/$AA36 -> 0 | AP36: 159 | AQ36: =AP36/$AA36 -> 0.0015618431 | AR36: 2166.65 | AS36: =AR36/$AA36 -> 0.021282813 | AT36: 1159 | AU36: =AT36/$AA36 -> 0.011384756 | AV36: 159 | AW36: =AV36/$AA36 -> 0.0015618431 | AY36: =AX36/$AA36 -> 0 | BA36: =AZ36/$AA36 -> 0 | BC36: =BB36/$AA36 -> 0 | BD36: =AF36+AH36+AJ36+AL36+AN36+AP36+AR36+AT36+AV36+AX36+AZ36+BB36 -> 9482.65 | BE36: =BD36/$AA36 -> 0.093147242
A37: Inscrições de regatas | B37: 25000 | C37: 1250 | D37: 15000 | E37: =IFERROR((D37/B37)-1,0) -> -0.4 | F37: 0 | H37: 4900.97 | I37: 6350 | J37: 9150 | K37: 10820 | M37: =L37/C37 -> 0 | N37: 8180 | O37: =N37/C37 -> 6.544 | P37: 820 | Q37: =P37/$C37 -> 0.656 | U37: =T37/I37 -> 0 | V37: =T37+S37+R37+P37+N37+L37+K37+J37+I37+H37+G37+F37 -> 40220.97 | W37: =V37/D37 -> 2.681398 | X37: =V37/9 -> 4468.9967 | Y37: =X37+(X37*$Y$2) -> 4737.1365 | Z37: 4915.8963 | AA37: =Z37*12 -> 58990.756 | AB37: =(L37+N37+P37)/3 -> 3000 | AC37: Avaliar se quantidade e tamanho de regatas comparável com 2022 | AG37: =AF37/$AA37 -> 0 | AI37: =AH37/$AA37 -> 0 | AJ37: 5180 | AK37: =AJ37/$AA37 -> 0.087810368 | AM37: =AL37/$AA37 -> 0 | AN37: 4160.08 | AO37: =AN37/$AA37 -> 0.07052088 | AP37: 3300 | AQ37: =AP37/$AA37 -> 0.055940968 | AR37: 330 | AS37: =AR37/$AA37 -> 0.0055940968 | AU37: =AT37/$AA37 -> 0 | AW37: =AV37/$AA37 -> 0 | AY37: =AX37/$AA37 -> 0 | BA37: =AZ37/$AA37 -> 0 | BC37: =BB37/$AA37 -> 0 | BD37: =AF37+AH37+AJ37+AL37+AN37+AP37+AR37+AT37+AV37+AX37+AZ37+BB37 -> 12970.08 | BE37: =BD37/$AA37 -> 0.21986631
A38: Uniforme flotilha | B38: 0 | C38: 1666.6667 | D38: 20000 | E38: =IFERROR((D38/B38)-1,0) -> 0 | F38: 0 | M38: =L38/C38 -> 0 | O38: =N38/C38 -> 0 | P38: 32820 | Q38: =P38/$C38 -> 19.692 | U38: =T38/I38 -> #DIV/0! | V38: =T38+S38+R38+P38+N38+L38+K38+J38+I38+H38+G38+F38 -> 32820 | W38: =V38/D38 -> 1.641 | X38: =V38/9 -> 3646.6667 | Y38: =X38+(X38*$Y$2) -> 3865.4667 | Z38: 4011.3333 | AA38: =Z38*12 -> 48136 | AB38: =(L38+N38+P38)/3 -> 10940 | AC38: Estimar se haverá renovação de uniformes dados que os gastos ocorreram nos meses mais próximos ao final do ano | AG38: =AF38/$AA38 -> 0 | AI38: =AH38/$AA38 -> 0 | AK38: =AJ38/$AA38 -> 0 | AM38: =AL38/$AA38 -> 0 | AO38: =AN38/$AA38 -> 0 | AQ38: =AP38/$AA38 -> 0 | AS38: =AR38/$AA38 -> 0 | AU38: =AT38/$AA38 -> 0 | AW38: =AV38/$AA38 -> 0 | AY38: =AX38/$AA38 -> 0 | BA38: =AZ38/$AA38 -> 0 | BC38: =BB38/$AA38 -> 0 | BD38: =AF38+AH38+AJ38+AL38+AN38+AP38+AR38+AT38+AV38+AX38+AZ38+BB38 -> 0 | BE38: =BD38/$AA38 -> 0
A39: FEVESP - Patrocinio (juizes) | B39: 0 | C39: 0 | D39: 0 | E39: =IFERROR((D39/B39)-1,0) -> 0 | F39: 0 | M39: =L39/C39 -> #DIV/0! | O39: =N39/C39 -> #DIV/0! | Q39: =P39/$C39 -> #DIV/0! | U39: =T39/I39 -> #DIV/0! | V39: =T39+S39+R39+P39+N39+L39+K39+J39+I39+H39+G39+F39 -> 0 | W39: =V39/D39 -> #DIV/0! | X39: =V39/9 -> 0 | Y39: =X39+(X39*$Y$2) -> 0 | Z39: 0 | AA39: =Z39*12 -> 0 | AB39: =(L39+N39+P39)/3 -> 0 | BD39: =AF39+AH39+AJ39+AL39+AN39+AP39+AR39+AT39+AV39+AX39+AZ39+BB39 -> 0
A40: Aluguel de barcos | B40: 11000 | C40: 833.33333 | D40: 10000 | E40: =IFERROR((D40/B40)-1,0) -> -0.090909091 | F40: 0 | M40: =L40/C40 -> 0 | O40: =N40/C40 -> 0 | Q40: =P40/$C40 -> 0 | U40: =T40/I40 -> #DIV/0! | V40: =T40+S40+R40+P40+N40+L40+K40+J40+I40+H40+G40+F40 -> 0 | W40: =V40/D40 -> 0 | X40: =V40/9 -> 0 | Y40: =X40+(X40*$Y$2) -> 0 | Z40: 0 | AA40: =Z40*12 -> 0 | AB40: =(L40+N40+P40)/3 -> 0 | BD40: =AF40+AH40+AJ40+AL40+AN40+AP40+AR40+AT40+AV40+AX40+AZ40+BB40 -> 0
A41: Acompanhamento técnico | B41: 263400 | C41: 14666.667 | D41: 176000 | E41: =IFERROR((D41/B41)-1,0) -> -0.33181473 | F41: 0 | G41: 23090 | H41: 25760 | I41: 26124.96 | J41: 26520 | K41: 25510 | L41: 26450 | M41: =L41/C41 -> 1.8034091 | N41: 30520 | O41: =N41/C41 -> 2.0809091 | P41: 35204.97 | Q41: =P41/$C41 -> 2.4003389 | U41: =T41/I41 -> 0 | V41: =T41+S41+R41+P41+N41+L41+K41+J41+I41+H41+G41+F41 -> 219179.93 | W41: =V41/D41 -> 1.2453405 | X41: =V41/9 -> 24353.326 | Y41: =X41+(X41*$Y$2) -> 25814.525 | Z41: 26788.658 | AA41: =Z41*12 -> 321463.9 | AB41: =(L41+N41+P41)/3 -> 30724.99 | AF41: 2500 | AG41: =AF41/$AA41 -> 0.0077769231 | AH41: 31659.83 | AI41: =AH41/$AA41 -> 0.098486425 | AJ41: 35182 | AK41: =AJ41/$AA41 -> 0.10944308 | AL41: 33783.77 | AM41: =AL41/$AA41 -> 0.10509351 | AN41: 34443.6 | AO41: =AN41/$AA41 -> 0.10714609 | AP41: 35443.6 | AQ41: =AP41/$AA41 -> 0.11025686 | AR41: 36893.6 | AS41: =AR41/$AA41 -> 0.11476748 | AT41: 32258.6 | AU41: =AT41/$AA41 -> 0.10034906 | AV41: 35094 | AW41: =AV41/$AA41 -> 0.10916934 | AY41: =AX41/$AA41 -> 0 | BA41: =AZ41/$AA41 -> 0 | BC41: =BB41/$AA41 -> 0 | BD41: =AF41+AH41+AJ41+AL41+AN41+AP41+AR41+AT41+AV41+AX41+AZ41+BB41 -> 277259 | BE41: =BD41/$AA41 -> 0.86248877
...

Sheet Mensalidades
A1: Categorias | B1: Quantidade | C1: Valor mensalidade | D1: Total 2022 | E1: 2023 | F1: TX Obras | G1: Total | I1: TX Transf | J1: Título | K1: Total Tx Transf | L1: Total Título | M1: 1.1
A3: Proprietário | B3: 222 | C3: 834.71 | D3: =(C3*12)*B3 -> 2223667.4 | E3: =D3*$M$1 -> 2446034.2 | G3: =(F3*B3)*12 -> 0
A4: Proprietário individual | B4: 3 | C4: 723.6 | D4: =(C4*12)*B4 -> 26049.6 | E4: =D4*$M$1 -> 28654.56 | G4: =(F4*B4)*12 -> 0
A5: Ausente | B5: 15 | C5: 417.36 | D5: =(C5*12)*B5 -> 75124.8 | E5: =D5*$M$1 -> 82637.28 | G5: =(F5*B5)*12 -> 0
A6: Veterano Pagante 70% | B6: 3 | C6: 584.29 | D6: =(C6*12)*B6 -> 21034.44 | E6: =D6*$M$1 -> 23137.884 | G6: =(F6*B6)*12 -> 0
A7: Veterano Pagante 50% | B7: 1 | C7: 417.36 | D7: =(C7*12)*B7 -> 5008.32 | E7: =D7*$M$1 -> 5509.152 | G7: =(F7*B7)*12 -> 0
A8: Veterano Pagante 10% | B8: 6 | C8: 83.47 | D8: =(C8*12)*B8 -> 6009.84 | E8: =D8*$M$1 -> 6610.824 | G8: =(F8*B8)*12 -> 0
A9: Remido | B9: 63 | D9: =(C9*12)*B9 -> 0 | E9: =D9*$M$1 -> 0
A10: Honorário Pagante | B10: 0 | D10: =(C10*12)*B10 -> 0 | E10: =D10*$M$1 -> 0
A11: Honorário não pagante | B11: 9 | D11: =(C11*12)*B11 -> 0 | E11: =D11*$M$1 -> 0
B12: =SUM(B3:B11) -> 322 | C12: TOTAL | D12: =SUM(D3:D11) -> 2356894.4 | E12: =SUM(E3:E11) -> 2592583.9
I13: =2354880*88.5 -> 208406880
A14: Eportista | B14: 22 | C14: 417.36 | D14: =(C14*12)*B14 -> 110183.04 | E14: =D14*$M$1 -> 121201.34 | G14: =(F14*B14)*12 -> 0 | I14: =I13/100 -> 2084068.8
G15: =SUM(G3:G14) -> 0
A34: Eportista | B34: 14 | C34: 301.06 | D34: =(C34*12)*B34 -> 50578.08
