Workbook

Sheet resumo
B2: RECEITAS | E2: DESPESAS | H2: DIFERENÇA
B4: RECEITAS DE CUSTEIO | C4: =SUM(C6:C18)+0.3 -> 4400565.5 | E4: DESPESAS DE CUSTEIO | F4: =SUM(F6:F16) -> 4457853.9 | H4: =C4-F4 -> -57288.463 | I4: =F4-Budget!D51 -> 0
B6: RECEITAS SOCIAIS | C6: =D7+D8 -> 3349565.2 | E6: ADMINISTRATIVAS | F6: =SUM(G7:G11) -> 3045993.9 | H6: =C6-F6 -> 303571.24
B7: CONTRIBUIÇÕES SOCIAIS | D7: =Budget!D11 -> 2287141.7 | E7: PESSOAL | G7: =Budget!D54 -> 1676880
B8: RECEITAS DE SERVIÇOS DIVERSOS | D8: =Budget!D16 -> 1062423.4 | E8: OPERACIONAIS | G8: =Budget!D67+Budget!D69+Budget!D77+Budget!D84+Budget!D153 -> 975655.29
E9: MANUTENÇÃO | G9: =Budget!D157 -> 276000
B10: =D7+SUM(Budget!B17:B20) -> 3168920.7 | E10: IMPOSTOS E TAXAS | G10: =Budget!D163 -> 35738.64
E11: ASSOCIAÇÕES | G11: =Budget!D109 -> 81720
B13: ESCOLA DE VELA | C13: =Budget!D25 -> 650000 | F13: =Budget!D115 -> 650000 | H13: =C13-F13 -> 0
B14: DIRETORIA DE VELA | C14: =Budget!D38 -> 251000 | F14: =Budget!D134 -> 631860 | H14: =C14-F14 -> -380860
B15: DIRETORIA SOCIAL | C15: =Budget!D45 -> 80000 | F15: =Budget!D94 -> 130000 | H15: =C15-F15 -> -50000
H16: =C16-F16 -> 0
B18: RECEITAS FINANCEIRAS | C18: =Budget!D30 -> 70000 | H18: =C18-F11 -> 70000
B21: REAJUSTE NA MENSALIDADE | C21: 0.115
B22: DEFICIT DO PERÍODO | C22: =H4 -> -57288.463
B23: SOBRA DE CAIXA 2021 | C23: 900000
B24: RECEITAS EVENTUAIS | C24: =Budget!D32 -> 425559.56 | D24: (Títulos novos sócio, eventos restaurante)
B25: TOTAL DE RECURSOS | C25: =SUM(C22:C24) -> 1268271.1
F26: 2022 | G26: 2023 | H26: 2024
B27: CAIXA MÍNIMO | C27: 600000
B28: DISPONIBILIDADE P/INVESTIMENTOS | C28: =C25-C27 -> 668271.1 | E28: INVESTIMENTOS | F28: 767500 | G28: 630000 | H28: 273000

Sheet Budget
B2: Proposta 2021 | C2: Proposta mensal 2022 | D2: Proposta 2022 - anual | E2: Variação 22/21 | F2: 44562 | G2: 44593 | H2: 44621 | I2: 44652 | J2: 44682 | K2: 44713 | L2: 44743 | M2: % | N2: 44774 | O2: % | P2: 44805 | Q2: % | R2: 44835 | S2: % | T2: 44866 | U2: % | V2: 44896 | W2: % | X2: Total 2022 | Y2: %
A6: RECEITAS | B6: 4233645.4 | C6: 402171.6 | D6: =D8+D32 -> 4826124.7 | E6: =IFERROR((D6/B6)-1,0) -> 0.13994542 | F6: =F8+F32 -> 329386.28 | G6: =G8+G32 -> 437075.11 | H6: =H8+H32 -> 401672.83 | I6: =I8+I32 -> 494155.45 | J6: =J8+J32 -> 464165.14 | K6: =K8+K32 -> 512464.2 | L6: =L8+L32 -> 446052.24 | M6: =L6/C6 -> 1.1091092 | N6: =N8+N32 -> 464897.11 | O6: =N6/$C6 -> 1.155967 | P6: =P8+P32 -> 475523.38 | Q6: =P6/$C6 -> 1.1823892 | R6: =R8+R32 -> 382128.7 | S6: =R6/$C6 -> 0.9501633 | T6: =T8+T32 -> 409360.78 | U6: =T6/$C6 -> 1.0178759 | V6: =V8+V32 -> 0 | W6: =V6/I6 -> 0 | X6: =X8+X32 -> 4816881.2 | Y6: =X6/D6 -> 0.99808469
A8: RECEITAS DE CUSTEIO | B8: 4081894.4 | C8: 366708.31 | D8: =D10+D25+D30+D38+D45 -> 4400565.2 | E8: =IFERROR((D8/B8)-1,0) -> 0.078069323 | F8: =F10+F25+F30+F38+F45 -> 307466.47 | G8: =G10+G25+G30+G38+G45 -> 402491.3 | H8: =H10+H25+H30+H38+H45 -> 377900.02 | I8: =I10+I25+I30+I38+I45 -> 460827.64 | J8: =J10+J25+J30+J38+J45 -> 397044.33 | K8: =K10+K25+K30+K38+K45 -> 485906.39 | L8: =L10+L25+L30+L38+L45 -> 362160.43 | M8: =L8/C8 -> 0.98759812 | N8: =N10+N25+N30+N38+N45 -> 403154.31 | O8: =N8/C8 -> 1.0993869 | P8: =P10+P25+P30+P38+P45 -> 413883.57 | Q8: =P8/$C8 -> 1.1286452 | R8: =R10+R25+R30+R38+R45 -> 381394.89 | S8: =R8/$C8 -> 1.0400498 | T8: =T10+T25+T30+T38+T45 -> 374147.97 | U8: =T8/$C8 -> 1.0202877 | V8: =V10+V25+V30+V38+V45 -> 0 | W8: =V8/I8 -> 0 | X8: =X10+X25+X30+X38+X45 -> 4366377.3 | Y8: =X8/D8 -> 0.99223103
A10: CONTRIBUIÇÕES SOCIAIS | B10: 3127463.7 | C10: 279124.97 | D10: =D11+D16 -> 3349565.2 | E10: =IFERROR((D10/B10)-1,0) -> 0.07101648 | F10: =F11+F16 -> 274317.19 | G10: =G11+G16 -> 269393.2 | H10: =H11+H16 -> 271737 | I10: =I11+I16 -> 313554.52 | J10: =J11+J16 -> 271976.3 | K10: =K11+K16 -> 269252.91 | L10: =L11+L16 -> 267457.62 | M10: =L10/C10 -> 0.95820027 | N10: =N11+N16 -> 300817.27 | O10: =N10/C10 -> 1.0777153 | P10: =P11+P16 -> 290709.14 | Q10: =P10/$C10 -> 1.0415017 | R10: =R11+R16 -> 286956.73 | S10: =R10/$C10 -> 1.0280582 | T10: =T11+T16 -> 279315.88 | U10: =T10/$C10 -> 1.0006839 | V10: =V11+V16 -> 0 | W10: =V10/C10 -> 0 | X10: =X11+X16 -> 3095487.8 | Y10: =X10/D10 -> 0.92414615
A11: RECEITAS SOCIAIS | B11: 2149282.9 | C11: 190589.69 | D11: =SUM(D12:D15) -> 2287141.7 | E11: =IFERROR((D11/B11)-1,0) -> 0.064141758 | F11: =SUM(F12:F15) -> 192839.42 | G11: =SUM(G12:G15) -> 190435.3 | H11: =SUM(H12:H15) -> 191291.75 | I11: =SUM(I12:I15) -> 192126.47 | J11: =SUM(J12:J15) -> 189879.41 | K11: =SUM(K12:K15) -> 190271.72 | L11: =SUM(L12:L15) -> 190193.26 | M11: =L11/C11 -> 0.99791996 | N11: =SUM(N12:N15) -> 195101.39 | O11: =N11/C11 -> 1.0236723 | P11: =SUM(P12:P15) -> 195390.2 | Q11: =P11/$C11 -> 1.0251876 | R11: =SUM(R12:R15) -> 195757.37 | S11: =R11/$C11 -> 1.0271142 | T11: =SUM(T12:T15) -> 192333.47 | U11: =T11/$C11 -> 1.0091494 | V11: =SUM(V12:V15) -> 0 | W11: =V11/I11 -> 0 | X11: =SUM(X12:X15) -> 2115619.7 | Y11: =X11/D11 -> 0.92500596
A12: Mensalidade de Sócios | B12: 2211010.3 | C12: =D12/12 -> 195656.87 | D12: =Mensalidades!E12 -> 2347882.4 | E12: =(D12/B12)-1 -> 0.061904762 | F12: 199820.32 | G12: 198150.75 | H12: 196397.86 | I12: 196397.86 | J12: 194895.37 | K12: 195312.72 | L12: 195229.25 | M12: =L12/C12 -> 0.99781446 | N12: 196898.67 | O12: =N12/C12 -> 1.0063468 | P12: 197649.91 | Q12: =P12/$C12 -> 1.0101864 | R12: 198484.52 | S12: =R12/$C12 -> 1.0144521 | T12: =196564.78-834.71 -> 195730.07 | U12: =T12/$C12 -> 1.0003741 | W12: =V12/I12 -> 0 | X12: =V12+T12+R12+P12+N12+L12+K12+J12+I12+H12+G12+F12 -> 2164967.3 | Y12: =X12/D12 -> 0.92209359
A13: Mensalidade de Sócio Esportista | B13: 75460.896 | C13: 6124.0892 | D13: =Mensalidades!E14 -> 80132.285 | E13: =IFERROR((D13/B13)-1,0) -> 0.061904762 | F13: 5008.32 | G13: 4173.6 | H13: 6677.76 | I13: 7512.48 | J13: 6677.76 | K13: 6677.76 | L13: 6677.76 | M13: =L13/C13 -> 1.0904087 | N13: 10016.64 | O13: =N13/C13 -> 1.635613 | P13: 9599.28 | Q13: =P13/$C13 -> 1.5674625 | R13: 9181.92 | S13: =R13/$C13 -> 1.4993119 | T13: 8347.2 | U13: =T13/$C13 -> 1.3630108 | W13: =V13/I13 -> 0 | X13: =V13+T13+R13+P13+N13+L13+K13+J13+I13+H13+G13+F13 -> 80550.48 | Y13: =X13/D13 -> 1.0052188
A14: tx de obras | B14: 0 | M14: =L14/C14 -> #DIV/0! | O14: =N14/C14 -> #DIV/0! | Q14: =P14/$C14 -> #DIV/0! | S14: =R14/$C14 -> #DIV/0! | U14: =T14/$C14 -> #DIV/0! | W14: =V14/I14 -> #DIV/0! | Y14: =X14/D14 -> #DIV/0!
A15: FUNDO PRÓ-VELA | B15: -137188.27 | C15: -11774.4 | D15: =-D12*0.06 -> -140872.94 | E15: =IFERROR((D15/B15)-1,0) -> 0.026858493 | F15: =-F12*0.06 -> -11989.219 | G15: =-G12*0.06 -> -11889.045 | H15: =-H12*0.06 -> -11783.872 | I15: =-I12*0.06 -> -11783.872 | J15: =-J12*0.06 -> -11693.722 | K15: =-K12*0.06 -> -11718.763 | L15: =-L12*0.06 -> -11713.755 | M15: =L15/C15 -> 0.99484942 | N15: =-N12*0.06 -> -11813.92 | O15: =N15/C15 -> 1.0033565 | P15: =-P12*0.06 -> -11858.995 | Q15: =P15/$C15 -> 1.0071846 | R15: =-R12*0.06 -> -11909.071 | S15: =R15/$C15 -> 1.0114376 | T15: =-T12*0.06 -> -11743.804 | U15: =T15/$C15 -> 0.9974015 | V15: =-V12*0.06 -> 0 | W15: =V15/I15 -> 0 | X15: =-X12*0.06 -> -129898.04 | Y15: =X15/D15 -> 0.92209359
A16: RECEITAS DE SERVIÇOS DIVERSOS | B16: 978180.75 | C16: 88535.286 | D16: =SUM(D17:D24) -> 1062423.4 | E16: =IFERROR((D16/B16)-1,0) -> 0.08612179 | F16: =SUM(F17:F24) -> 81477.77 | G16: =SUM(G17:G24) -> 78957.9 | H16: =SUM(H17:H24) -> 80445.25 | I16: =SUM(I17:I24) -> 121428.05 | J16: =SUM(J17:J24) -> 82096.89 | K16: =SUM(K17:K24) -> 78981.19 | L16: =SUM(L17:L24) -> 77264.37 | M16: =L16/C16 -> 0.87269578 | N16: =SUM(N17:N24) -> 105715.88 | O16: =N16/C16 -> 1.1940536 | P16: =SUM(P17:P24) -> 95318.94 | Q16: =P16/$C16 -> 1.0766209 | R16: =SUM(R17:R24) -> 91199.36 | S16: =R16/$C16 -> 1.0300905 | T16: =SUM(T17:T24) -> 86982.41 | U16: =T16/$C16 -> 0.98246038 | V16: =SUM(V17:V24) -> 0 | W16: =V16/I16 -> 0 | X16: =SUM(X17:X24) -> 979868.01 | Y16: =X16/D16 -> 0.92229518
A17: Estadia de Barcos | B17: 856800 | C17: 79611 | D17: =B17*1.115 -> 955332 | E17: =IFERROR((D17/B17)-1,0) -> 0.115 | F17: 77991.13 | G17: 75210.5 | H17: 76637.85 | I17: 76717.64 | J17: 76967.61 | K17: 74843.47 | L17: 73906.65 | M17: =L17/C17 -> 0.92834721 | N17: 74826.51 | O17: =N17/C17 -> 0.93990165 | P17: 75017.36 | Q17: =P17/$C17 -> 0.94229893 | R17: 75749.09 | S17: =R17/$C17 -> 0.95149025 | T17: 75129.2 | U17: =T17/$C17 -> 0.94370376 | W17: =V17/I17 -> 0 | X17: =V17+T17+R17+P17+N17+L17+K17+J17+I17+H17+G17+F17 -> 832997.01 | Y17: =X17/D17 -> 0.87194505
A18: Taxa de Armário (Vestiários) | B18: 10876.761 | C18: 1155.82 | D18: =C18*12 -> 13869.84 | E18: =IFERROR((D18/B18)-1,0) -> 0.27518109 | F18: 1302.16 | G18: 1333.92 | H18: 1333.92 | I18: 1333.92 | J18: 1333.92 | K18: 1365.68 | L18: 1365.68 | M18: =L18/C18 -> 1.1815681 | N18: 1333.92 | O18: =N18/C18 -> 1.1540897 | P18: 1365.68 | Q18: =P18/$C18 -> 1.1815681 | R18: 1365.68 | S18: =R18/$C18 -> 1.1815681 | T18: 1429.2 | U18: =T18/$C18 -> 1.2365247 | W18: =V18/I18 -> 0 | X18: =V18+T18+R18+P18+N18+L18+K18+J18+I18+H18+G18+F18 -> 14863.68 | Y18: =X18/D18 -> 1.0716548
A19: Taxa de Armário (Hangar) | B19: 9102.24 | C19: 1252.9032 | D19: 15034.838 | E19: =IFERROR((D19/B19)-1,0) -> 0.65177345 | F19: 1204.48 | G19: 1204.48 | H19: 1204.48 | I19: 1251.92 | J19: 1299.36 | K19: 1251.04 | L19: 1251.04 | M19: =L19/C19 -> 0.99851289 | N19: 1251.04 | O19: =N19/C19 -> 0.99851289 | P19: 1251.04 | Q19: =P19/$C19 -> 0.99851289 | R19: 1251.04 | S19: =R19/$C19 -> 0.99851289 | T19: 1250.16 | U19: =T19/$C19 -> 0.99781053 | W19: =V19/I19 -> 0 | X19: =V19+T19+R19+P19+N19+L19+K19+J19+I19+H19+G19+F19 -> 13670.08 | Y19: =X19/D19 -> 0.90922693
A20: Taxa de Bolão | B20: 5000 | C20: 0 | D20: 0 | F20: 0 | I20: 2000 | M20: =L20/C20 -> #DIV/0! | O20: =N20/C20 -> #DIV/0! | Q20: =P20/$C20 -> #DIV/0! | S20: =R20/$C20 -> #DIV/0! | U20: =T20/$C20 -> #DIV/0! | W20: =V20/I20 -> 0 | X20: =V20+T20+R20+P20+N20+L20+K20+J20+I20+H20+G20+F20 -> 2000 | Y20: =X20/D20 -> #DIV/0!
A21: Concessão Restaurante | B21: 79400 | C21: 4916.6667 | D21: 59000 | E21: =IFERROR((D21/B21)-1,0) -> -0.25692695 | F21: 0 | I21: 38603.57 | M21: =L21/C21 -> 0 | N21: 26978.41 | O21: =N21/C21 -> 5.4871342 | P21: 7626.86 | Q21: =P21/$C21 -> 1.5512258 | R21: 7755.55 | S21: =R21/$C21 -> 1.5774 | T21: 7613.85 | U21: =T21/$C21 -> 1.5485797 | W21: =V21/I21 -> 0 | X21: =V21+T21+R21+P21+N21+L21+K21+J21+I21+H21+G21+F21 -> 88578.24 | Y21: =X21/D21 -> 1.5013261
A22: Patrocinios | B22: 0 | C22: 0 | D22: 0 | F22: 0 | M22: =L22/C22 -> #DIV/0! | O22: =N22/C22 -> #DIV/0! | P22: 9200 | Q22: =P22/$C22 -> #DIV/0! | S22: =R22/$C22 -> #DIV/0! | U22: =T22/$C22 -> #DIV/0! | W22: =V22/I22 -> #DIV/0! | X22: =V22+T22+R22+P22+N22+L22+K22+J22+I22+H22+G22+F22 -> 9200 | Y22: =X22/D22 -> #DIV/0!
A23: uniformes e acessórios | B23: 6186.75 | C23: 515.5625 | D23: =B23 -> 6186.75 | E23: =IFERROR((D23/B23)-1,0) -> 0 | F23: 0 | H23: 60 | M23: =L23/C23 -> 0 | O23: =N23/C23 -> 0 | Q23: =P23/$C23 -> 0 | R23: 3990 | S23: =R23/$C23 -> 7.7391199 | U23: =T23/$C23 -> 0 | W23: =V23/I23 -> #DIV/0! | X23: =V23+T23+R23+P23+N23+L23+K23+J23+I23+H23+G23+F23 -> 4050 | Y23: =X23/D23 -> 0.6546248
A24: Convites Sociais + (Parceiros) | B24: 10815 | C24: 1083.3333 | D24: 13000 | E24: =IFERROR((D24/B24)-1,0) -> 0.20203421 | F24: 980 | G24: 1209 | H24: 1209 | I24: 1521 | J24: 2496 | K24: 1521 | L24: 741 | M24: =L24/C24 -> 0.684 | N24: 1326 | O24: =N24/C24 -> 1.224 | P24: 858 | Q24: =P24/$C24 -> 0.792 | R24: 1088 | S24: =R24/$C24 -> 1.0043077 | T24: 1560 | U24: =T24/$C24 -> 1.44 | W24: =V24/I24 -> 0 | X24: =V24+T24+R24+P24+N24+L24+K24+J24+I24+H24+G24+F24 -> 14509 | Y24: =X24/D24 -> 1.1160769
A25: RECEITAS CURSO DE VELA | B25: 547050 | C25: 54166.667 | D25: =SUM(D26:D29) -> 650000 | E25: =IFERROR((D25/B25)-1,0) -> 0.18819121 | F25: =SUM(F26:F29) -> 28201.41 | G25: =SUM(G26:G29) -> 55904.37 | H25: =SUM(H26:H29) -> 66876.38 | I25: =SUM(I26:I29) -> 64688.84 | J25: =SUM(J26:J29) -> 76900.79 | K25: =SUM(K26:K29) -> 103277.58 | L25: =SUM(L26:L29) -> 59195.99 | M25: =L25/C25 -> 1.092849 | N25: =SUM(N26:N29) -> 52008.9 | O25: =N25/C25 -> 0.96016431 | P25: =SUM(P26:P29) -> 50092.56 | Q25: =P25/$C25 -> 0.92478572 | R25: =SUM(R26:R29) -> 51438.29 | S25: =R25/$C25 -> 0.94962997 | T25: =SUM(T26:T29) -> 43246.34 | U25: =T25/$C25 -> 0.79839397 | V25: =SUM(V26:V29) -> 0 | W25: =V25/I25 -> 0 | X25: =SUM(X26:X29) -> 651831.45 | Y25: =X25/D25 -> 1.0028176
A26: curso de vela | B26: 330750 | C26: 35416.667 | D26: 425000 | E26: =IFERROR((D26/B26)-1,0) -> 0.28495843 | F26: =1500.17 -> 1500.17 | G26: =37215+12260 -> 49475 | H26: =44264.82+15340 -> 59604.82 | I26: =42225+15470 -> 57695 | J26: =40002.5+9000+13895 -> 62897.5 | K26: =38170+1200+12330 -> 51700 | M26: =L26/C26 -> 0 | N26: =25450+11090 -> 36540 | O26: =N26/C26 -> 1.0317176 | P26: =33305+85+10060 -> 43450 | Q26: =P26/$C26 -> 1.2268235 | R26: =24465+9720+2200 -> 36385 | S26: =R26/$C26 -> 1.0273412 | T26: =24030+8940 -> 32970 | U26: =T26/$C26 -> 0.93091765 | W26: =V26/I26 -> 0 | X26: =V26+T26+R26+P26+N26+L26+K26+J26+I26+H26+G26+F26 -> 432217.49 | Y26: =X26/D26 -> 1.0169823
A27: curso de vela adulto/arrais | B27: 126000 | C27: 8333.3333 | D27: 100000 | E27: =IFERROR((D27/B27)-1,0) -> -0.20634921 | F27: =5228.35 -> 5228.35 | G27: =5920 -> 5920 | H27: 6630 | I27: =5907.5 -> 5907.5 | J27: =8180+1200 -> 9380 | K27: =3520 -> 3520 | L27: =4150 -> 4150 | M27: =L27/C27 -> 0.498 | N27: =8895+1480 -> 10375 | O27: =N27/C27 -> 1.245 | P27: =4450+1480 -> 5930 | Q27: =P27/$C27 -> 0.7116 | R27: =8475+3620 -> 12095 | S27: =R27/$C27 -> 1.4514 | T27: =7490 -> 7490 | U27: =T27/$C27 -> 0.8988 | W27: =V27/I27 -> 0 | X27: =V27+T27+R27+P27+N27+L27+K27+J27+I27+H27+G27+F27 -> 76625.85 | Y27: =X27/D27 -> 0.7662585
A28: aluguel de barcos para a escola de vela | B28: 11550 | C28: 416.66667 | D28: 5000 | E28: =IFERROR((D28/B28)-1,0) -> -0.56709957 | F28: 64.39 | G28: 1289.37 | H28: 641.56 | I28: 1086.34 | J28: 1708.29 | K28: 128.78 | L28: 1255.99 | M28: =L28/C28 -> 3.014376 | N28: =1093.9+1900 -> 2993.9 | O28: =N28/C28 -> 7.18536 | P28: 712.56 | Q28: =P28/$C28 -> 1.710144 | R28: 2958.29 | S28: =R28/$C28 -> 7.099896 | T28: 1736.34 | U28: =T28/$C28 -> 4.167216 | W28: =V28/I28 -> 0 | X28: =V28+T28+R28+P28+N28+L28+K28+J28+I28+H28+G28+F28 -> 14575.81 | Y28: =X28/D28 -> 2.915162
A29: acampamento | B29: 78750 | C29: 10000 | D29: 120000 | E29: =IFERROR((D29/B29)-1,0) -> 0.52380952 | F29: =23038.5-1630 -> 21408.5 | G29: -780 | H29: 0 | J29: 2915 | K29: 47928.8 | L29: 53790 | M29: =L29/C29 -> 5.379 | N29: 2100 | O29: =N29/C29 -> 0.21 | Q29: =P29/$C29 -> 0 | S29: =R29/$C29 -> 0 | T29: 1050 | U29: =T29/$C29 -> 0.105 | W29: =V29/I29 -> #DIV/0! | X29: =V29+T29+R29+P29+N29+L29+K29+J29+I29+H29+G29+F29 -> 128412.3 | Y29: =X29/D29 -> 1.0701025
A30: RECEITAS FINANCEIRAS | B30: 25000 | C30: 5833.3333 | D30: =D31 -> 70000 | E30: =IFERROR((D30/B30)-1,0) -> 1.8 | F30: =F31 -> 4947.87 | G30: =G31 -> 5242.73 | H30: =H31 -> 8175.67 | I30: =I31 -> 12315.92 | J30: =J31 -> 9857.24 | K30: =K31 -> 9875.9 | L30: =L31 -> 7706.82 | M30: =L30/C30 -> 1.3211691 | N30: =N31 -> 9828.14 | O30: =N30/C30 -> 1.684824 | P30: =P31 -> 2986.9 | Q30: =P30/$C30 -> 0.51204 | R30: =R31 -> 1689.87 | S30: =R30/$C30 -> 0.289692 | T30: =T31 -> 1840.75 | U30: =T30/$C30 -> 0.31555714 | V30: =V31 -> 0 | W30: =V30/I30 -> 0 | X30: =X31 -> 74467.81 | Y30: =X30/D30 -> 1.0638259
A31: Receitas Financeiras | B31: 25000 | C31: 5833.3333 | D31: 70000 | E31: =IFERROR((D31/B31)-1,0) -> 1.8 | F31: =9029.64-4935.81+854.04 -> 4947.87 | G31: =9641.21-4398.48 -> 5242.73 | H31: =7085.87-1924.47+3014.27 -> 8175.67 | I31: =11342.82+336.22+636.88 -> 12315.92 | J31: =8175.64+1681.6 -> 9857.24 | K31: 9875.9 | L31: 7706.82 | M31: =L31/C31 -> 1.3211691 | N31: 9828.14 | O31: =N31/C31 -> 1.684824 | P31: =8610.94-5624.04 -> 2986.9 | Q31: =P31/$C31 -> 0.51204 | R31: 1689.87 | S31: =R31/$C31 -> 0.289692 | T31: 1840.75 | U31: =T31/$C31 -> 0.31555714 | W31: =V31/I31 -> 0 | X31: =V31+T31+R31+P31+N31+L31+K31+J31+I31+H31+G31+F31 -> 74467.81 | Y31: =X31/D31 -> 1.0638259
A32: RECEITAS EVENTUAIS | B32: 151751 | C32: 35463.297 | D32: =SUM(D33:D36) -> 425559.56 | E32: =IFERROR((D32/B32)-1,0) -> 1.8043279 | F32: =SUM(F33:F36) -> 21919.81 | G32: =SUM(G33:G36) -> 34583.81 | H32: =SUM(H33:H36) -> 23772.81 | I32: =SUM(I33:I36) -> 33327.81 | J32: =SUM(J33:J36) -> 67120.81 | K32: =SUM(K33:K36) -> 26557.81 | L32: =SUM(L33:L36) -> 83891.81 | M32: =L32/C32 -> 2.3655954 | N32: =SUM(N33:N36) -> 61742.8 | O32: =N32/C32 -> 1.7410339 | P32: =SUM(P33:P36) -> 61639.81 | Q32: =P32/$C32 -> 1.7381297 | R32: =SUM(R33:R36) -> 733.81 | S32: =R32/$C32 -> 0.020692098 | T32: =SUM(T33:T36) -> 35212.81 | U32: =T32/$C32 -> 0.99293673 | V32: =SUM(V33:V36) -> 0 | W32: =V32/I32 -> 0 | X32: =V32+T32+R32+P32+N32+L32+K32+J32+I32+H32+G32+F32 -> 450503.9 | Y32: =X32/D32 -> 1.0586154
A33: Tx transferência | B33: 0 | C33: 16666.667 | D33: 200000 | E33: =IFERROR((D33/B33)-1,0) -> 0 | F33: 20000 | G33: 20000 | H33: 20300 | I33: 20000 | J33: 40000 | K33: 20000 | L33: 40000 | M33: =L33/C33 -> 2.4 | N33: 40000 | O33: =N33/C33 -> 2.4 | P33: 40000 | Q33: =P33/$C33 -> 2.4 | S33: =R33/$C33 -> 0 | T33: 30000 | U33: =T33/$C33 -> 1.8 | W33: =V33/I33 -> 0 | X33: =V33+T33+R33+P33+N33+L33+K33+J33+I33+H33+G33+F33 -> 290300 | Y33: =X33/D33 -> 1.4515
A34: título | B34: 0 | C34: 4166.6667 | D34: 50000 | E34: =IFERROR((D34/B34)-1,0) -> 0 | F34: 0 | J34: 10000 | L34: 5000 | M34: =L34/C34 -> 1.2 | N34: 10000 | O34: =N34/C34 -> 2.4 | P34: 10000 | Q34: =P34/$C34 -> 2.4 | S34: =R34/$C34 -> 0 | U34: =T34/$C34 -> 0 | W34: =V34/I34 -> #DIV/0! | X34: =V34+T34+R34+P34+N34+L34+K34+J34+I34+H34+G34+F34 -> 35000 | Y34: =X34/D34 -> 0.7
A35: aluguel sede | B35: 151751 | C35: 14629.963 | D35: =C35*12 -> 175559.56 | E35: =IFERROR((D35/B35)-1,0) -> 0.15689228 | F35: =576+1343.81 -> 1919.81 | G35: 14583.81 | H35: =1013+2459.81 -> 3472.81 | I35: =4826+8501.81 -> 13327.81 | J35: =3660+13460.81 -> 17120.81 | K35: =1457+5100.81 -> 6557.81 | L35: =1664+227.81 -> 1891.81 | M35: =L35/C35 -> 0.12931065 | N35: =1514.99+34227.81-24000 -> 11742.8 | O35: =N35/C35 -> 0.8026541 | P35: =1412+40227.81-30000 -> 11639.81 | Q35: =P35/$C35 -> 0.79561443 | R35: =512+221.81 -> 733.81 | S35: =R35/$C35 -> 0.05015802 | T35: =4985+227.81 -> 5212.81 | U35: =T35/$C35 -> 0.35631053 | W35: =V35/I35 -> 0 | X35: =V35+T35+R35+P35+N35+L35+K35+J35+I35+H35+G35+F35 -> 88203.9 | Y35: =X35/D35 -> 0.50241582
A36: venda de imobilizado / doações | L36: 37000 | O36: =N36/C36 -> #DIV/0! | Q36: =P36/$C36 -> #DIV/0! | S36: =R36/$C36 -> #DIV/0! | U36: =T36/$C36 -> #DIV/0! | X36: =V36+T36+R36+P36+N36+L36+K36+J36+I36+H36+G36+F36 -> 37000
A37: Taxa de obras | R37: 24810 | T37: =24390-100 -> 24290 | X37: =R37 -> 24810
A38: RECEITAS DIRETORIA DE VELA | B38: 319400 | C38: 20916.667 | D38: =SUM(D39:D44) -> 251000 | E38: =IFERROR((D38/B38)-1,0) -> -0.21415153 | F38: =SUM(F39:F44) -> 0 | G38: =SUM(G39:G44) -> 71951 | H38: =SUM(H39:H44) -> 31110.97 | I38: =SUM(I39:I44) -> 45624.96 | J38: =SUM(J39:J44) -> 36870 | K38: =SUM(K39:K44) -> 37680 | L38: =SUM(L39:L44) -> 27800 | M38: =L38/C38 -> 1.3290837 | N38: =SUM(N39:N44) -> 40500 | O38: =N38/C38 -> 1.936255 | P38: =SUM(P39:P44) -> 70094.97 | Q38: =P38/$C38 -> 3.3511539 | R38: =SUM(R39:R44) -> 39596 | S38: =R38/$C38 -> 1.8930359 | T38: =SUM(T39:T44) -> 49745 | U38: =T38/$C38 -> 2.378247 | V38: =SUM(V39:V44) -> 0 | W38: =V38/I38 -> 0 | X38: =SUM(X39:X44) -> 450972.9 | Y38: =X38/D38 -> 1.7967048
A39: Eventos Náuticos | B39: 20000 | C39: 2500 | D39: 30000 | E39: =IFERROR((D39/B39)-1,0) -> 0.5 | F39: 0 | G39: 48861 | H39: 450 | I39: 13150 | J39: 1200 | K39: 1350 | L39: 1350 | M39: =L39/C39 -> 0.54 | N39: 1800 | O39: =N39/C39 -> 0.72 | P39: 1250 | Q39: =P39/$C39 -> 0.5 | R39: 3656 | S39: =R39/$C39 -> 1.4624 | T39: 2500 | U39: =T39/$C39 -> 1 | W39: =V39/I39 -> 0 | X39: =V39+T39+R39+P39+N39+L39+K39+J39+I39+H39+G39+F39 -> 75567 | Y39: =X39/D39 -> 2.5189
A40: Inscrições de regatas | B40: 25000 | C40: 1250 | D40: 15000 | E40: =IFERROR((D40/B40)-1,0) -> -0.4 | F40: 0 | H40: 4900.97 | I40: 6350 | J40: 9150 | K40: 10820 | M40: =L40/C40 -> 0 | N40: 8180 | O40: =N40/C40 -> 6.544 | P40: 820 | Q40: =P40/$C40 -> 0.656 | R40: 4800 | S40: =R40/$C40 -> 3.84 | T40: =7815-240 -> 7575 | U40: =T40/$C40 -> 6.06 | W40: =V40/I40 -> 0 | X40: =V40+T40+R40+P40+N40+L40+K40+J40+I40+H40+G40+F40 -> 52595.97 | Y40: =X40/D40 -> 3.506398
A41: Uniforme flotilha | B41: 0 | C41: 1666.6667 | D41: 20000 | E41: =IFERROR((D41/B41)-1,0) -> 0 | F41: 0 | M41: =L41/C41 -> 0 | O41: =N41/C41 -> 0 | P41: 32820 | Q41: =P41/$C41 -> 19.692 | S41: =R41/$C41 -> 0 | U41: =T41/$C41 -> 0 | W41: =V41/I41 -> #DIV/0! | X41: =V41+T41+R41+P41+N41+L41+K41+J41+I41+H41+G41+F41 -> 32820 | Y41: =X41/D41 -> 1.641
A42: FEVESP - Patrocinio (juizes) | B42: 0 | C42: 0 | D42: 0 | E42: =IFERROR((D42/B42)-1,0) -> 0 | F42: 0 | M42: =L42/C42 -> #DIV/0! | O42: =N42/C42 -> #DIV/0! | Q42: =P42/$C42 -> #DIV/0! | S42: =R42/$C42 -> #DIV/0! | T42: 6260 | U42: =T42/$C42 -> #DIV/0! | W42: =V42/I42 -> #DIV/0! | X42: =V42+T42+R42+P42+N42+L42+K42+J42+I42+H42+G42+F42 -> 6260 | Y42: =X42/D42 -> #DIV/0!
A43: Aluguel de barcos | B43: 11000 | C43: 833.33333 | D43: 10000 | E43: =IFERROR((D43/B43)-1,0) -> -0.090909091 | F43: 0 | M43: =L43/C43 -> 0 | O43: =N43/C43 -> 0 | Q43: =P43/$C43 -> 0 | S43: =R43/$C43 -> 0 | U43: =T43/$C43 -> 0 | W43: =V43/I43 -> #DIV/0! | X43: =V43+T43+R43+P43+N43+L43+K43+J43+I43+H43+G43+F43 -> 0 | Y43: =X43/D43 -> 0
A44: Atividades flotilha - custo rateado | B44: 263400 | C44: 14666.667 | D44: 176000 | E44: =IFERROR((D44/B44)-1,0) -> -0.33181473 | F44: 0 | G44: 23090 | H44: 25760 | I44: 26124.96 | J44: 26520 | K44: 25510 | L44: 26450 | M44: =L44/C44 -> 1.8034091 | N44: 30520 | O44: =N44/C44 -> 2.0809091 | P44: 35204.97 | Q44: =P44/$C44 -> 2.4003389 | R44: 31140 | S44: =R44/$C44 -> 2.1231818 | T44: 33410 | U44: =T44/$C44 -> 2.2779545 | W44: =V44/I44 -> 0 | X44: =V44+T44+R44+P44+N44+L44+K44+J44+I44+H44+G44+F44 -> 283729.93 | Y44: =X44/D44 -> 1.6121019
A45: RECEITAS DIRETORIA SOCIAL | B45: 62980.73 | C45: 6666.6667 | D45: =SUM(D46:D50) -> 80000 | E45: =IFERROR((D45/B45)-1,0) -> 0.2702298 | F45: =SUM(F46:F50) -> 0 | G45: =SUM(G46:G50) -> 0 | H45: =SUM(H46:H50) -> 0 | I45: =SUM(I46:I50) -> 24643.4 | J45: =SUM(J46:J50) -> 1440 | K45: =SUM(K46:K50) -> 65820 | L45: =SUM(L46:L50) -> 0 | M45: =L45/C45 -> 0 | N45: =SUM(N46:N50) -> 0 | O45: =N45/C45 -> 0 | P45: =SUM(P46:P50) -> 0 | Q45: =P45/$C45 -> 0 | R45: =SUM(R46:R50) -> 1714 | S45: =R45/$C45 -> 0.2571 | T45: =SUM(T46:T50) -> 0 | U45: =T45/$C45 -> 0 | V45: =SUM(V46:V50) -> 0 | W45: =V45/I45 -> 0 | X45: =SUM(X46:X50) -> 93617.4 | Y45: =X45/D45 -> 1.1702175
A46: Festas Oktoberfest | B46: 0 | C46: 416.66667 | D46: 5000 | E46: =IFERROR((D46/B46)-1,0) -> 0 | F46: 0 | M46: =L46/C46 -> 0 | O46: =N46/C46 -> 0 | Q46: =P46/$C46 -> 0 | R46: 1714 | S46: =R46/$C46 -> 4.1136 | U46: =T46/$C46 -> 0 | W46: =V46/I46 -> #DIV/0! | X46: =V46+T46+R46+P46+N46+L46+K46+J46+I46+H46+G46+F46 -> 1714 | Y46: =X46/D46 -> 0.3428
...

Sheet Mensalidades
A1: Categorias | B1: Quantidade | C1: Valor mensalidade | D1: Total 2021 | E1: Total 2022 - 11,5% reajuste | F1: TX Obras | G1: Total | I1: TX Transf | J1: Título | K1: Total Tx Transf | L1: Total Título
A3: Proprietário | B3: 220 | C3: 748.62 | D3: =(C3*12)*B3 -> 1976356.8 | G3: =(F3*B3)*12 -> 0
A4: Proprietário individual | B4: 3 | C4: 648.97 | D4: =(C4*12)*B4 -> 23362.92 | G4: =(F4*B4)*12 -> 0
A5: Ausente | B5: 17 | C5: 374.31 | D5: =(C5*12)*B5 -> 76359.24 | G5: =(F5*B5)*12 -> 0
A6: Veterano Pagante 70% | B6: 2 | C6: 524.03 | D6: =(C6*12)*B6 -> 12576.72 | G6: =(F6*B6)*12 -> 0
A7: Veterano Pagante 50% | B7: 3 | C7: 374.31 | D7: =(C7*12)*B7 -> 13475.16 | G7: =(F7*B7)*12 -> 0
A8: Veterano Pagante 10% | B8: 4 | C8: 74.86 | D8: =(C8*12)*B8 -> 3593.28 | G8: =(F8*B8)*12 -> 0
A9: Remido | B9: 65 | D9: =(C9*12)*B9 -> 0
A10: Honorário Pagante | B10: 0 | D10: =(C10*12)*B10 -> 0
A11: Honorário não pagante | B11: 9 | D11: =(C11*12)*B11 -> 0
B12: =SUM(B3:B11) -> 323 | C12: TOTAL | D12: =SUM(D3:D11) -> 2105724.1 | E12: =(D12*11.5%)+D12 -> 2347882.4
I13: =2354880*88.5 -> 208406880
A14: Eportista | B14: 16 | C14: 374.31 | D14: =(C14*12)*B14 -> 71867.52 | E14: =D14*1.115 -> 80132.285 | G14: =(F14*B14)*12 -> 0 | I14: =I13/100 -> 2084068.8
G15: =SUM(G3:G14) -> 0
A34: Eportista | B34: 14 | C34: 301.06 | D34: =(C34*12)*B34 -> 50578.08

Sheet Concessionario
B1: Valor | C1: Meses | D1: Total
A2: Aluguel cheio | B2: 4000 | C2: 10 | D2: =C2*B2 -> 40000 | F2: demais meses
A3: Meio Aluguel | B3: 2000 | C3: 2 | D3: =C3*B3 -> 4000 | F3: meses Janeiro e Julho
A4: IPTU | B4: 2000 | C4: 12 | D4: =C4*B4 -> 24000
A5: Energia | B5: 950 | C5: 12 | D5: =C5*B5 -> 11400
D6: =SUM(D2:D5) -> 79400
