Workbook

Sheet resumo
B2: RECEITAS | E2: DESPESAS | H2: DIFERENÇA
B4: RECEITAS DE CUSTEIO | C4: =SUM(C6:C15) -> 3923547.2 | E4: DESPESAS DE CUSTEIO | F4: =SUM(F6:F16) -> 3786313.6 | H4: =C4-F4 -> 137233.66
B6: RECEITAS SOCIAIS | C6: =D7+D8 -> 2994116.5 | E6: ADMINISTRATIVAS | F6: =SUM(G7:G11) -> 2690696.1 | H6: =C6-F6 -> 303420.42
B7: CONTRIBUIÇÕES SOCIAIS | D7: =Budget!BF11 -> 2015935.7 | E7: PESSOAL | G7: =Budget!BF53 -> 1812646.8
B8: RECEITAS DE SERVIÇOS DIVERSOS | D8: =Budget!BF16 -> 978180.75 | E8: OPERACIONAIS | G8: =Budget!BF66+Budget!BF68+Budget!BF76+Budget!BF83 -> 616358.23
E9: MANUTENÇÃO | G9: =Budget!BF149 -> 145035
B10: =D7+SUM(Budget!BF17:BF20) -> 2897714.7 | E10: IMPOSTOS E TAXAS | G10: =Budget!BF156 -> 46275.563
E11: ASSOCIAÇÕES | G11: =Budget!BF108 -> 70380.431
B13: ESCOLA DE VELA | C13: =Budget!BF25 -> 547050 | F13: =Budget!BF114 -> 521000 | H13: =C13-F13 -> 26049.998
B14: DIRETORIA DE VELA | C14: =Budget!BF37 -> 319400 | F14: =Budget!BF133 -> 409029.9 | H14: =C14-F14 -> -89629.9
B15: DDIRETORIA SOCIAL | C15: =Budget!BF46+Budget!BF47 -> 62980.73 | F15: =Budget!BF93 -> 105587.59 | H15: =C15-F15 -> -42606.86
B16: COPA DA JUVENTUDE | E16: COPA DA JUVENTUDE | F16: =Budget!BF161 -> 60000 | H16: =C16-F16 -> -60000
B18: RECEITAS FINANCEIRAS | C18: =Budget!BF30 -> 25000 | H18: =C18-F11 -> 25000
B21: REAJUSTE NA MENSALIDADE | C21: =B10*D21 -> 144885.74 | D21: 0.05
B22: SOBRA DE CAIXA 2020 | C22: 330000
B23: RECEITAS EVENTUAIS | C23: =Budget!BF32 -> 381751 | F23: 2021 | G23: 2022 | H23: 2023
B24: RECURSOS PARA INVESTIMENTOS | C24: =C23+C21+C22 -> 856636.74 | E24: INVESTIMENTOS | F24: 852000 | G24: 389000 | H24: 210000

Sheet Budget
BA1: 1.04 | BC1: 1.05
B2: Orçado 2018 | C2: Acumulado JAN A SET/18 | D2: Projeção para o fechamento de 2018 (12meses) | E2: Projeção para 2019 reajuste proposto de 5% | F2: Budget 2019 - mensal | G2: Realizado JAN 19 | H2: % | I2: Realizado FEV19 | J2: % | K2: Realizado MAR19 | L2: % | M2: Realizado ABR19 | N2: % | O2: Realizado MAIO/19 | P2: % | Q2: Realizado JUNHO/19 | R2: % | S2: Realizado JULHO/19 | T2: % | U2: Realizado AGOSTO/19 | V2: % | W2: Realizado SETEMBRO/19 | X2: % | Y2: Total do ano - realizado até setembro 19 | Z2: % | AA2: Média mensal 2019 | AB2: Proposta Mensal 2020 | AG2: 43831 | AH2: % | AI2: 43862 | AJ2: % | AK2: 43891 | AL2: % | AM2: 43891 | AN2: % | AO2: 43922 | AP2: % | AQ2: 43952 | AR2: % | AS2: 43983 | AT2: % | AU2: 44013 | AV2: % | AW2: 44044 | AX2: % | AY2: 44075 | AZ2: % | BA2: ACUMULADO ANO 2020 | BB2: % | BC2: Média mensal 2020 | BD2: Proposta Mesal 2021 | BE2: Proposta anual 2021 | BF2: Proposta 2021 | BG2: Proposta mensal 2021 | BH2: 44197 | BI2: % | BJ2: 44228 | BK2: % | BL2: 44256 | BM2: % | BN2: 44287 | BO2: % | BP2: 44317 | BQ2: % | BR2: 44348 | BS2: % | BT2: 44378 | BU2: % | BV2: 44409 | BW2: % | BX2: 44440 | BY2: % | BZ2: 44470 | CA2: % | CB2: 44501 | CC2: % | CD2: 44531 | CE2: % | CF2: Acumulado | CG2: %
B3: 1.05
B4: 1.1635
B5: 1.04
A6: RECEITAS | B6: 3945761.7 | C6: 2856312.5 | D6: 3785280.2 | E6: 3955083.8 | F6: =E6/12 -> 329590.32 | G6: =G10+G25+G32+G30+G37 -> 353410.1 | H6: =G6/F6 -> 1.0722709 | I6: =I10+I25+I32+I30+I37 -> 375190.77 | J6: =I6/F6 -> 1.138355 | K6: =K10+K25+K32+K30+K37 -> 367103.11 | L6: =K6/F6 -> 1.1138164 | M6: =M10+M25+M32+M30+M37 -> 480878.47 | N6: =M6/F6 -> 1.4590188 | O6: =O10+O25+O32+O30+O37 -> 514094.29 | P6: =O6/$F6 -> 1.5597979 | Q6: =Q10+Q25+Q32+Q30+Q37 -> 440848.04 | R6: =Q6/$F6 -> 1.3375637 | S6: =S10+S25+S32+S30+S37 -> 329226.54 | T6: =S6/$F6 -> 0.99889629 | U6: =U10+U25+U32+U30+U37 -> 450010.97 | V6: =U6/$F6 -> 1.3653647 | W6: =W10+W25+W32+W30+W37 -> 449176.95 | X6: =W6/$F6 -> 1.3628342 | Y6: =G6+I6+K6+M6+O6+Q6+S6+U6+W6 -> 3759939.2 | Z6: =Y6/$E6 -> 0.95065982 | AA6: =(Y6/9) -> 417771.03 | AB6: =AB10+AB25+AB32+AB30+AB37 -> 413892.27 | AC6: 1.06 | AE6: =AB6-AB50 -> 98604.065 | AF6: =AE6*12 -> 1183248.8 | AG6: =AG10+AG25+AG30+AG32+AG37 -> 547002.16 | AH6: =AG6/$AB6 -> 1.3216052 | AI6: =AI10+AI25+AI30+AI32+AI37 -> 657281.86 | AJ6: =AI6/$AB6 -> 1.5880506 | AK6: =AK8+AK10+AK25+AK30+AK32+AK37 -> 0 | AL6: =AK6/$AB6 -> 0 | AM6: =AM10+AM25+AM30+AM32+AM37 -> 361303.3 | AN6: =AM6/$AB6 -> 0.87294044 | AO6: =AO10+AO25+AO30+AO32+AO37 -> 246190.49 | AP6: =AO6/$AB6 -> 0.59481781 | AQ6: =AQ10+AQ25+AQ30+AQ32+AQ37 -> 225547.54 | AR6: =AQ6/$AB6 -> 0.54494263 | AS6: =AS10+AS25+AS30+AS32+AS37 -> 248080.63 | AT6: =AS6/$AB6 -> 0.59938454 | AU6: =AU10+AU25+AU30+AU32+AU37 -> 236782.22 | AV6: =AU6/$AB6 -> 0.57208661 | AW6: =AW10+AW25+AW30+AW32+AW37 -> 320229.77 | AX6: =AW6/$AB6 -> 0.7737032 | AY6: =AY10+AY25+AY30+AY32+AY37 -> 299453.14 | AZ6: =AY6/$AB6 -> 0.72350504 | BA6: =AG6+AI6+AK6+AM6+AO6+AQ6+AS6+AU6+AW6+AY6 -> 3141871.1 | BB6: =BA6/(AB6*12) -> 0.63258633 | BC6: =BA6/9 -> 349096.79 | BD6: =BD10+BD25+BD30+BD32+BD37 -> 459323.34 | BE6: =BD6*12 -> 5511880 | BF6: =BF8+BF32 -> 4330298.2 | BG6: =BF6/12 -> 360858.18 | BH6: =BH8+BH32 -> 384203.66 | BI6: =BH6/$BG6 -> 1.0646943 | BJ6: =BJ8+BJ32 -> 351426.19 | BK6: =BJ6/$BG6 -> 0.97386234 | BL6: =BL8+BL32 -> 329544.8 | BM6: =BL6/$BG6 -> 0.91322522 | BN6: =BN8+BN32 -> 297126.79 | BO6: =BN6/$BG6 -> 0.82338936 | BP6: =BP8+BP32 -> 327244.01 | BQ6: =BP6/$BG6 -> 0.90684936 | BR6: =BR8+BR32 -> 397434.9 | BS6: =BR6/$BG6 -> 1.1013604 | BT6: =BT8+BT32 -> 352440.2 | BU6: =BT6/$BG6 -> 0.97667231 | BV6: =BV8+BV32 -> 374235.62 | BW6: =BV6/$BG6 -> 1.0370712 | BX6: =BX8+BX32 -> 433802.83 | BY6: =BX6/$BG6 -> 1.2021421 | BZ6: 415991.18 | CA6: =BZ6/$BG6 -> 1.152783 | CB6: =CB8+CB32 -> 425349.2 | CC6: =CB6/$BG6 -> 1.1787157 | CD6: =CD8+CD32 -> 470209.31 | CE6: =CD6/$BG6 -> 1.3030308 | CF6: =CF8+CF32 -> 4558442.3 | CG6: =CF6/(BG6*12) -> 1.0526855
AC7: 1.04
A8: RECEITAS DE CUSTEIO | B8: 3158062.9 | C8: 2359478.5 | D8: 3122834.7 | E8: 3276095.1 | F8: =E8/12 -> 273007.92 | G8: =G10+G25+G30+G37 -> 345401.9 | H8: =G8/F8 -> 1.2651717 | I8: =I10+I25+I30+I37 -> 353267.66 | J8: =I8/F8 -> 1.2939832 | K8: =K10+K25+K30+K37 -> 347713.21 | L8: =K8/F8 -> 1.2736378 | M8: =M10+M25+M30+M37 -> 419853.47 | N8: =M8/F8 -> 1.5378802 | O8: =O10+O25+O30+O37 -> 453139.29 | P8: =O8/$F8 -> 1.6598027 | Q8: =Q10+Q25+Q30+Q37 -> 409138.04 | R8: =Q8/$F8 -> 1.4986307 | S8: =S10+S25+S30+S37 -> 316821.54 | T8: =S8/$F8 -> 1.1604848 | U8: =U10+U25+U30+U37 -> 400125.97 | V8: =U8/$F8 -> 1.4656204 | W8: =W10+W25+W30+W37 -> 427241.95 | X8: =W8/$F8 -> 1.5649434 | Y8: =G8+I8+K8+M8+O8+Q8+S8+U8+W8 -> 3472703 | Z8: =Y8/$E8 -> 1.0600129 | AA8: =(Y8/9) -> 385855.89 | AB8: =AB10+AB25+AB30+AB37 -> 386946.28 | AC8: 1.03 | AG8: =AG10+AG25+AG30+AG37 -> 496133.92 | AH8: =AG8/$AB8 -> 1.2821778 | AI8: =AI10+AI25+AI30+AI37 -> 562926.1 | AJ8: =AI8/$AB8 -> 1.4547913 | AK8: =AK10+AK25+AK30+AK37 -> 0 | AL8: =AK8/$AB8 -> 0 | AM8: =AM10+AM25+AM30+AM37 -> 349243.7 | AN8: =AM8/$AB8 -> 0.90256377 | AO8: =AO10+AO25+AO30+AO37 -> 246190.49 | AP8: =AO8/$AB8 -> 0.63623946 | AQ8: =AQ10+AQ25+AQ30+AQ37 -> 225547.54 | AR8: =AQ8/$AB8 -> 0.58289109 | AS8: =AS10+AS25+AS30+AS37 -> 248080.63 | AT8: =AS8/$AB8 -> 0.6411242 | AU8: =AU10+AU25+AU30+AU37 -> 236782.22 | AV8: =AU8/$AB8 -> 0.61192531 | AW8: =AW10+AW25+AW30+AW37 -> 312229.77 | AX8: =AW8/$AB8 -> 0.80690728 | AY8: =AY10+AY25+AY30+AY37 -> 287105.14 | AZ8: =AY8/$AB8 -> 0.74197674 | BA8: =AG8+AI8+AK8+AM8+AO8+AQ8+AS8+AU8+AW8+AY8 -> 2964239.5 | BB8: =BA8/(AB8*12) -> 0.63838308 | BC8: =BA8/9 -> 329359.95 | BD8: =BD10+BD25+BD30+BD37 -> 425338.18 | BE8: =BD8*12 -> 5104058.1 | BF8: =BF10+BF25+BF30+BF37+BF44 -> 3948547.2 | BG8: =BF8/12 -> 329045.6 | BH8: =BH10+BH25+BH30+BH37+BH44 -> 285703.43 | BI8: =BH8/$BG8 -> 0.86827915 | BJ8: =BJ10+BJ25+BJ30+BJ37+BJ44 -> 313705.49 | BK8: =BJ8/$BG8 -> 0.95338 | BL8: =BL10+BL25+BL30+BL37+BL44 -> 310225.83 | BM8: =BL8/$BG8 -> 0.94280496 | BN8: =BN10+BN25+BN30+BN37+BN44 -> 291804.56 | BO8: =BN8/$BG8 -> 0.88682104 | BP8: =BP10+BP25+BP30+BP37+BP44 -> 315879.71 | BQ8: =BP8/$BG8 -> 0.95998765 | BR8: =BR10+BR25+BR30+BR37+BR44 -> 368160.1 | BS8: =BR8/$BG8 -> 1.1188726 | BT8: =BT10+BT25+BT30+BT37+BT44 -> 338947.25 | BU8: =BT8/$BG8 -> 1.030092 | BV8: =BV10+BV25+BV30+BV37+BV44 -> 365761.99 | BW8: =BV8/$BG8 -> 1.1115845 | BX8: =BX10+BX25+BX30+BX37+BX44 -> 363879.52 | BY8: =BX8/$BG8 -> 1.1058635 | BZ8: 374075.87 | CA8: =BZ8/$BG8 -> 1.1368511 | CB8: =CB10+CB25+CB30+CB37+CB44 -> 361177.89 | CC8: =CB8/$BG8 -> 1.097653 | CD8: =CD10+CD25+CD30+CD37+CD44 -> 396342.05 | CE8: =CD8/$BG8 -> 1.2045201 | CF8: =CF10+CF25+CF30+CF37+CF44 -> 4085097.3 | CG8: =CF8/(BG8*12) -> 1.0345824
AC9: 1.1
A10: CONTRIBUIÇÕES SOCIAIS | B10: 2601720.3 | C10: 1872675.1 | D10: 2473763.5 | E10: 2585099.9 | F10: =E10/12 -> 215424.99 | G10: =SUM(G12:G24) -> 248811.85 | H10: =G10/F10 -> 1.1549814 | I10: =SUM(I12:I24) -> 220194.14 | J10: =I10/F10 -> 1.0221383 | K10: =SUM(K12:K24) -> 218196.85 | L10: =K10/F10 -> 1.0128669 | M10: =SUM(M12:M24) -> 212784.52 | N10: =M10/F10 -> 0.98774295 | O10: =SUM(O12:O24) -> 216009.31 | P10: =O10/$F10 -> 1.0027124 | Q10: =SUM(Q12:Q24) -> 217315.49 | R10: =Q10/$F10 -> 1.0087757 | S10: =SUM(S12:S24) -> 219895.33 | T10: =S10/$F10 -> 1.0207513 | U10: =SUM(U12:U24) -> 220217.9 | V10: =U10/$F10 -> 1.0222486 | W10: =SUM(W12:W24) -> 254150.89 | X10: =W10/$F10 -> 1.1797651 | Y10: =G10+I10+K10+M10+O10+Q10+S10+U10+W10 -> 2027576.3 | Z10: =Y10/$E10 -> 0.78433189 | AA10: =(Y10/9) -> 225286.25 | AB10: =SUM(AB12:AB24) -> 236464.87 | AG10: =SUM(AG12:AG24) -> 275379.79 | AH10: =AG10/$AB10 -> 1.1645696 | AI10: =SUM(AI12:AI24) -> 241208.43 | AJ10: =AI10/$AB10 -> 1.0200603 | AK10: =SUM(AK12:AK24) -> 0 | AL10: =AK10/$AB10 -> 0 | AM10: =SUM(AM12:AM24) -> 247352.7 | AN10: =AM10/$AB10 -> 1.0460442 | AO10: =SUM(AO12:AO24) -> 234137.3 | AP10: =AO10/$AB10 -> 0.99015683 | AQ10: =SUM(AQ12:AQ24) -> 211294.18 | AR10: =AQ10/$AB10 -> 0.89355422 | AS10: =SUM(AS12:AS24) -> 230287.33 | AT10: =AS10/$AB10 -> 0.97387544 | AU10: =SUM(AU12:AU24) -> 225952.17 | AV10: =AU10/$AB10 -> 0.95554226 | AW10: =SUM(AW12:AW24) -> 225929.67 | AX10: =AW10/$AB10 -> 0.9554471 | AY10: =SUM(AY12:AY24) -> 224459.13 | AZ10: =AY10/$AB10 -> 0.94922823 | BA10: =AG10+AI10+AK10+AM10+AO10+AQ10+AS10+AU10+AW10+AY10 -> 2116000.7 | BB10: =BA10/(AB10*12) -> 0.74570652 | BC10: =BA10/9 -> 235111.19 | BD10: =SUM(BD12:BD24) -> 245123.2 | BE10: =BD10*12 -> 2941478.3 | BF10: =BF11+BF16 -> 2994116.5 | BG10: =BF10/12 -> 249509.71 | BH10: =BH11+BH16 -> 245541.78 | BI10: =BH10/$BG10 -> 0.98409712 | BJ10: =BJ11+BJ16 -> 256874.45 | BK10: =BJ10/$BG10 -> 1.0295169 | BL10: =BL11+BL16 -> 252787.04 | BM10: =BL10/$BG10 -> 1.0131351 | BN10: =BN11+BN16 -> 251816.76 | BO10: =BN10/$BG10 -> 1.0092463 | BP10: =BP11+BP16 -> 255024.12 | BQ10: =BP10/$BG10 -> 1.022101 | BR10: =BR11+BR16 -> 258725.58 | BS10: =BR10/$BG10 -> 1.0369359 | BT10: =BT11+BT16 -> 251423.54 | BU10: =BT10/$BG10 -> 1.0076704 | BV10: =BV11+BV16 -> 255738.27 | BW10: =BV10/$BG10 -> 1.0249632 | BX10: =BX11+BX16 -> 260068.93 | BY10: =BX10/$BG10 -> 1.0423199 | BZ10: 250275.31 | CA10: =BZ10/$BG10 -> 1.0030684 | CB10: =CB11+CB16 -> 253196.14 | CC10: =CB10/$BG10 -> 1.0147747 | CD10: =CD11+CD16 -> 246037.63 | CE10: =CD10/$BG10 -> 0.98608441 | CF10: =CF11+CF16 -> 3037509.6 | CG10: =CF10/(BG10*12) -> 1.0144928
A11: RECEITAS SOCIAIS | BF11: =SUM(BF12:BF14)+BF15 -> 2015935.7 | BG11: =BF11/12 -> 167994.64 | BH11: =SUM(BH12:BH14)+BH15 -> 172213.26 | BI11: =BH11/$BG11 -> 1.0251116 | BJ11: =SUM(BJ12:BJ14)+BJ15 -> 175503.88 | BK11: =BJ11/$BG11 -> 1.0446993 | BL11: =SUM(BL12:BL14)+BL15 -> 176207.62 | BM11: =BL11/$BG11 -> 1.0488883 | BN11: =SUM(BN12:BN14)+BN15 -> 175995.09 | BO11: =BN11/$BG11 -> 1.0476232 | BP11: =SUM(BP12:BP14)+BP15 -> 175310.86 | BQ11: =BP11/$BG11 -> 1.0435503 | BR11: =SUM(BR12:BR14)+BR15 -> 173744.21 | BS11: =BR11/$BG11 -> 1.0342247 | BT11: =SUM(BT12:BT14)+BT15 -> 174095.1 | BU11: =BT11/$BG11 -> 1.0363134 | BV11: =SUM(BV12:BV14)+BV15 -> 174165.56 | BW11: =BV11/$BG11 -> 1.0367328 | BX11: =SUM(BX12:BX14)+BX15 -> 172061.65 | BY11: =BX11/$BG11 -> 1.0242091 | BZ11: 173696.69 | CA11: =BZ11/$BG11 -> 1.0339418 | CB11: =SUM(CB12:CB14)+CB15 -> 171491.39 | CC11: =CB11/$BG11 -> 1.0208146 | CD11: =SUM(CD12:CD14)+CD15 -> 171421.02 | CE11: =CD11/$BG11 -> 1.0203958 | CF11: =SUM(CF12:CF14)+CF15 -> 2085906.3 | CG11: =CF11/(BG11*12) -> 1.0347087
A12: Mensalidade de Sócios | B12: 1653825.2 | C12: 1194562.8 | D12: 1592750.4 | E12: 1672387.9 | F12: =E12/12 -> 139365.66 | G12: 148320.37 | H12: =G12/F12 -> 1.0642534 | I12: 127947.9 | J12: =I12/F12 -> 0.91807338 | K12: 127658.45 | L12: =K12/F12 -> 0.91599647 | M12: 127629.51 | N12: =M12/F12 -> 0.91578882 | O12: 126858.33 | P12: =O12/$F12 -> 0.91025532 | Q12: 127142.87 | R12: =Q12/$F12 -> 0.912297 | S12: 128572.4 | T12: =S12/$F12 -> 0.9225544 | U12: 128941.26 | V12: =U12/$F12 -> 0.92520111 | W12: 129906.64 | X12: =W12/$F12 -> 0.93212807 | Y12: =G12+I12+K12+M12+O12+Q12+S12+U12+W12 -> 1172977.7 | Z12: =Y12/$E12 -> 0.701379 | AA12: =(Y12/9) -> 130330.86 | AB12: =AA12*AC7 -> 135544.09 | AD12: =AB12/AA12 -> 1.04 | AG12: 164816.84 | AH12: =AG12/$AB12 -> 1.2159648 | AI12: 140771.25 | AJ12: =AI12/$AB12 -> 1.0385643 | AL12: =AK12/$AB12 -> 0 | AM12: 143687.91 | AN12: =AM12/$AB12 -> 1.0600824 | AO12: 141002.31 | AP12: =AO12/$AB12 -> 1.0402689 | AQ12: 118564.35 | AR12: =AQ12/$AB12 -> 0.87472901 | AS12: 138648.57 | AT12: =AS12/$AB12 -> 1.0229038 | AU12: 136043.33 | AV12: =AU12/$AB12 -> 1.0036832 | AW12: 135524.13 | AX12: =AW12/$AB12 -> 0.99985272 | AY12: 134922.08 | AZ12: =AY12/$AB12 -> 0.99541099 | BA12: =AG12+AI12+AK12+AM12+AO12+AQ12+AS12+AU12+AW12+AY12 -> 1253980.8 | BB12: =BA12/(AB12*12) -> 0.77095501 | BC12: =BA12/9 -> 139331.2 | BD12: =AB12*BA1 -> 140965.86 | BE12: =BD12*12 -> 1691590.3 | BF12: =(Mensalidades!D16)*BC1 -> 1748443.8 | BG12: =BF12/12 -> 145703.65 | BH12: 178713.88 | BI12: =BH12/$BG12 -> 1.2265573 | BJ12: 182588.85 | BK12: =BJ12/$BG12 -> 1.2531522 | BL12: 182963.19 | BM12: =BL12/$BG12 -> 1.2557214 | BN12: 182737.1 | BO12: =BN12/$BG12 -> 1.2541697 | BP12: 182009.2 | BQ12: =BP12/$BG12 -> 1.2491739 | BR12: 179968.24 | BS12: =BR12/$BG12 -> 1.2351663 | BT12: 180715.83 | BU12: =BT12/$BG12 -> 1.2402972 | BV12: 179293.55 | BW12: =BV12/$BG12 -> 1.2305358 | BX12: 177047.62 | BY12: =BX12/$BG12 -> 1.2151214 | BZ12: 178794.75 | CA12: =BZ12/$BG12 -> 1.2271124 | CB12: 177197.31 | CC12: =CB12/$BG12 -> 1.2161487 | CD12: 177871.07 | CE12: =CD12/$BG12 -> 1.2207729 | CF12: =BH12+BJ12+BL12+BN12+BP12+BR12+BT12+BV12+BX12+BZ12+CB12+CD12 -> 2159900.6 | CG12: =CF12/(BG12*12) -> 1.2353274
A13: Mensalidade de Sócio Esportista | B13: 102925.06 | C13: 65193.59 | D13: 86924.787 | E13: 83000 | F13: =E13/12 -> 6916.6667 | G13: 7236 | H13: =G13/F13 -> 1.0461687 | I13: 6657.12 | J13: =I13/F13 -> 0.96247518 | K13: 6657.12 | L13: =K13/F13 -> 0.96247518 | M13: 6367.68 | N13: =M13/F13 -> 0.92062843 | O13: 6367.68 | P13: =O13/$F13 -> 0.92062843 | Q13: 6657.12 | R13: =Q13/$F13 -> 0.96247518 | S13: 6567.68 | T13: =S13/$F13 -> 0.9495441 | U13: 6657.12 | V13: =U13/$F13 -> 0.96247518 | W13: 6552.65 | X13: =W13/$F13 -> 0.94737108 | Y13: =G13+I13+K13+M13+O13+Q13+S13+U13+W13 -> 59720.17 | Z13: =Y13/$E13 -> 0.71952012 | AA13: =(Y13/9) -> 6635.5744 | AB13: =AA13*AC7 -> 6900.9974 | AD13: =AB13/AA13 -> 1.04 | AG13: 6622.44 | AH13: =AG13/$AB13 -> 0.95963519 | AI13: 4818.32 | AJ13: =AI13/$AB13 -> 0.69820632 | AL13: =AK13/$AB13 -> 0 | AM13: 4816.32 | AN13: =AM13/$AB13 -> 0.6979165 | AO13: 4515.3 | AP13: =AO13/$AB13 -> 0.65429672 | AQ13: 3838.05 | AR13: =AQ13/$AB13 -> 0.55615874 | AS13: 4515.3 | AT13: =AS13/$AB13 -> 0.65429672 | AU13: 4214.28 | AV13: =AU13/$AB13 -> 0.61067694 | AW13: 4816.32 | AX13: =AW13/$AB13 -> 0.6979165 | AY13: 4816.32 | AZ13: =AY13/$AB13 -> 0.6979165 | BA13: =AG13+AI13+AK13+AM13+AO13+AQ13+AS13+AU13+AW13+AY13 -> 42972.65 | BB13: =BA13/(AB13*12) -> 0.51891835 | BC13: =BA13/9 -> 4774.7389 | BD13: 6261.2 | BE13: =BD13*12 -> 75134.4 | BF13: =(Mensalidades!D19)*BC1 -> 60693.696 | BG13: =BF13/12 -> 5057.808 | BH13: 4491.72 | BI13: =BH13/$BG13 -> 0.88807642 | BJ13: 4117.41 | BK13: =BJ13/$BG13 -> 0.81407005 | BL13: 4491.72 | BM13: =BL13/$BG13 -> 0.88807642 | BN13: 4491.72 | BO13: =BN13/$BG13 -> 0.88807642 | BP13: 4491.72 | BQ13: =BP13/$BG13 -> 0.88807642 | BR13: 4866.03 | BS13: =BR13/$BG13 -> 0.96208278 | BT13: 4491.72 | BU13: =BT13/$BG13 -> 0.88807642 | BV13: 5988.96 | BW13: =BV13/$BG13 -> 1.1841019 | BX13: 5996.69 | BY13: =BX13/$BG13 -> 1.1856302 | BZ13: 5988.96 | CA13: =BZ13/$BG13 -> 1.1841019 | CB13: 5240.34 | CC13: =CB13/$BG13 -> 1.0360892 | CD13: 4491.72 | CE13: =CD13/$BG13 -> 0.88807642 | CF13: =BH13+BJ13+BL13+BN13+BP13+BR13+BT13+BV13+BX13+BZ13+CB13+CD13 -> 59148.71 | CG13: =CF13/(BG13*12) -> 0.97454454
A14: tx de obras | B14: 321601.22 | C14: 232702.52 | D14: 310270.03 | E14: 325783.53 | F14: =E14/12 -> 27148.627 | G14: =28987.69 -> 28987.69 | H14: =G14/F14 -> 1.0677405 | I14: 25233.6 | J14: =I14/F14 -> 0.92946136 | K14: 25180.28 | L14: =K14/F14 -> 0.92749735 | M14: 25121.62 | N14: =M14/F14 -> 0.92533665 | O14: 24979.43 | P14: =O14/$F14 -> 0.92009919 | Q14: 25149.87 | R14: =Q14/$F14 -> 0.92637722 | S14: 25174.95 | T14: =S14/$F14 -> 0.92730103 | U14: 25199.78 | V14: =U14/$F14 -> 0.92821562 | W14: 25494.9 | X14: =W14/$F14 -> 0.93908615 | Y14: =G14+I14+K14+M14+O14+Q14+S14+U14+W14 -> 230522.12 | Z14: =Y14/$E14 -> 0.70759293 | AA14: =(Y14/9) -> 25613.569 | AB14: =AA14*AC7 -> 26638.112 | AD14: =AB14/AA14 -> 1.04 | AE14: A taxa de obras foi somada ao valor das mensalidades | AG14: 31823.57 | AH14: =AG14/$AB14 -> 1.1946631 | AI14: 27057.71 | AJ14: =AI14/$AB14 -> 1.0157518 | AL14: =AK14/$AB14 -> 0 | AM14: 27608.06 | AN14: =AM14/$AB14 -> 1.0364121 | AO14: 26972.07 | AP14: =AO14/$AB14 -> 1.0125369 | AQ14: 26720.82 | AR14: =AQ14/$AB14 -> 1.0031049 | AS14: 26453.47 | AT14: =AS14/$AB14 -> 0.99306852 | AU14: 26111.05 | AV14: =AU14/$AB14 -> 0.980214 | AW14: 26108.83 | AX14: =AW14/$AB14 -> 0.98013066 | AY14: 25997.47 | AZ14: =AY14/$AB14 -> 0.97595019 | BA14: =AG14+AI14+AK14+AM14+AO14+AQ14+AS14+AU14+AW14+AY14 -> 244853.05 | BB14: =BA14/(AB14*12) -> 0.76598601 | BC14: =BA14/9 -> 27205.894 | BD14: =AB14*BA1 -> 27703.636 | BE14: =BD14*12 -> 332443.63 | BF14: =(Mensalidades!G20)*BC1 -> 335475 | BG14: =BF14/12 -> 27956.25 | BI14: 0 | BJ14: 0 | BK14: =BJ14/$BG14 -> 0 | BL14: 0 | BM14: =BL14/$BG14 -> 0 | BO14: =BN14/$BG14 -> 0 | BQ14: =BP14/$BG14 -> 0 | BS14: =BR14/$BG14 -> 0 | BT14: 0 | BU14: =BT14/$BG14 -> 0 | BV14: 0 | BW14: =BV14/$BG14 -> 0 | BX14: 0 | BY14: =BX14/$BG14 -> 0 | BZ14: 0 | CA14: =BZ14/$BG14 -> 0 | CB14: 0 | CC14: =CB14/$BG14 -> 0 | CD14: 0 | CE14: =CD14/$BG14 -> 0 | CF14: =BH14+BJ14+BL14+BN14+BP14+BR14+BT14+BV14+BX14+BZ14+CB14+CD14 -> 0 | CG14: =CF14/(BG14*12) -> 0
A15: FUNDO PRÓ-VELA | B15: -126310.2 | C15: -92650.522 | D15: -123534.03 | E15: -129710.73 | F15: =E15/12 -> -10809.228 | G15: =-(G12+G13+G17+G18+G19+G31)*0.05 -> -11302.572 | H15: =G15/F15 -> 1.045641 | I15: =-(I12+I13+I17+I18+I19+I31)*0.05 -> -10078.787 | J15: =I15/F15 -> 0.9324243 | K15: =-(K12+K13+K17+K18+K19+K31)*0.05 -> -10043.228 | L15: =K15/F15 -> 0.92913462 | M15: =-(M12+M13+M17+M18+M19+M31)*0.05 -> -9947.4045 | N15: =M15/F15 -> 0.92026969 | O15: =-(O12+O13+O17+O18+O19+O31)*0.05 -> -9828.642 | P15: =O15/$F15 -> 0.90928255 | Q15: =-(Q12+Q13+Q17+Q18+Q19+Q31)*0.05 -> -9832.988 | R15: =Q15/$F15 -> 0.90968461 | S15: =-(S12+S13+S17+S18+S19+S31)*0.05 -> -9914.197 | T15: =S15/$F15 -> 0.91719755 | U15: =-(U12+U13+U17+U18+U19+U31)*0.05 -> -10423.082 | V15: =U15/$F15 -> 0.9642763 | W15: =-(W12+W13+W17+W18+W19+W31)*0.05 -> -10614.745 | X15: =W15/$F15 -> 0.98200768 | Y15: =G15+I15+K15+M15+O15+Q15+S15+U15+W15 -> -91985.644 | Z15: =Y15/$E15 -> 0.70915986 | AA15: =(Y15/9) -> -10220.627 | AB15: =-(AB12+AB13+AB17+AB18+AB19+AB31)*0.05 -> -10645.011 | AG15: =-(AG12+AG13+AG17+AG18+AG19+AG31)*0.05 -> -12967.137 | AH15: =AG15/$AB15 -> 1.2181422 | AI15: =-(AI12+AI13+AI17+AI18+AI19+AI31)*0.05 -> -11265.647 | AJ15: =AI15/$AB15 -> 1.0583029 | AK15: =(AK12+AK13+AK17+AK18+AK19+AK31)*0.05 -> 0 | AL15: =AK15/$AB15 -> 0 | AM15: =-(AM12+AM13+AM17+AM18+AM19+AM31)*0.05 -> -11458.272 | AN15: =AM15/$AB15 -> 1.0763983 | AO15: =-(AO12+AO13+AO17+AO18+AO19+AO31)*0.05 -> -11085.367 | AP15: =AO15/$AB15 -> 1.0413673 | AQ15: =-(AQ12+AQ13+AQ17+AQ18+AQ19+AQ31)*0.05 -> -9869.7095 | AR15: =AQ15/$AB15 -> 0.9271676 | AS15: =-(AS12+AS13+AS17+AS18+AS19+AS31)*0.05 -> -10941.702 | AT15: =AS15/$AB15 -> 1.0278713 | AU15: =-(AU12+AU13+AU17+AU18+AU19+AU31)*0.05 -> -10671.446 | AV15: =AU15/$AB15 -> 1.0024833 | AW15: =-(AW12+AW13+AW17+AW18+AW19+AW31)*0.05 -> -10880.897 | AX15: =AW15/$AB15 -> 1.0221593 | AY15: =-(AY12+AY13+AY17+AY18+AY19+AY31)*0.05 -> -10589.401 | AZ15: =AY15/$AB15 -> 0.99477593 | BA15: =AG15+AI15+AK15+AM15+AO15+AQ15+AS15+AU15+AW15+AY15 -> -99729.577 | BB15: =BA15/(AB15*12) -> 0.78072234 | BC15: =BA15/9 -> -11081.064 | BD15: =-(BD12+BD13+BD17+BD18+BD19+BD31)*0.05 -> -11028.692 | BE15: =BD15*12 -> -132344.31 | BF15: =-(SUM(BF12:BF14))*0.06 -> -128676.75 | BG15: =BF15/12 -> -10723.062 | BH15: =-(SUM(BH12:BH14))*0.06 -> -10992.336 | BI15: =BH15/$BG15 -> 1.0251116 | BJ15: =-(SUM(BJ12:BJ14))*0.06 -> -11202.376 | BK15: =BJ15/$BG15 -> 1.0446993 | BL15: =-(SUM(BL12:BL14))*0.06 -> -11247.295 | BM15: =BL15/$BG15 -> 1.0488883 | BN15: =-(SUM(BN12:BN14))*0.06 -> -11233.729 | BO15: =BN15/$BG15 -> 1.0476232 | BP15: =-(SUM(BP12:BP14))*0.06 -> -11190.055 | BQ15: =BP15/$BG15 -> 1.0435503 | BR15: =-(SUM(BR12:BR14))*0.06 -> -11090.056 | BS15: =BR15/$BG15 -> 1.0342247 | BT15: =-(SUM(BT12:BT14))*0.06 -> -11112.453 | BU15: =BT15/$BG15 -> 1.0363134 | BV15: =-(SUM(BV12:BV14))*0.06 -> -11116.951 | BW15: =BV15/$BG15 -> 1.0367328 | BX15: =-(SUM(BX12:BX14))*0.06 -> -10982.659 | BY15: =BX15/$BG15 -> 1.0242091 | BZ15: -11087.023 | CA15: =BZ15/$BG15 -> 1.0339418 | CB15: =-(SUM(CB12:CB14))*0.06 -> -10946.259 | CC15: =CB15/$BG15 -> 1.0208146 | CD15: =-(SUM(CD12:CD14))*0.06 -> -10941.767 | CE15: =CD15/$BG15 -> 1.0203958 | CF15: =BH15+BJ15+BL15+BN15+BP15+BR15+BT15+BV15+BX15+BZ15+CB15+CD15 -> -133142.96 | CG15: =CF15/(BG15*12) -> 1.0347087
A16: RECEITAS DE SERVIÇOS DIVERSOS | BF16: =SUM(BF17:BF24) -> 978180.75 | BG16: =BF16/12 -> 81515.063 | BH16: =SUM(BH17:BH24) -> 73328.52 | BI16: =BH16/$BG16 -> 0.89957019 | BJ16: =SUM(BJ17:BJ24) -> 81370.57 | BK16: =BJ16/$BG16 -> 0.99822741 | BL16: =SUM(BL17:BL24) -> 76579.42 | BM16: =BL16/$BG16 -> 0.93945116 | BN16: =SUM(BN17:BN24) -> 75821.67 | BO16: =BN16/$BG16 -> 0.93015533 | BP16: =SUM(BP17:BP24) -> 79713.26 | BQ16: =BP16/$BG16 -> 0.97789608 | BR16: =SUM(BR17:BR24) -> 84981.37 | BS16: =BR16/$BG16 -> 1.0425235 | BT16: =SUM(BT17:BT24) -> 77328.44 | BU16: =BT16/$BG16 -> 0.94863989 | BV16: =SUM(BV17:BV24) -> 81572.71 | BW16: =BV16/$BG16 -> 1.0007072 | BX16: =SUM(BX17:BX24) -> 88007.28 | BY16: =BX16/$BG16 -> 1.0796444 | BZ16: 76578.62 | CA16: =BZ16/$BG16 -> 0.93944134 | CB16: =SUM(CB17:CB24) -> 81704.75 | CC16: =CB16/$BG16 -> 1.002327 | CD16: =SUM(CD17:CD24) -> 74616.61 | CE16: =CD16/$BG16 -> 0.91537205 | CF16: =SUM(CF17:CF24) -> 951603.22 | CG16: =CF16/(BG16*12) -> 0.97282963
A17: Estadia de Barcos | B17: 696989 | C17: 540340.94 | D17: 720454.59 | E17: 756477.32 | F17: =E17/12 -> 63039.776 | G17: 63717.72 | H17: =G17/F17 -> 1.0107542 | I17: 60990.64 | J17: =I17/F17 -> 0.96749455 | K17: 60608.23 | L17: =K17/F17 -> 0.96142838 | M17: 58365.99 | N17: =M17/F17 -> 0.92585973 | O17: 57179.39 | P17: =O17/$F17 -> 0.90703669 | Q17: 57514.97 | R17: =Q17/$F17 -> 0.91235999 | S17: 57949.48 | T17: =S17/$F17 -> 0.91925263 | U17: 67610.67 | V17: =U17/$F17 -> 1.0725081 | W17: 70823.41 | X17: =W17/$F17 -> 1.1234718 | Y17: =G17+I17+K17+M17+O17+Q17+S17+U17+W17 -> 554760.5 | Z17: =Y17/$E17 -> 0.73334717 | AA17: =(Y17/9) -> 61640.056 | AB17: 66600 | AD17: =AB17/AA17 -> 1.0804663 | AE17: Definido uma média após a cobrança dos retroativos | AG17: 82025.87 | AH17: =AG17/$AB17 -> 1.2316197 | AI17: 71343.94 | AJ17: =AI17/$AB17 -> 1.0712303 | AL17: =AK17/$AB17 -> 0 | AM17: 75862.52 | AN17: =AM17/$AB17 -> 1.1390769 | AO17: 70164.87 | AP17: =AO17/$AB17 -> 1.0535266 | AQ17: 70060.67 | AR17: =AQ17/$AB17 -> 1.051962 | AS17: 69685.93 | AT17: =AS17/$AB17 -> 1.0463353 | AU17: 67936.2 | AV17: =AU17/$AB17 -> 1.0200631 | AW17: 67924.81 | AX17: =AW17/$AB17 -> 1.019892 | AY17: 66069.9 | AZ17: =AY17/$AB17 -> 0.99204054 | BA17: =AG17+AI17+AK17+AM17+AO17+AQ17+AS17+AU17+AW17+AY17 -> 641074.71 | BB17: =BA17/(AB17*12) -> 0.80214553 | BC17: =BA17/9 -> 71230.523 | BD17: =AB17*BA1 -> 69264 | BE17: =BD17*12 -> 831168 | BF17: =(68000*12)*BC1 -> 856800 | BG17: =BF17/12 -> 71400 | BH17: 69595.42 | BI17: =BH17/$BG17 -> 0.97472577 | BJ17: 71846.1 | BK17: =BJ17/$BG17 -> 1.0062479 | BL17: 70107.18 | BM17: =BL17/$BG17 -> 0.98189328 | BN17: 71429.45 | BO17: =BN17/$BG17 -> 1.0004125 | BP17: 72847.64 | BQ17: =BP17/$BG17 -> 1.0202751 | BR17: 72359.98 | BS17: =BR17/$BG17 -> 1.0134451 | BT17: 72459.33 | BU17: =BT17/$BG17 -> 1.0148366 | BV17: 71474.48 | BW17: =BV17/$BG17 -> 1.0010431 | BX17: 70063.58 | BY17: =BX17/$BG17 -> 0.98128263 | BZ17: 70813.93 | CA17: =BZ17/$BG17 -> 0.99179174 | CB17: 70842.49 | CC17: =CB17/$BG17 -> 0.99219174 | CD17: 70744.11 | CE17: =CD17/$BG17 -> 0.99081387 | CF17: =BH17+BJ17+BL17+BN17+BP17+BR17+BT17+BV17+BX17+BZ17+CB17+CD17 -> 854583.69 | CG17: =CF17/(BG17*12) -> 0.99741327
A18: Taxa de Armário (Vestiários) | B18: 10318.226 | C18: 7050.02 | D18: 9400.0267 | E18: 9870.028 | F18: =E18/12 -> 822.50233 | G18: 817 | H18: =G18/F18 -> 0.99331025 | I18: 834.56 | J18: =I18/F18 -> 1.0146597 | K18: 834.56 | L18: =K18/F18 -> 1.0146597 | M18: 834.56 | N18: =M18/F18 -> 1.0146597 | O18: 834.56 | P18: =O18/$F18 -> 1.0146597 | Q18: 834.56 | R18: =Q18/$F18 -> 1.0146597 | S18: 834.56 | T18: =S18/$F18 -> 1.0146597 | U18: 782.4 | V18: =U18/$F18 -> 0.9512435 | W18: 834.56 | X18: =W18/$F18 -> 1.0146597 | Y18: =G18+I18+K18+M18+O18+Q18+S18+U18+W18 -> 7441.32 | Z18: =Y18/$E18 -> 0.75393099 | AA18: =(Y18/9) -> 826.81333 | AB18: =AA18*$AC$7 -> 859.88587 | AD18: =AB18/AA18 -> 1.04 | AG18: 1083.77 | AH18: =AG18/$AB18 -> 1.2603649 | AI18: 1111.93 | AJ18: =AI18/$AB18 -> 1.2931135 | AL18: =AK18/$AB18 -> 0 | AM18: 2169.6 | AN18: =AM18/$AB18 -> 2.5231255 | AO18: 1057.68 | AP18: =AO18/$AB18 -> 1.2300237 | AQ18: 1030.56 | AR18: =AQ18/$AB18 -> 1.1984846 | AS18: 976.32 | AT18: =AS18/$AB18 -> 1.1354065 | AU18: 976.32 | AV18: =AU18/$AB18 -> 1.1354065 | AW18: 976.32 | AX18: =AW18/$AB18 -> 1.1354065 | AY18: 976.32 | AZ18: =AY18/$AB18 -> 1.1354065 | BA18: =AG18+AI18+AK18+AM18+AO18+AQ18+AS18+AU18+AW18+AY18 -> 10358.82 | BB18: =BA18/(AB18*12) -> 1.0038949 | BC18: =BA18/9 -> 1150.98 | BD18: =AY18*BA1 -> 1015.3728 | BE18: =BD18*12 -> 12184.474 | BF18: =10358.82*BC1 -> 10876.761 | BG18: =BF18/12 -> 906.39675 | BH18: 1196.16 | BI18: =BH18/$BG18 -> 1.319687 | BJ18: 1167.68 | BK18: =BJ18/$BG18 -> 1.2882659 | BL18: 1139.2 | BM18: =BL18/$BG18 -> 1.2568448 | BN18: 1196.16 | BO18: =BN18/$BG18 -> 1.319687 | BP18: 1196.16 | BQ18: =BP18/$BG18 -> 1.319687 | BR18: 1196.16 | BS18: =BR18/$BG18 -> 1.319687 | BT18: 1167.68 | BU18: =BT18/$BG18 -> 1.2882659 | BV18: 1132.1 | BW18: =BV18/$BG18 -> 1.2490115 | BX18: 1167.68 | BY18: =BX18/$BG18 -> 1.2882659 | BZ18: 1196.16 | CA18: =BZ18/$BG18 -> 1.319687 | CB18: 1196.16 | CC18: =CB18/$BG18 -> 1.319687 | CD18: 1196.16 | CE18: =CD18/$BG18 -> 1.319687 | CF18: =BH18+BJ18+BL18+BN18+BP18+BR18+BT18+BV18+BX18+BZ18+CB18+CD18 -> 14147.46 | CG18: =CF18/(BG18*12) -> 1.3007052
A19: Taxa de Armário (Hangar) | B19: 12146.557 | C19: 8429.4 | D19: 11239.2 | E19: 11801.16 | F19: =E19/12 -> 983.43 | G19: 912.87 | H19: =G19/F19 -> 0.92825112 | I19: 912.87 | J19: =I19/F19 -> 0.92825112 | K19: 952.56 | L19: =K19/F19 -> 0.96860987 | M19: 952.56 | N19: =M19/F19 -> 0.96860987 | O19: 952.56 | P19: =O19/$F19 -> 0.96860987 | Q19: 952.56 | R19: =Q19/$F19 -> 0.96860987 | S19: 952.56 | T19: =S19/$F19 -> 0.96860987 | U19: 992.25 | V19: =U19/$F19 -> 1.0089686 | W19: 1031.94 | X19: =W19/$F19 -> 1.0493274 | Y19: =G19+I19+K19+M19+O19+Q19+S19+U19+W19 -> 8612.73 | Z19: =Y19/$E19 -> 0.72982063 | AA19: =(Y19/9) -> 956.97 | AB19: =AA19*$AC$7 -> 995.2488 | AD19: =AB19/AA19 -> 1.04 | AG19: 949.44 | AH19: =AG19/$AB19 -> 0.95397251 | AI19: 949.44 | AJ19: =AI19/$AB19 -> 0.95397251 | AL19: =AK19/$AB19 -> 0 | AM19: 1114.56 | AN19: =AM19/$AB19 -> 1.1198808 | AO19: 949.44 | AP19: =AO19/$AB19 -> 0.95397251 | AQ19: 949.44 | AR19: =AQ19/$AB19 -> 0.95397251 | AS19: 949.44 | AT19: =AS19/$AB19 -> 0.95397251 | AU19: 949.44 | AV19: =AU19/$AB19 -> 0.95397251 | AW19: 908.16 | AX19: =AW19/$AB19 -> 0.91249545 | AY19: 949.44 | AZ19: =AY19/$AB19 -> 0.95397251 | BA19: =AG19+AI19+AK19+AM19+AO19+AQ19+AS19+AU19+AW19+AY19 -> 8668.8 | BB19: =BA19/(AB19*12) -> 0.72584865 | BC19: =BA19/9 -> 963.2 | BD19: =AY19*BA1 -> 987.4176 | BE19: =BD19*12 -> 11849.011 | BF19: =8668.8*BC1 -> 9102.24 | BG19: =BF19/12 -> 758.52 | BH19: 910.14 | BI19: =BH19/$BG19 -> 1.1998893 | BJ19: 910.14 | BK19: =BJ19/$BG19 -> 1.1998893 | BL19: 953.48 | BM19: =BL19/$BG19 -> 1.2570268 | BN19: 1038.58 | BO19: =BN19/$BG19 -> 1.369219 | BP19: 1038.58 | BQ19: =BP19/$BG19 -> 1.369219 | BR19: 1123.68 | BS19: =BR19/$BG19 -> 1.4814112 | BT19: 1123.68 | BU19: =BT19/$BG19 -> 1.4814112 | BV19: 1123.68 | BW19: =BV19/$BG19 -> 1.4814112 | BX19: 1123.68 | BY19: =BX19/$BG19 -> 1.4814112 | BZ19: 1123.68 | CA19: =BZ19/$BG19 -> 1.4814112 | CB19: 1123.68 | CC19: =CB19/$BG19 -> 1.4814112 | CD19: 1080.34 | CE19: =CD19/$BG19 -> 1.4242736 | CF19: =BH19+BJ19+BL19+BN19+BP19+BR19+BT19+BV19+BX19+BZ19+CB19+CD19 -> 12673.34 | CG19: =CF19/(BG19*12) -> 1.392332
A20: Taxa de Bolão | B20: 4200.9 | C20: 2802 | D20: 3736 | E20: 3922.8 | F20: =E20/12 -> 326.9 | H20: =G20/F20 -> 0 | I20: 150 | J20: =I20/F20 -> 0.45885592 | L20: =K20/F20 -> 0 | M20: 2350 | N20: =M20/F20 -> 7.1887427 | O20: 600 | P20: =O20/$F20 -> 1.8354237 | Q20: 200 | R20: =Q20/$F20 -> 0.61180789 | S20: 200 | T20: =S20/$F20 -> 0.61180789 | U20: 300 | V20: =U20/$F20 -> 0.91771184 | W20: 200 | X20: =W20/$F20 -> 0.61180789 | Y20: =G20+I20+K20+M20+O20+Q20+S20+U20+W20 -> 4000 | Z20: =Y20/$E20 -> 1.0196798 | AA20: =(Y20/9) -> 444.44444 | AB20: =AA20*$AC$7 -> 462.22222 | AD20: =AB20/AA20 -> 1.04 | AH20: =AG20/$AB20 -> 0 | AJ20: =AI20/$AB20 -> 0 | AL20: =AK20/$AB20 -> 0 | AN20: =AM20/$AB20 -> 0 | AP20: =AO20/$AB20 -> 0 | AR20: =AQ20/$AB20 -> 0 | AT20: =AS20/$AB20 -> 0 | AV20: =AU20/$AB20 -> 0 | AX20: =AW20/$AB20 -> 0 | AZ20: =AY20/$AB20 -> 0 | BA20: =AG20+AI20+AK20+AM20+AO20+AQ20+AS20+AU20+AW20+AY20 -> 0 | BB20: =BA20/(AB20*12) -> 0 | BC20: =BA20/9 -> 0 | BD20: =AB20*BA1 -> 480.71111 | BE20: =BD20*12 -> 5768.5333 | BF20: 5000 | BG20: =BF20/12 -> 416.66667 | BI20: =BH20/$BG20 -> 0 | BK20: =BJ20/$BG20 -> 0 | BM20: =BL20/$BG20 -> 0 | BO20: =BN20/$BG20 -> 0 | BQ20: =BP20/$BG20 -> 0 | BS20: =BR20/$BG20 -> 0 | BU20: =BT20/$BG20 -> 0 | BW20: =BV20/$BG20 -> 0 | BY20: =BX20/$BG20 -> 0 | BZ20: 2000 | CA20: =BZ20/$BG20 -> 4.8 | CB20: 0 | CC20: =CB20/$BG20 -> 0 | CE20: =CD20/$BG20 -> 0 | CF20: =BH20+BJ20+BL20+BN20+BP20+BR20+BT20+BV20+BX20+BZ20+CB20+CD20 -> 2000 | CG20: =CF20/(BG20*12) -> 0.4
A21: Concessão Restaurante | B21: 103487.81 | C21: 49909.86 | D21: 66546.48 | E21: 69873.804 | F21: =E21/12 -> 5822.817 | G21: 8082.82 | H21: =G21/F21 -> 1.3881288 | I21: 6856.24 | J21: =I21/F21 -> 1.1774782 | K21: 4944.33 | L21: =K21/F21 -> 0.84913024 | N21: =M21/F21 -> 0 | O21: 6116 | P21: =O21/$F21 -> 1.0503507 | Q21: 7736.53 | R21: =Q21/$F21 -> 1.3286576 | S21: 7579.9 | T21: =S21/$F21 -> 1.3017582 | V21: =U21/$F21 -> 0 | W21: 28777.03 | X21: =W21/$F21 -> 4.9421148 | Y21: =G21+I21+K21+M21+O21+Q21+S21+U21+W21 -> 70092.85 | Z21: =Y21/$E21 -> 1.0031349 | AA21: =(Y21/9) -> 7788.0944 | AB21: 7788 | AD21: =AB21/AA21 -> 0.99998787 | AH21: =AG21/$AB21 -> 0 | AI21: 4867.49 | AJ21: =AI21/$AB21 -> 0.62499872 | AL21: =AK21/$AB21 -> 0 | AN21: =AM21/$AB21 -> 0 | AP21: =AO21/$AB21 -> 0 | AR21: =AQ21/$AB21 -> 0 | AT21: =AS21/$AB21 -> 0 | AV21: =AU21/$AB21 -> 0 | AX21: =AW21/$AB21 -> 0 | AZ21: =AY21/$AB21 -> 0 | BA21: =AG21+AI21+AK21+AM21+AO21+AQ21+AS21+AU21+AW21+AY21 -> 4867.49 | BB21: =BA21/(AB21*12) -> 0.052083226 | BC21: =BA21/9 -> 540.83222 | BD21: =AB21*BA1 -> 8099.52 | BE21: =BD21*12 -> 97194.24 | BF21: =Concessionario!D6 -> 79400 | BG21: =BF21/12 -> 6616.6667 | BI21: =BH21/$BG21 -> 0 | BJ21: 5649.15 | BK21: =BJ21/$BG21 -> 0.85377582 | BL21: 2862.86 | BM21: =BL21/$BG21 -> 0.43267406 | BO21: =BN21/$BG21 -> 0 | BP21: 2515.13 | BQ21: =BP21/$BG21 -> 0.3801204 | BR21: 8270.05 | BS21: =BR21/$BG21 -> 1.2498816 | BU21: =BT21/$BG21 -> 0 | BV21: 6848.4 | BW21: =BV21/$BG21 -> 1.0350227 | BX21: 14175.64 | BY21: =BX21/$BG21 -> 2.1424141 | CA21: =BZ21/$BG21 -> 0 | CB21: 7233.62 | CC21: =CB21/$BG21 -> 1.0932423 | CE21: =CD21/$BG21 -> 0 | CF21: =BH21+BJ21+BL21+BN21+BP21+BR21+BT21+BV21+BX21+BZ21+CB21+CD21 -> 47554.85 | CG21: =CF21/(BG21*12) -> 0.59892758
A22: Patrocinios | B22: 27094.237 | C22: 33000 | D22: 33000 | E22: 34650 | F22: =E22/12 -> 2887.5 | H22: =G22/F22 -> 0 | J22: =I22/F22 -> 0 | L22: =K22/F22 -> 0 | N22: =M22/F22 -> 0 | P22: =O22/$F22 -> 0 | R22: =Q22/$F22 -> 0 | T22: =S22/$F22 -> 0 | V22: =U22/$F22 -> 0 | X22: =W22/$F22 -> 0 | Y22: =G22+I22+K22+M22+O22+Q22+S22+U22+W22 -> 0 | Z22: =Y22/$E22 -> 0 | AA22: =(Y22/9) -> 0 | AB22: =AA22*$AC$7 -> 0 | AH22: =AG22/$AB22 -> #DIV/0! | AJ22: =AI22/$AB22 -> #DIV/0! | AL22: =AK22/$AB22 -> #DIV/0! | AM22: 2540 | AN22: =AM22/$AB22 -> #DIV/0! | AP22: =AO22/$AB22 -> #DIV/0! | AR22: =AQ22/$AB22 -> #DIV/0! | AT22: =AS22/$AB22 -> #DIV/0! | AV22: =AU22/$AB22 -> #DIV/0! | AX22: =AW22/$AB22 -> #DIV/0! | AZ22: =AY22/$AB22 -> #DIV/0! | BA22: =AG22+AI22+AK22+AM22+AO22+AQ22+AS22+AU22+AW22+AY22 -> 2540 | BB22: =BA22/(AB22*12) -> #DIV/0! | BC22: =BA22/9 -> 282.22222 | BD22: 0 | BE22: =BD22*12 -> 0 | BF22: 0 | BG22: =BF22/12 -> 0 | BI22: =BH22/$BG22 -> #DIV/0! | BK22: =BJ22/$BG22 -> #DIV/0! | BM22: =BL22/$BG22 -> #DIV/0! | BO22: =BN22/$BG22 -> #DIV/0! | BQ22: =BP22/$BG22 -> #DIV/0! | BS22: =BR22/$BG22 -> #DIV/0! | BT22: 1200 | BU22: =BT22/$BG22 -> #DIV/0! | BW22: =BV22/$BG22 -> #DIV/0! | BY22: =BX22/$BG22 -> #DIV/0! | CA22: =BZ22/$BG22 -> #DIV/0! | CC22: =CB22/$BG22 -> #DIV/0! | CE22: =CD22/$BG22 -> #DIV/0! | CF22: =BH22+BJ22+BL22+BN22+BP22+BR22+BT22+BV22+BX22+BZ22+CB22+CD22 -> 1200 | CG22: =CF22/(BG22*12) -> #DIV/0!
A23: uniformes e acessórios | B23: 6097.575 | C23: 1105 | D23: 1473.3333 | E23: 4000 | F23: =E23/12 -> 333.33333 | H23: =G23/F23 -> 0 | J23: =I23/F23 -> 0 | K23: 70 | L23: =K23/F23 -> 0.21 | N23: =M23/F23 -> 0 | O23: 1950 | P23: =O23/$F23 -> 5.85 | Q23: 960 | R23: =Q23/$F23 -> 2.88 | S23: 680 | T23: =S23/$F23 -> 2.04 | V23: =U23/$F23 -> 0 | W23: 630 | X23: =W23/$F23 -> 1.89 | Y23: =G23+I23+K23+M23+O23+Q23+S23+U23+W23 -> 4290 | Z23: =Y23/$E23 -> 1.0725 | AA23: =(Y23/9) -> 476.66667 | AB23: =AA23*$AC$7 -> 495.73333 | AD23: =AB23/AA23 -> 1.04 | AG23: 335 | AH23: =AG23/$AB23 -> 0.67576654 | AI23: 300 | AJ23: =AI23/$AB23 -> 0.60516407 | AL23: =AK23/$AB23 -> 0 | AM23: 120 | AN23: =AM23/$AB23 -> 0.24206563 | AP23: =AO23/$AB23 -> 0 | AR23: =AQ23/$AB23 -> 0 | AT23: =AS23/$AB23 -> 0 | AU23: 360 | AV23: =AU23/$AB23 -> 0.72619688 | AW23: 519 | AX23: =AW23/$AB23 -> 1.0469338 | AY23: 262 | AZ23: =AY23/$AB23 -> 0.52850995 | BA23: =AG23+AI23+AK23+AM23+AO23+AQ23+AS23+AU23+AW23+AY23 -> 1896 | BB23: =BA23/(AB23*12) -> 0.31871974 | BC23: =BA23/9 -> 210.66667 | BD23: =AB23*BA1 -> 515.56267 | BE23: =BD23*12 -> 6186.752 | BF23: 6186.75 | BG23: =BF23/12 -> 515.5625 | BH23: 484 | BI23: =BH23/$BG23 -> 0.93878046 | BJ23: 65 | BK23: =BJ23/$BG23 -> 0.12607589 | BL23: 200 | BM23: =BL23/$BG23 -> 0.38792581 | BN23: 223 | BO23: =BN23/$BG23 -> 0.43253728 | BP23: 210 | BQ23: =BP23/$BG23 -> 0.4073221 | BR23: 124 | BS23: =BR23/$BG23 -> 0.240514 | BT23: 165 | BU23: =BT23/$BG23 -> 0.32003879 | BV23: 300 | BW23: =BV23/$BG23 -> 0.58188871 | BX23: 125 | BY23: =BX23/$BG23 -> 0.24245363 | BZ23: 335 | CA23: =BZ23/$BG23 -> 0.64977573 | CB23: 60 | CC23: =CB23/$BG23 -> 0.11637774 | CE23: =CD23/$BG23 -> 0 | CF23: =BH23+BJ23+BL23+BN23+BP23+BR23+BT23+BV23+BX23+BZ23+CB23+CD23 -> 2291 | CG23: =CF23/(BG23*12) -> 0.37030751
A24: Convites Sociais + (Parceiros) | B24: 1081.575 | C24: 5697 | D24: 7596 | E24: 1000 | F24: =E24/12 -> 83.333333 | G24: 2039.95 | H24: =G24/F24 -> 24.4794 | I24: 690 | J24: =I24/F24 -> 8.28 | K24: 1334.55 | L24: =K24/F24 -> 16.0146 | M24: 1110 | N24: =M24/F24 -> 13.32 | P24: =O24/$F24 -> 0 | R24: =Q24/$F24 -> 0 | S24: 1298 | T24: =S24/$F24 -> 15.576 | U24: 157.5 | V24: =U24/$F24 -> 1.89 | W24: 514.5 | X24: =W24/$F24 -> 6.174 | Y24: =G24+I24+K24+M24+O24+Q24+S24+U24+W24 -> 7144.5 | Z24: =Y24/$E24 -> 7.1445 | AA24: =(Y24/9) -> 793.83333 | AB24: =AA24*$AC$7 -> 825.58667 | AD24: =AB24/AA24 -> 1.04 | AG24: 690 | AH24: =AG24/$AB24 -> 0.83576931 | AI24: 1254 | AJ24: =AI24/$AB24 -> 1.5189199 | AL24: =AK24/$AB24 -> 0 | AM24: 892 | AN24: =AM24/$AB24 -> 1.0804438 | AO24: 561 | AP24: =AO24/$AB24 -> 0.67951679 | AR24: =AQ24/$AB24 -> 0 | AT24: =AS24/$AB24 -> 0 | AU24: 33 | AV24: =AU24/$AB24 -> 0.039971576 | AW24: 33 | AX24: =AW24/$AB24 -> 0.039971576 | AY24: 1055 | AZ24: =AY24/$AB24 -> 1.2778792 | BA24: =AG24+AI24+AK24+AM24+AO24+AQ24+AS24+AU24+AW24+AY24 -> 4518 | BB24: =BA24/(AB24*12) -> 0.45603934 | BC24: =BA24/9 -> 502 | BD24: =AB24*BA1 -> 858.61013 | BE24: =BD24*12 -> 10303.322 | BF24: =10300*BC1 -> 10815 | BG24: =BF24/12 -> 901.25 | BH24: 1142.8 | BI24: =BH24/$BG24 -> 1.2680166 | BJ24: 1732.5 | BK24: =BJ24/$BG24 -> 1.9223301 | BL24: 1316.7 | BM24: =BL24/$BG24 -> 1.4609709 | BN24: 1934.48 | BO24: =BN24/$BG24 -> 2.1464411 | BP24: 1905.75 | BQ24: =BP24/$BG24 -> 2.1145631 | BR24: 1907.5 | BS24: =BR24/$BG24 -> 2.1165049 | BT24: 1212.75 | BU24: =BT24/$BG24 -> 1.3456311 | BV24: 694.05 | BW24: =BV24/$BG24 -> 0.77009709 | BX24: 1351.7 | BY24: =BX24/$BG24 -> 1.4998058 | BZ24: 1109.85 | CA24: =BZ24/$BG24 -> 1.2314563 | CB24: 1248.8 | CC24: =CB24/$BG24 -> 1.3856311 | CD24: 1596 | CE24: =CD24/$BG24 -> 1.7708738 | CF24: =BH24+BJ24+BL24+BN24+BP24+BR24+BT24+BV24+BX24+BZ24+CB24+CD24 -> 17152.88 | CG24: =CF24/(BG24*12) -> 1.5860268
A25: RECEITAS CURSO DE VELA | B25: 506342.63 | C25: 331733.01 | D25: 442310.68 | E25: 427396.65 | F25: =E25/12 -> 35616.387 | G25: =SUM(G26:G42) -> 78696.25 | H25: =G25/F25 -> 2.2095517 | I25: =SUM(I26:I42) -> 123852.97 | J25: =I25/F25 -> 3.4774153 | K25: =SUM(K26:K42) -> 103584.76 | L25: =K25/F25 -> 2.9083455 | M25: =SUM(M26:M42) -> 181835.68 | N25: =M25/F25 -> 5.1053937 | O25: =SUM(O26:O42) -> 204331.15 | P25: =O25/$F25 -> 5.7369982 | Q25: =SUM(Q26:Q42) -> 152470.58 | R25: =Q25/$F25 -> 4.2809109 | S25: =SUM(S26:S42) -> 72759.84 | T25: =S25/$F25 -> 2.0428753 | U25: =SUM(U26:U42) -> 156746.13 | V25: =U25/$F25 -> 4.4009553 | W25: =SUM(W26:W42) -> 146142.87 | X25: =W25/$F25 -> 4.103248 | Y25: =G25+I25+K25+M25+O25+Q25+S25+U25+W25 -> 1220420.2 | Z25: =Y25/$E25 -> 2.8554745 | AA25: =(Y25/9) -> 135602.25 | AB25: =SUM(AB26:AB42) -> 126877.93 | AD25: =AB25/AA25 -> 0.93566247 | AG25: =SUM(AG26:AG42) -> 195842.59 | AH25: =AG25/$AB25 -> 1.5435512 | AI25: =SUM(AI26:AI42) -> 288547.62 | AJ25: =AI25/$AB25 -> 2.2742144 | AK25: =SUM(AK26:AK42) -> 0 | AL25: =AK25/$AB25 -> 0 | AM25: =SUM(AM26:AM42) -> 79266.48 | AN25: =AM25/$AB25 -> 0.62474598 | AO25: =SUM(AO26:AO42) -> 8035.46 | AP25: =AO25/$AB25 -> 0.06333221 | AQ25: =SUM(AQ26:AQ42) -> 8602.24 | AR25: =AQ25/$AB25 -> 0.067799338 | AS25: =SUM(AS26:AS42) -> 13631.89 | AT25: =AS25/$AB25 -> 0.10744098 | AU25: =SUM(AU26:AU42) -> 7520.7 | AV25: =AU25/$AB25 -> 0.059275082 | AW25: =SUM(AW26:AW42) -> 58823.9 | AX25: =AW25/$AB25 -> 0.46362593 | AY25: =SUM(AY26:AZ29) -> 37442.723 | AZ25: =SUM(AZ26:BA29) -> 194593.49 | BA25: =SUM(BA26:BB29) -> 194592.18 | BB25: =BA25/(AB25*12) -> 0.127808 | BC25: =BA25/9 -> 21621.353 | BD25: =SUM(BD26:BD42) -> 149987.35 | BE25: =BD25*12 -> 1799848.2 | BF25: =SUM(BF26:BF29) -> 547050 | BG25: =BF25/12 -> 45587.5 | BH25: =SUM(BH26:BH29) -> 33429.23 | BI25: =BH25/$BG25 -> 0.73329816 | BJ25: =SUM(BJ26:BJ29) -> 38262.08 | BK25: =BJ25/$BG25 -> 0.83931078 | BL25: =SUM(BL26:BL29) -> 24855.9 | BM25: =BL25/$BG25 -> 0.54523499 | BN25: =SUM(BN26:BN29) -> 7471.5 | BO25: =BN25/$BG25 -> 0.16389361 | BP25: =SUM(BP26:BP29) -> 29613.47 | BQ25: =BP25/$BG25 -> 0.64959627 | BR25: =SUM(BR26:BR29) -> 54363.63 | BS25: =BR25/$BG25 -> 1.1925118 | BT25: =SUM(BT26:BT29) -> 45321.75 | BU25: =BT25/$BG25 -> 0.99417055 | BV25: =SUM(BV26:BV29) -> 66613.79 | BW25: =BV25/$BG25 -> 1.4612293 | BX25: =SUM(BX26:BX29) -> 65913.48 | BY25: =BX25/$BG25 -> 1.4458674 | BZ25: 72944.72 | CA25: =BZ25/$BG25 -> 1.6001035 | CB25: =SUM(CB26:CB29) -> 74887.71 | CC25: =CB25/$BG25 -> 1.6427247 | CD25: =SUM(CD26:CD29) -> 90318.08 | CE25: =CD25/$BG25 -> 1.9812027 | CF25: =SUM(CF26:CF29) -> 603428.9 | CG25: =CF25/(BG25*12) -> 1.1030599
A26: curso de vela | B26: 265261.88 | C26: 199177.25 | D26: 265569.67 | E26: 278848.15 | F26: =E26/12 -> 23237.346 | H26: =G26/F26 -> 0 | I26: =17625.36+2214.57+27000+1537.23 -> 48377.16 | J26: =I26/F26 -> 2.0818712 | K26: =16349.59+3573.01+1274.33 -> 21196.93 | L26: =K26/F26 -> 0.91219239 | M26: =15695.33+3573.01+749.55 -> 20017.89 | N26: =M26/F26 -> 0.86145338 | O26: =15485.84+3573.01+762.7 -> 19821.55 | P26: =O26/$F26 -> 0.85300405 | Q26: =13881.19+3573.01+526 -> 17980.2 | R26: =Q26/$F26 -> 0.77376307 | S26: =404.51 -> 404.51 | T26: =S26/$F26 -> 0.017407754 | U26: =16698.5+1136.26+526 -> 18360.76 | V26: =U26/$F26 -> 0.79014015 | W26: =18920.49+404.51+30000+439.29 -> 49764.29 | X26: =W26/$F26 -> 2.1415651 | Y26: =G26+I26+K26+M26+O26+Q26+S26+U26+W26 -> 195923.29 | Z26: =Y26/$E26 -> 0.70261642 | AA26: =(Y26/9) -> 21769.254 | AB26: 25566 | AD26: =AB26/AA26 -> 1.1744086 | AG26: =3197+32000 -> 35197 | AH26: =AG26/$AB26 -> 1.3767113 | AI26: =17037.35+16000+1419.6 -> 34456.95 | AJ26: =AI26/$AB26 -> 1.3477646 | AL26: =AK26/$AB26 -> 0 | AM26: =16259.55+1756.76 -> 18016.31 | AN26: =AM26/$AB26 -> 0.70469804 | AP26: =AO26/$AB26 -> 0 | AR26: =AQ26/$AB26 -> 0 | AT26: =AS26/$AB26 -> 0 | AV26: =AU26/$AB26 -> 0 | AW26: =3599 -> 3599 | AX26: =AW26/$AB26 -> 0.1407729 | AY26: =11159.1+2058.44 -> 13217.54 | AZ26: =AY26/$AB26 -> 0.51699679 | BA26: =AG26+AI26+AK26+AM26+AO26+AQ26+AS26+AU26+AW26+AY26 -> 104486.8 | BB26: =BA26/(AB26*12) -> 0.34057863 | BC26: =BA26/9 -> 11609.644 | BD26: =AB26*BA1 -> 26588.64 | BE26: =BD26*12 -> 319063.68 | BF26: =315000*BC1 -> 330750 | BG26: =BF26/12 -> 27562.5 | BI26: =BH26/$BG26 -> 0 | BJ26: =16304.35+3050.58 -> 19354.93 | BK26: =BJ26/$BG26 -> 0.70221968 | BL26: =15575.19+2225.6 -> 17800.79 | BM26: =BL26/$BG26 -> 0.64583365 | BN26: =3654.06 -> 3654.06 | BO26: =BN26/$BG26 -> 0.13257361 | BP26: =16829.01+1462.64 -> 18291.65 | BQ26: =BP26/$BG26 -> 0.66364263 | BR26: =23573.09+4891.68 -> 28464.77 | BS26: =BR26/$BG26 -> 1.0327354 | BT26: =781 -> 781 | BU26: =BT26/$BG26 -> 0.028335601 | BV26: =41168.21+9646.38 -> 50814.59 | BW26: =BV26/$BG26 -> 1.8436132 | BX26: =45017.59+11703.89 -> 56721.48 | BY26: =BX26/$BG26 -> 2.0579222 | BZ26: =45260.97+11701.83 -> 56962.8 | CA26: =BZ26/$BG26 -> 2.0666776 | CB26: =42278.93+9697.58 -> 51976.51 | CC26: =CB26/$BG26 -> 1.8857691 | CD26: =37827.95+9399.46 -> 47227.41 | CE26: =CD26/$BG26 -> 1.7134661 | CF26: =BH26+BJ26+BL26+BN26+BP26+BR26+BT26+BV26+BX26+BZ26+CB26+CD26 -> 352049.99 | CG26: =CF26/(BG26*12) -> 1.0643991
A27: curso de vela adulto/arrais | B27: 135018.6 | C27: 70555.7 | D27: 94074.267 | E27: 98777.98 | F27: =E27/12 -> 8231.4983 | G27: =8177+1239 -> 9416 | H27: =G27/F27 -> 1.1438987 | I27: =13719.4+2088 -> 15807.4 | J27: =I27/F27 -> 1.9203551 | K27: =8049.8 -> 8049.8 | L27: =K27/F27 -> 0.97792646 | M27: =7792.73+1239 -> 9031.73 | N27: =M27/F27 -> 1.0972158 | O27: =12000.45 -> 12000.45 | P27: =O27/$F27 -> 1.4578695 | Q27: =9706.59 -> 9706.59 | R27: =Q27/$F27 -> 1.1792009 | S27: =3660+2354.1 -> 6014.1 | T27: =S27/$F27 -> 0.73062033 | U27: =7132.49+3979 -> 11111.49 | V27: =U27/$F27 -> 1.3498745 | W27: =12100.01+2354.1 -> 14454.11 | X27: =W27/$F27 -> 1.7559513 | Y27: =G27+I27+K27+M27+O27+Q27+S27+U27+W27 -> 95591.67 | Z27: =Y27/$E27 -> 0.96774271 | AA27: =(Y27/9) -> 10621.297 | AB27: 12980 | AD27: =AB27/AA27 -> 1.222073 | AG27: =4555.2+2088 -> 6643.2 | AH27: =AG27/$AB27 -> 0.51180277 | AI27: =9050.05+9579 -> 18629.05 | AJ27: =AI27/$AB27 -> 1.4352119 | AL27: =AK27/$AB27 -> 0 | AM27: =9658.93+1813 -> 11471.93 | AN27: =AM27/$AB27 -> 0.88381587 | AP27: =AO27/$AB27 -> 0 | AR27: =AQ27/$AB27 -> 0 | AS27: 5412 | AT27: =AS27/$AB27 -> 0.41694915 | AU27: 902 | AV27: =AU27/$AB27 -> 0.069491525 | AW27: =2511.5+1289 -> 3800.5 | AX27: =AW27/$AB27 -> 0.29279661 | AY27: =14143.6+10079.2 -> 24222.8 | AZ27: =AY27/$AB27 -> 1.8661633 | BA27: =AG27+AI27+AK27+AM27+AO27+AQ27+AS27+AU27+AW27+AY27 -> 71081.48 | BB27: =BA27/(AB27*12) -> 0.45635259 | BC27: =BA27/9 -> 7897.9422 | BD27: =AB27*BA1 -> 13499.2 | BE27: =BD27*12 -> 161990.4 | BF27: =120000*BC1 -> 126000 | BG27: =BF27/12 -> 10500 | BH27: 7242.68 | BI27: =BH27/$BG27 -> 0.68977905 | BJ27: =14174.55+3548.6 -> 17723.15 | BK27: =BJ27/$BG27 -> 1.687919 | BL27: =3992.11+3063 -> 7055.11 | BM27: =BL27/$BG27 -> 0.67191524 | BN27: =2615.34+948 -> 3563.34 | BO27: =BN27/$BG27 -> 0.33936571 | BP27: =8104.72+2901.6 -> 11006.32 | BQ27: =BP27/$BG27 -> 1.048221 | BR27: =5249.21+3548.6 -> 8797.81 | BS27: =BR27/$BG27 -> 0.83788667 | BT27: =980+948 -> 1928 | BU27: =BT27/$BG27 -> 0.18361905 | BV27: =9455.35+4635.2 -> 14090.55 | BW27: =BV27/$BG27 -> 1.3419571 | BX27: =6924.8+1990 -> 8914.8 | BY27: =BX27/$BG27 -> 0.84902857 | BZ27: 15369.28 | CA27: =BZ27/$BG27 -> 1.463741 | CB27: =7610.95 -> 7610.95 | CC27: =CB27/$BG27 -> 0.72485238 | CD27: =7535.49 -> 7535.49 | CE27: =CD27/$BG27 -> 0.71766571 | CF27: =BH27+BJ27+BL27+BN27+BP27+BR27+BT27+BV27+BX27+BZ27+CB27+CD27 -> 110837.48 | CG27: =CF27/(BG27*12) -> 0.87966254
A28: aluguel de barcos para a escola de vela | BF28: =11000*BC1 -> 11550 | BG28: =BF28/12 -> 962.5 | BH28: 630.2 | BI28: =BH28/$BG28 -> 0.65475325 | BJ28: 662 | BK28: =BJ28/$BG28 -> 0.68779221 | BM28: =BL28/$BG28 -> 0 | BN28: 254.1 | BO28: =BN28/$BG28 -> 0.264 | BP28: 315.5 | BQ28: =BP28/$BG28 -> 0.32779221 | BR28: 373.25 | BS28: =BR28/$BG28 -> 0.38779221 | BT28: 404.25 | BU28: =BT28/$BG28 -> 0.42 | BV28: 402.15 | BW28: =BV28/$BG28 -> 0.41781818 | BX28: 277.2 | BY28: =BX28/$BG28 -> 0.288 | BZ28: 46.2 | CA28: =BZ28/$BG28 -> 0.048 | CB28: 950.25 | CC28: =CB28/$BG28 -> 0.98727273 | CD28: =415.8 -> 415.8 | CE28: =CD28/$BG28 -> 0.432 | CF28: =BH28+BJ28+BL28+BN28+BP28+BR28+BT28+BV28+BX28+BZ28+CB28+CD28 -> 4730.9 | CG28: =CF28/(BG28*12) -> 0.40960173
A29: acampamento | B29: 56917.928 | C29: 29121.8 | D29: 38829.067 | E29: 40770.52 | F29: =E29/12 -> 3397.5433 | G29: 28497.58 | H29: =G29/F29 -> 8.3877017 | J29: =I29/F29 -> 0 | L29: =K29/F29 -> 0 | N29: =M29/F29 -> 0 | O29: 1420 | P29: =O29/$F29 -> 0.41794905 | Q29: 5369 | R29: =Q29/$F29 -> 1.5802595 | S29: 9617 | T29: =S29/$F29 -> 2.8305746 | U29: =464 -> 464 | V29: =U29/$F29 -> 0.13656927 | W29: 3550.59 | X29: =W29/$F29 -> 1.0450463 | Y29: =G29+I29+K29+M29+O29+Q29+S29+U29+W29 -> 48918.17 | Z29: =Y29/$E29 -> 1.1998417 | AA29: =(Y29/9) -> 5435.3522 | AB29: 5833 | AD29: =AB29/AA29 -> 1.0731595 | AG29: 19022.83 | AH29: =AG29/$AB29 -> 3.2612429 | AJ29: =AI29/$AB29 -> 0 | AL29: =AK29/$AB29 -> 0 | AN29: =AM29/$AB29 -> 0 | AP29: =AO29/$AB29 -> 0 | AR29: =AQ29/$AB29 -> 0 | AT29: =AS29/$AB29 -> 0 | AV29: =AU29/$AB29 -> 0 | AX29: =AW29/$AB29 -> 0 | AZ29: =AY29/$AB29 -> 0 | BA29: =AG29+AI29+AK29+AM29+AO29+AQ29+AS29+AU29+AW29+AY29 -> 19022.83 | BB29: =BA29/(AB29*12) -> 0.27177024 | BC29: =BA29/9 -> 2113.6478 | BD29: =AB29*BA1 -> 6066.32 | BE29: =BD29*12 -> 72795.84 | BF29: =75000*BC1 -> 78750 | BG29: =BF29/12 -> 6562.5 | BH29: 25556.35 | BI29: =BH29/$BG29 -> 3.894301 | BJ29: 522 | BK29: =BJ29/$BG29 -> 0.079542857 | BM29: =BL29/$BG29 -> 0 | BO29: =BN29/$BG29 -> 0 | BQ29: =BP29/$BG29 -> 0 | BR29: 16727.8 | BS29: =BR29/$BG29 -> 2.5489981 | BT29: =42208.5 -> 42208.5 | BU29: =BT29/$BG29 -> 6.4317714 | BV29: 1306.5 | BW29: =BV29/$BG29 -> 0.19908571 | BY29: =BX29/$BG29 -> 0 | CA29: =BZ29/$BG29 -> 0 | CB29: 14350 | CC29: =CB29/$BG29 -> 2.1866667 | CD29: 35139.38 | CE29: =CD29/$BG29 -> 5.3545722 | CF29: =BH29+BJ29+BL29+BN29+BP29+BR29+BT29+BV29+BX29+BZ29+CB29+CD29 -> 135810.53 | CG29: =CF29/(BG29*12) -> 1.7245782
A30: RECEITAS FINANCERIAS | B30: 50000 | C30: 37433.72 | D30: 49911.627 | E30: 52407.208 | F30: =E30/12 -> 4367.2673 | G30: =G31 -> 5047.47 | H30: =G30/F30 -> 1.1557502 | I30: =I31 -> 4232.64 | J30: =I30/F30 -> 0.96917355 | K30: =K31 -> 4153.63 | L30: =K30/F30 -> 0.95108215 | M30: =M31 -> 4797.79 | N30: =M30/F30 -> 1.0985794 | O30: =O31 -> 4380.32 | P30: =O30/$F30 -> 1.0029887 | Q30: =Q31 -> 3557.68 | R30: =Q30/$F30 -> 0.81462382 | S30: =S31 -> 3407.26 | T30: =S30/$F30 -> 0.78018123 | U30: =U31 -> 3477.94 | V30: =U30/$F30 -> 0.79636526 | W30: =W31 -> 3145.69 | X30: =W30/$F30 -> 0.72028794 | Y30: =G30+I30+K30+M30+O30+Q30+S30+U30+W30 -> 36200.42 | Z30: =Y30/$E30 -> 0.69075269 | AA30: =(Y30/9) -> 4022.2689 | AB30: =AB31 -> 2000 | AD30: =AB30/AA30 -> 0.4972318 | AG30: =AG31 -> 3844.38 | AH30: =AG30/$AB30 -> 1.92219 | AI30: =AI31 -> 6318.05 | AJ30: =AI30/$AB30 -> 3.159025 | AK30: =AK31 -> 0 | AL30: =AK30/$AB30 -> 0 | AM30: =AM31 -> 1514.52 | AN30: =AM30/$AB30 -> 0.75726 | AO30: =AO31 -> 4017.73 | AP30: =AO30/$AB30 -> 2.008865 | AQ30: =AQ31 -> 2951.12 | AR30: =AQ30/$AB30 -> 1.47556 | AS30: =AS31 -> 4058.48 | AT30: =AS30/$AB30 -> 2.02924 | AU30: =AU31 -> 3309.35 | AV30: =AU30/$AB30 -> 1.654675 | AW30: =AW31 -> 7468.2 | AX30: =AW30/$AB30 -> 3.7341 | AY30: =AY31 -> 4053.96 | AZ30: =AY30/$AB30 -> 2.02698 | BA30: =AG30+AI30+AK30+AM30+AO30+AQ30+AS30+AU30+AW30+AY30 -> 37535.79 | BB30: =BA30/(AB30*12) -> 1.5639912 | BC30: =BA30/9 -> 4170.6433 | BD30: =BD31 -> 2080 | BE30: =BD30*12 -> 24960 | BF30: =BF31 -> 25000 | BG30: =BF30/12 -> 2083.3333 | BH30: =BH31 -> 6732.42 | BI30: =BH30/$BG30 -> 3.2315616 | BJ30: =BJ31 -> 4848.96 | BK30: =BJ30/$BG30 -> 2.3275008 | BL30: =BL31 -> 4039.89 | BM30: =BL30/$BG30 -> 1.9391472 | BN30: =BN31 -> 3936.21 | BO30: =BN30/$BG30 -> 1.8893808 | BP30: =BP31 -> 10122.12 | BQ30: =BP30/$BG30 -> 4.8586176 | BR30: =BR31 -> 7093.88 | BS30: =BR30/$BG30 -> 3.4050624 | BT30: =BT31 -> 8091.96 | BU30: =BT30/$BG30 -> 3.8841408 | BV30: =BV31 -> 8872.6 | BW30: =BV30/$BG30 -> 4.258848 | BX30: =BX31 -> 10797.1 | BY30: =BX30/$BG30 -> 5.182608 | BZ30: 10660.82 | CA30: =BZ30/$BG30 -> 5.1171936 | CB30: =CB31 -> 11710.24 | CC30: =CB30/$BG30 -> 5.6209152 | CD30: =CD31 -> 10010.94 | CE30: =CD30/$BG30 -> 4.8052512 | CF30: =CF31 -> 96917.14 | CG30: =CF30/(BG30*12) -> 3.8766856
A31: Receitas Financeiras | B31: 50000 | C31: 37433.72 | D31: 49911.627 | E31: 52407.208 | F31: =E31/12 -> 4367.2673 | G31: =4072.66+735.7+239.11 -> 5047.47 | H31: =G31/F31 -> 1.1557502 | I31: =3446.6+1.02+524.26+260.76 -> 4232.64 | J31: =I31/F31 -> 0.96917355 | K31: 4153.63 | L31: =K31/F31 -> 0.95108215 | M31: =3479.37+725.65+327.43+265.34 -> 4797.79 | N31: =M31/F31 -> 1.0985794 | O31: =3490.42+0.01+636.93+252.96 -> 4380.32 | P31: =O31/$F31 -> 1.0029887 | Q31: =2986.06+429.34+142.28 -> 3557.68 | R31: =Q31/$F31 -> 0.81462382 | S31: =2790.55+67.48+334.46+214.77 -> 3407.26 | T31: =S31/$F31 -> 0.78018123 | U31: =2338.02+854.86+285.06 -> 3477.94 | V31: =U31/$F31 -> 0.79636526 | W31: =1909.79+137.25+735.71+362.94 -> 3145.69 | X31: =W31/$F31 -> 0.72028794 | Y31: =G31+I31+K31+M31+O31+Q31+S31+U31+W31 -> 36200.42 | Z31: =Y31/$E31 -> 0.69075269 | AA31: =(Y31/9) -> 4022.2689 | AB31: 2000 | AD31: =AB31/AA31 -> 0.4972318 | AE31: Valor previsto para o próximo ano | AG31: =1645.55+2198.83 -> 3844.38 | AH31: =AG31/$AB31 -> 1.92219 | AI31: =5610.75+151.88+555.42 -> 6318.05 | AJ31: =AI31/$AB31 -> 3.159025 | AL31: =AK31/$AB31 -> 0 | AM31: =970.64+543.88 -> 1514.52 | AN31: =AM31/$AB31 -> 0.75726 | AO31: =2737.01+611.46+669.26 -> 4017.73 | AP31: =AO31/$AB31 -> 2.008865 | AQ31: =2845.61+105.51 -> 2951.12 | AR31: =AQ31/$AB31 -> 1.47556 | AS31: =3477.33+581.15 -> 4058.48 | AT31: =AS31/$AB31 -> 2.02924 | AU31: =2862.28+447.07 -> 3309.35 | AV31: =AU31/$AB31 -> 1.654675 | AW31: =2279.42+4181.89+1006.89 -> 7468.2 | AX31: =AW31/$AB31 -> 3.7341 | AY31: =2341.37+1712.59 -> 4053.96 | AZ31: =AY31/$AB31 -> 2.02698 | BA31: =AG31+AI31+AK31+AM31+AO31+AQ31+AS31+AU31+AW31+AY31 -> 37535.79 | BB31: =BA31/(AB31*12) -> 1.5639912 | BC31: =BA31/9 -> 4170.6433 | BD31: =AB31*BA1 -> 2080 | BE31: =BD31*12 -> 24960 | BF31: 25000 | BG31: =BF31/12 -> 2083.3333 | BH31: =5400.2+1175.15+157.07 -> 6732.42 | BI31: =BH31/$BG31 -> 3.2315616 | BJ31: =3485.23+1363.73 -> 4848.96 | BK31: =BJ31/$BG31 -> 2.3275008 | BL31: 4039.89 | BM31: =BL31/$BG31 -> 1.9391472 | BN31: =3936.21 -> 3936.21 | BO31: =BN31/$BG31 -> 1.8893808 | BP31: =8766.88+1355.24 -> 10122.12 | BQ31: =BP31/$BG31 -> 4.8586176 | BR31: 7093.88 | BS31: =BR31/$BG31 -> 3.4050624 | BT31: 8091.96 | BU31: =BT31/$BG31 -> 3.8841408 | BV31: 8872.6 | BW31: =BV31/$BG31 -> 4.258848 | BX31: 10797.1 | BY31: =BX31/$BG31 -> 5.182608 | BZ31: 10660.82 | CA31: =BZ31/$BG31 -> 5.1171936 | CB31: 11710.24 | CC31: =CB31/$BG31 -> 5.6209152 | CD31: 10010.94 | CE31: =CD31/$BG31 -> 4.8052512 | CF31: =BH31+BJ31+BL31+BN31+BP31+BR31+BT31+BV31+BX31+BZ31+CB31+CD31 -> 96917.14 | CG31: =CF31/(BG31*12) -> 3.8766856
A32: RECEITAS EVENTUAIS | B32: 597698.79 | C32: 496834.09 | D32: 662445.45 | E32: 678988.73 | F32: =E32/12 -> 56582.394 | G32: =SUM(G33:G36) -> 8008.2 | H32: =G32/F32 -> 0.14153166 | I32: =SUM(I33:I36) -> 21923.11 | J32: =I32/F32 -> 0.38745462 | K32: =SUM(K33:K36) -> 19389.9 | L32: =K32/F32 -> 0.34268433 | M32: =SUM(M33:M36) -> 61025 | N32: =M32/F32 -> 1.0785157 | O32: =SUM(O33:O36) -> 60955 | P32: =O32/$F32 -> 1.0772786 | Q32: =SUM(Q33:Q36) -> 31710 | R32: =Q32/$F32 -> 0.56042168 | S32: =SUM(S33:S36) -> 12405 | T32: =S32/$F32 -> 0.21923781 | U32: =SUM(U33:U36) -> 49885 | V32: =U32/$F32 -> 0.88163467 | W32: =SUM(W33:W36) -> 21935 | X32: =W32/$F32 -> 0.38766476 | Y32: =G32+I32+K32+M32+O32+Q32+S32+U32+W32 -> 287236.21 | Z32: =Y32/$E32 -> 0.42303532 | AA32: =(Y32/9) -> 31915.134 | AB32: =SUM(AB33:AB36) -> 26945.985 | AG32: =SUM(AG33:AG36) -> 50868.24 | AH32: =AG32/$AB32 -> 1.8877855 | AI32: =SUM(AI33:AI36) -> 94355.76 | AJ32: =AI32/$AB32 -> 3.501663 | AK32: =SUM(AK33:AK36) -> 0 | AL32: =AK32/$AB32 -> 0 | AM32: =SUM(AM33:AM36) -> 12059.6 | AN32: =AM32/$AB32 -> 0.44754719 | AO32: =SUM(AO33:AO36) -> 0 | AP32: =AO32/$AB32 -> 0 | AQ32: =SUM(AQ33:AQ36) -> 0 | AR32: =AQ32/$AB32 -> 0 | AS32: =SUM(AS33:AS36) -> 0 | AT32: =AS32/$AB32 -> 0 | AU32: =SUM(AU33:AU36) -> 0 | AV32: =AU32/$AB32 -> 0 | AW32: =SUM(AW33:AW36) -> 8000 | AX32: =AW32/$AB32 -> 0.29689024 | AY32: =SUM(AY33:AY36) -> 12348 | AZ32: =AY32/$AB32 -> 0.45825009 | BA32: =AG32+AI32+AK32+AM32+AO32+AQ32+AS32+AU32+AW32+AY32 -> 177631.6 | BB32: =BA32/(AB32*12) -> 0.54934467 | BC32: =BA32/9 -> 19736.844 | BD32: =SUM(BD33:BD36) -> 33985.158 | BE32: =BD32*12 -> 407821.89 | BF32: =SUM(BF33:BF36) -> 381751 | BG32: =BF32/12 -> 31812.583 | BH32: =SUM(BH33:BH36) -> 98500.23 | BI32: =BH32/$BG32 -> 3.0962663 | BJ32: =SUM(BJ33:BJ36) -> 37720.7 | BK32: =BJ32/$BG32 -> 1.1857163 | BL32: =SUM(BL33:BL36) -> 19318.97 | BM32: =BL32/$BG32 -> 0.60727448 | BN32: =SUM(BN33:BN36) -> 5322.23 | BO32: =BN32/$BG32 -> 0.16729952 | BP32: =SUM(BP33:BP36) -> 11364.3 | BQ32: =BP32/$BG32 -> 0.35722657 | BR32: =SUM(BR33:BR36) -> 29274.8 | BS32: =BR32/$BG32 -> 0.92022706 | BT32: =SUM(BT33:BT36) -> 13492.95 | BU32: =BT32/$BG32 -> 0.42413877 | BV32: =SUM(BV33:BV36) -> 8473.63 | BW32: =BV32/$BG32 -> 0.26636095 | BX32: =SUM(BX33:BX36) -> 69923.31 | BY32: =BX32/$BG32 -> 2.1979765 | BZ32: 41915.31 | CA32: =BZ32/$BG32 -> 1.3175701 | CB32: =SUM(CB33:CB36) -> 64171.31 | CC32: =CB32/$BG32 -> 2.0171675 | CD32: =SUM(CD33:CD36) -> 73867.26 | CE32: =CD32/$BG32 -> 2.321951 | CF32: =SUM(CF33:CF36) -> 473345 | CG32: =CF32/(BG32*12) -> 1.2399313
A33: Tx transferência | B33: 72000 | C33: 93800 | D33: 125066.67 | E33: 126000 | F33: =E33/12 -> 10500 | H33: =G33/F33 -> 0 | I33: 6000 | J33: =I33/F33 -> 0.57142857 | K33: 6000 | L33: =K33/F33 -> 0.57142857 | N33: =M33/F33 -> 0 | O33: 24000 | P33: =O33/$F33 -> 2.2857143 | Q33: 18000 | R33: =Q33/$F33 -> 1.7142857 | S33: 6000 | T33: =S33/$F33 -> 0.57142857 | U33: 18000 | V33: =U33/$F33 -> 1.7142857 | W33: 6000 | X33: =W33/$F33 -> 0.57142857 | Y33: =G33+I33+K33+M33+O33+Q33+S33+U33+W33 -> 84000 | Z33: =Y33/$E33 -> 0.66666667 | AA33: =(Y33/9) -> 9333.3333 | AB33: 10000 | AE33: Considerar um reajuste na tx transferência para 8 mil / considerado média igual ano anterior | AG33: 30000 | AH33: =AG33/$AB33 -> 3 | AI33: 52000 | AJ33: =AI33/$AB33 -> 5.2 | AL33: =AK33/$AB33 -> 0 | AM33: 6000 | AN33: =AM33/$AB33 -> 0.6 | AP33: =AO33/$AB33 -> 0 | AR33: =AQ33/$AB33 -> 0 | AT33: =AS33/$AB33 -> 0 | AV33: =AU33/$AB33 -> 0 | AW33: 8000 | AX33: =AW33/$AB33 -> 0.8 | AZ33: =AY33/$AB33 -> 0 | BA33: =AG33+AI33+AK33+AM33+AO33+AQ33+AS33+AU33+AW33+AY33 -> 96000 | BB33: =BA33/(AB33*12) -> 0.8 | BC33: =BA33/9 -> 10666.667 | BD33: =(20000*10)/12 -> 16666.667 | BE33: =BD33*12 -> 200000 | BF33: =Mensalidades!K15 -> 180000 | BG33: =BF33/12 -> 15000 | BH33: 68800 | BI33: =BH33/$BG33 -> 4.5866667 | BJ33: 20000 | BK33: =BJ33/$BG33 -> 1.3333333 | BL33: 14000 | BM33: =BL33/$BG33 -> 0.93333333 | BO33: =BN33/$BG33 -> 0 | BQ33: =BP33/$BG33 -> 0 | BR33: 20000 | BS33: =BR33/$BG33 -> 1.3333333 | BU33: =BT33/$BG33 -> 0 | BW33: =BV33/$BG33 -> 0 | BX33: 33000 | BY33: =BX33/$BG33 -> 2.2 | BZ33: 20000 | CA33: =BZ33/$BG33 -> 1.3333333 | CB33: 40000 | CC33: =CB33/$BG33 -> 2.6666667 | CD33: 40000 | CE33: =CD33/$BG33 -> 2.6666667 | CF33: =BH33+BJ33+BL33+BN33+BP33+BR33+BT33+BV33+BX33+BZ33+CB33+CD33 -> 255800 | CG33: =CF33/(BG33*12) -> 1.4211111
A34: título | B34: 48000 | C34: 36000 | D34: 48000 | E34: 48000 | F34: =E34/12 -> 4000 | H34: =G34/F34 -> 0 | I34: 3999.9 | J34: =I34/F34 -> 0.999975 | K34: 4399.9 | L34: =K34/F34 -> 1.099975 | M34: 4400 | N34: =M34/F34 -> 1.1 | O34: 12400 | P34: =O34/$F34 -> 3.1 | Q34: 4400 | R34: =Q34/$F34 -> 1.1 | S34: 400 | T34: =S34/$F34 -> 0.1 | U34: 4400 | V34: =U34/$F34 -> 1.1 | W34: 4400 | X34: =W34/$F34 -> 1.1 | Y34: =G34+I34+K34+M34+O34+Q34+S34+U34+W34 -> 38799.8 | Z34: =Y34/$E34 -> 0.80832917 | AA34: =(Y34/9) -> 4311.0889 | AB34: 4300 | AE34: Considerando que metade dos sócios novos (12) comprem títulos de outros sócios | AG34: 16000 | AH34: =AG34/$AB34 -> 3.7209302 | AI34: 34000 | AJ34: =AI34/$AB34 -> 7.9069767 | AL34: =AK34/$AB34 -> 0 | AM34: 1116 | AN34: =AM34/$AB34 -> 0.25953488 | AP34: =AO34/$AB34 -> 0 | AR34: =AQ34/$AB34 -> 0 | AT34: =AS34/$AB34 -> 0 | AV34: =AU34/$AB34 -> 0 | AX34: =AW34/$AB34 -> 0 | AY34: 10000 | AZ34: =AY34/$AB34 -> 2.3255814 | BA34: =AG34+AI34+AK34+AM34+AO34+AQ34+AS34+AU34+AW34+AY34 -> 61116 | BB34: =BA34/(AB34*12) -> 1.1844186 | BC34: =BA34/9 -> 6790.6667 | BD34: =(5000*10)/12 -> 4166.6667 | BE34: =BD34*12 -> 50000 | BF34: =Mensalidades!L15 -> 50000 | BG34: =BF34/12 -> 4166.6667 | BH34: 10000 | BI34: =BH34/$BG34 -> 2.4 | BJ34: 17000 | BK34: =BJ34/$BG34 -> 4.08 | BL34: 4000 | BM34: =BL34/$BG34 -> 0.96 | BO34: =BN34/$BG34 -> 0 | BQ34: =BP34/$BG34 -> 0 | BS34: =BR34/$BG34 -> 0 | BU34: =BT34/$BG34 -> 0 | BW34: =BV34/$BG34 -> 0 | BX34: 15000 | BY34: =BX34/$BG34 -> 3.6 | CA34: =BZ34/$BG34 -> 0 | CB34: 5000 | CC34: =CB34/$BG34 -> 1.2 | CD34: 5000 | CE34: =CD34/$BG34 -> 1.2 | CF34: =BH34+BJ34+BL34+BN34+BP34+BR34+BT34+BV34+BX34+BZ34+CB34+CD34 -> 56000 | CG34: =CF34/(BG34*12) -> 1.12
